Workbook

Sheet 기준
A1: 1km | B1: 145.33 | C1: 원

Sheet 묘산-합천
A1: 거창 - 묘산 - 합천
A2: 거창 | B2: 3.8 | C2: =B2+C3 -> 4.5 | D2: =C2+D4 -> 6.4 | E2: =D2+E5 -> 8.6 | F2: =E2+F6 -> 12.6 | G2: =F2+G7 -> 14 | H2: =G2+H8 -> 15.4 | I2: =H2+I9 -> 17.3 | J2: =I2+J10 -> 17.4 | K2: =J2+K11 -> 19 | L2: =K2+L12 -> 22.3 | M2: =L2+M13 -> 24.5 | N2: =M2+N14 -> 26.1 | O2: =N2+O15 -> 28.1 | P2: =O2+P16 -> 31.2 | Q2: =P2+Q17 -> 33.4 | R2: =Q2+R18 -> 34.8 | S2: =R2+S19 -> 36.7 | T2: =S2+T20 -> 40
A3: 국농소 | B3: 양곡 | C3: 0.7 | D3: =C3+D4 -> 2.6 | E3: =D3+E5 -> 4.8 | F3: =E3+F6 -> 8.8 | G3: =F3+G7 -> 10.2 | H3: =G3+H8 -> 11.6 | I3: =H3+I9 -> 13.5 | J3: =I3+J10 -> 13.6 | K3: =J3+K11 -> 15.2 | L3: =K3+L12 -> 18.5 | M3: =L3+M13 -> 20.7 | N3: =M3+N14 -> 22.3 | O3: =N3+O15 -> 24.3 | P3: =O3+P16 -> 27.4 | Q3: =P3+Q17 -> 29.6 | R3: =Q3+R18 -> 31 | S3: =R3+S19 -> 32.9 | T3: =S3+T20 -> 36.2
C4: 남하 | D4: 1.9 | E4: 4.1 | F4: =E4+F6 -> 8.1 | G4: =F4+G7 -> 9.5 | H4: =G4+H8 -> 10.9 | I4: =H4+I9 -> 12.8 | J4: =I4+J10 -> 12.9 | K4: =J4+K11 -> 14.5 | L4: =K4+L12 -> 17.8 | M4: =L4+M13 -> 20 | N4: =M4+N14 -> 21.6 | O4: =N4+O15 -> 23.6 | P4: =O4+P16 -> 26.7 | Q4: =P4+Q17 -> 28.9 | R4: =Q4+R18 -> 30.3 | S4: =R4+S19 -> 32.2 | T4: =S4+T20 -> 35.5
D5: 산포 | E5: 2.2 | F5: =E5+F6 -> 6.2 | G5: =F5+G7 -> 7.6 | H5: =G5+H8 -> 9 | I5: =H5+I9 -> 10.9 | J5: =I5+J10 -> 11 | K5: =J5+K11 -> 12.6 | L5: =K5+L12 -> 15.9 | M5: =L5+M13 -> 18.1 | N5: =M5+N14 -> 19.7 | O5: =N5+O15 -> 21.7 | P5: =O5+P16 -> 24.8 | Q5: =P5+Q17 -> 27 | R5: =Q5+R18 -> 28.4 | S5: =R5+S19 -> 30.3 | T5: =S5+T20 -> 33.6
A6: 1450 | E6: 대야 | F6: 4 | G6: =F6+G7 -> 5.4 | H6: =G6+H8 -> 6.8 | I6: =H6+I9 -> 8.7 | J6: =I6+J10 -> 8.8 | K6: =J6+K11 -> 10.4 | L6: =K6+L12 -> 13.7 | M6: =L6+M13 -> 15.9 | N6: =M6+N14 -> 17.5 | O6: =N6+O15 -> 19.5 | P6: =O6+P16 -> 22.6 | Q6: =P6+Q17 -> 24.8 | R6: =Q6+R18 -> 26.2 | S6: =R6+S19 -> 28.1 | T6: =S6+T20 -> 31.4
A7: =ROUND(기준!$B$1*F2, -2) -> 1800 | F7: 가천교 | G7: 1.4 | H7: =G7+H8 -> 2.8 | I7: =H7+I9 -> 4.7 | J7: =I7+J10 -> 4.8 | K7: =J7+K11 -> 6.4 | L7: =K7+L12 -> 9.7 | M7: =L7+M13 -> 11.9 | N7: =M7+N14 -> 13.5 | O7: =N7+O15 -> 15.5 | P7: =O7+P16 -> 18.6 | Q7: =P7+Q17 -> 20.8 | R7: =Q7+R18 -> 22.2 | S7: =R7+S19 -> 24.1 | T7: =S7+T20 -> 27.4
A8: =ROUND(기준!$B$1*G2, -2) -> 2000 | B8: 1450 | G8: 상현휴게 | H8: 1.4 | I8: =H8+I9 -> 3.3 | J8: =I8+J10 -> 3.4 | K8: =J8+K11 -> 5 | L8: =K8+L12 -> 8.3 | M8: =L8+M13 -> 10.5 | N8: =M8+N14 -> 12.1 | O8: =N8+O15 -> 14.1 | P8: =O8+P16 -> 17.2 | Q8: =P8+Q17 -> 19.4 | R8: =Q8+R18 -> 20.8 | S8: =R8+S19 -> 22.7 | T8: =S8+T20 -> 26
A9: =ROUND(기준!$B$1*H2, -2) -> 2200 | B9: =ROUND(기준!$B$1*H3, -2) -> 1700 | C9: 1450 | F9: (상현마을입구) | H9: 부자정 | I9: 1.9 | J9: =I9+J10 -> 2 | K9: =J9+K11 -> 3.6 | L9: =K9+L12 -> 6.9 | M9: =L9+M13 -> 9.1 | N9: =M9+N14 -> 10.7 | O9: =N9+O15 -> 12.7 | P9: =O9+P16 -> 15.8 | Q9: =P9+Q17 -> 18 | R9: =Q9+R18 -> 19.4 | S9: =R9+S19 -> 21.3 | T9: =S9+T20 -> 24.6
A10: =ROUND(기준!$B$1*I2, -2) -> 2500 | B10: =ROUND(기준!$B$1*I3, -2) -> 2000 | C10: =ROUND(기준!$B$1*I4, -2) -> 1900 | D10: 1450 | I10: 봉산(압곡1구) | J10: 0.1 | K10: =J10+K11+0.6 -> 2.3 | L10: =K10+L12 -> 5.6 | M10: =L10+M13 -> 7.8 | N10: =M10+N14 -> 9.4 | O10: =N10+O15 -> 11.4 | P10: =O10+P16 -> 14.5 | Q10: =P10+Q17 -> 16.7 | R10: =Q10+R18 -> 18.1 | S10: =R10+S19 -> 20 | T10: =S10+T20 -> 23.3
K11: 1.6 | L11: =K11+L12 -> 4.9 | M11: =L11+M13 -> 7.1 | N11: =M11+N14 -> 8.7 | O11: =N11+O15 -> 10.7 | P11: =O11+P16 -> 13.8 | Q11: =P11+Q17 -> 16 | R11: =Q11+R18 -> 17.4 | S11: =R11+S19 -> 19.3 | T11: =S11+T20 -> 22.6
A12: =ROUND(기준!$B$1*K2, -2) -> 2800 | B12: =ROUND(기준!$B$1*K3, -2) -> 2200 | C12: =ROUND(기준!$B$1*K4, -2) -> 2100 | D12: =ROUND(기준!$B$1*K5, -2) -> 1800 | E12: 1450 | K12: 권빈(권빈3구) | L12: 3.3 | M12: =L12+M13 -> 5.5 | N12: =M12+N14 -> 7.1 | O12: =N12+O15 -> 9.1 | P12: =O12+P16 -> 12.2 | Q12: =P12+Q17 -> 14.4 | R12: =Q12+R18 -> 15.8 | S12: =R12+S19 -> 17.7 | T12: =S12+T20 -> 21
A13: =ROUND(기준!$B$1*L2, -2) -> 3200 | B13: =ROUND(기준!$B$1*L3, -2) -> 2700 | C13: =ROUND(기준!$B$1*L4, -2) -> 2600 | D13: =ROUND(기준!$B$1*L5, -2) -> 2300 | E13: =ROUND(기준!$B$1*L6, -2) -> 2000 | F13: 1450 | L13: 반포 | M13: 2.2 | N13: =M13+N14 -> 3.8 | O13: =N13+O15 -> 5.8 | P13: =O13+P16 -> 8.9 | Q13: =P13+Q17 -> 11.1 | R13: =Q13+R18 -> 12.5 | S13: =R13+S19 -> 14.4 | T13: =S13+T20 -> 17.7
A14: =ROUND(기준!$B$1*M2, -2) -> 3600 | B14: =ROUND(기준!$B$1*M3, -2) -> 3000 | C14: =ROUND(기준!$B$1*M4, -2) -> 2900 | D14: =ROUND(기준!$B$1*M5, -2) -> 2600 | E14: =ROUND(기준!$B$1*M6, -2) -> 2300 | F14: =ROUND(기준!$B$1*M7, -2) -> 1700 | G14: 1450 | M14: 묘산 | N14: 1.6 | O14: =N14+O15 -> 3.6 | P14: =O14+P16 -> 6.7 | Q14: =P14+Q17 -> 8.9 | R14: =Q14+R18 -> 10.3 | S14: =R14+S19 -> 12.2 | T14: =S14+T20 -> 15.5
A15: =ROUND(기준!$B$1*N2, -2) -> 3800 | B15: =ROUND(기준!$B$1*N3, -2) -> 3200 | C15: =ROUND(기준!$B$1*N4, -2) -> 3100 | D15: =ROUND(기준!$B$1*N5, -2) -> 2900 | E15: =ROUND(기준!$B$1*N6, -2) -> 2500 | F15: =ROUND(기준!$B$1*N7, -2) -> 2000 | G15: =ROUND(기준!$B$1*N8, -2) -> 1800 | H15: 1450 | I15: 1450 | N15: 관기 | O15: 2 | P15: =O15+P16 -> 5.1 | Q15: =P15+Q17 -> 7.3 | R15: =Q15+R18 -> 8.7 | S15: =R15+S19 -> 10.6 | T15: =S15+T20 -> 13.9
A16: =ROUND(기준!$B$1*O2, -2) -> 4100 | B16: =ROUND(기준!$B$1*O3, -2) -> 3500 | C16: =ROUND(기준!$B$1*O4, -2) -> 3400 | D16: =ROUND(기준!$B$1*O5, -2) -> 3200 | E16: =ROUND(기준!$B$1*O6, -2) -> 2800 | F16: =ROUND(기준!$B$1*O7, -2) -> 2300 | G16: =ROUND(기준!$B$1*O8, -2) -> 2000 | H16: =ROUND(기준!$B$1*O9, -2) -> 1800 | I16: =ROUND(기준!$B$1*O10, -2) -> 1700 | J16: 1450 | K16: 1450 | O16: 마령재 | P16: 3.1 | Q16: =P16+Q17 -> 5.3 | R16: =Q16+R18 -> 6.7 | S16: =R16+S19 -> 8.6 | T16: =S16+T20 -> 11.9
A17: =ROUND(기준!$B$1*P2, -2) -> 4500 | B17: =ROUND(기준!$B$1*P3, -2) -> 4000 | C17: =ROUND(기준!$B$1*P4, -2) -> 3900 | D17: =ROUND(기준!$B$1*P5, -2) -> 3600 | E17: =ROUND(기준!$B$1*P6, -2) -> 3300 | F17: =ROUND(기준!$B$1*P7, -2) -> 2700 | G17: =ROUND(기준!$B$1*P8, -2) -> 2500 | H17: =ROUND(기준!$B$1*P9, -2) -> 2300 | I17: =ROUND(기준!$B$1*P10, -2) -> 2100 | J17: =ROUND(기준!$B$1*P11, -2) -> 2000 | K17: =ROUND(기준!$B$1*P12, -2) -> 1800 | L17: 1450 | O17: (외곡) | P17: 내곡 | Q17: 2.2 | R17: =Q17+R18 -> 3.6 | S17: =R17+S19 -> 5.5 | T17: =S17+T20 -> 8.8
A18: =ROUND(기준!$B$1*Q2, -2) -> 4900 | B18: =ROUND(기준!$B$1*'묘산-합천'!Q3, -2) -> 4300 | C18: =ROUND(기준!$B$1*'묘산-합천'!Q4, -2) -> 4200 | D18: =ROUND(기준!$B$1*'묘산-합천'!Q5, -2) -> 3900 | E18: =ROUND(기준!$B$1*'묘산-합천'!Q6, -2) -> 3600 | F18: =ROUND(기준!$B$1*'묘산-합천'!Q7, -2) -> 3000 | G18: =ROUND(기준!$B$1*'묘산-합천'!Q8, -2) -> 2800 | H18: =ROUND(기준!$B$1*'묘산-합천'!Q9, -2) -> 2600 | I18: =ROUND(기준!$B$1*'묘산-합천'!Q10, -2) -> 2400 | J18: =ROUND(기준!$B$1*'묘산-합천'!Q11, -2) -> 2300 | K18: =ROUND(기준!$B$1*Q12, -2) -> 2100 | L18: =ROUND(기준!$B$1*Q13, -2) -> 1600 | Q18: 법정 | R18: 1.4 | S18: =R18+S19 -> 3.3 | T18: =S18+T20 -> 6.6
A19: =ROUND(기준!$B$1*R2, -2) -> 5100 | B19: =ROUND(기준!$B$1*'묘산-합천'!R3, -2) -> 4500 | C19: =ROUND(기준!$B$1*'묘산-합천'!R4, -2) -> 4400 | D19: =ROUND(기준!$B$1*'묘산-합천'!R5, -2) -> 4100 | E19: =ROUND(기준!$B$1*'묘산-합천'!R6, -2) -> 3800 | F19: =ROUND(기준!$B$1*'묘산-합천'!R7, -2) -> 3200 | G19: =ROUND(기준!$B$1*'묘산-합천'!R8, -2) -> 3000 | H19: =ROUND(기준!$B$1*'묘산-합천'!R9, -2) -> 2800 | I19: =ROUND(기준!$B$1*'묘산-합천'!R10, -2) -> 2600 | J19: =ROUND(기준!$B$1*'묘산-합천'!R11, -2) -> 2500 | K19: =ROUND(기준!$B$1*'묘산-합천'!R12, -2) -> 2300 | L19: =ROUND(기준!$B$1*'묘산-합천'!R13, -2) -> 1800 | M19: 1450 | R19: 사동 | S19: 1.9 | T19: =S19+T20 -> 5.2
A20: =ROUND(기준!$B$1*'묘산-합천'!S2, -2) -> 5300 | B20: =ROUND(기준!$B$1*'묘산-합천'!S3, -2) -> 4800 | C20: =ROUND(기준!$B$1*'묘산-합천'!S4, -2) -> 4700 | D20: =ROUND(기준!$B$1*'묘산-합천'!S5, -2) -> 4400 | E20: =ROUND(기준!$B$1*'묘산-합천'!S6, -2) -> 4100 | F20: =ROUND(기준!$B$1*'묘산-합천'!S7, -2) -> 3500 | G20: =ROUND(기준!$B$1*'묘산-합천'!S8, -2) -> 3300 | H20: =ROUND(기준!$B$1*'묘산-합천'!S9, -2) -> 3100 | I20: =ROUND(기준!$B$1*'묘산-합천'!S10, -2) -> 2900 | J20: =ROUND(기준!$B$1*'묘산-합천'!S11, -2) -> 2800 | K20: =ROUND(기준!$B$1*'묘산-합천'!S12, -2) -> 2600 | L20: =ROUND(기준!$B$1*'묘산-합천'!S13, -2) -> 2100 | M20: =ROUND(기준!$B$1*'묘산-합천'!S14, -2) -> 1800 | N20: 1450 | O20: 1450 | S20: 금양 | T20: 3.3
A21: =ROUND(기준!$B$1*T2, -2) -> 5800 | B21: =ROUND(기준!$B$1*'묘산-합천'!T3, -2) -> 5300 | C21: =ROUND(기준!$B$1*'묘산-합천'!T4, -2) -> 5200 | D21: =ROUND(기준!$B$1*'묘산-합천'!T5, -2) -> 4900 | E21: =ROUND(기준!$B$1*'묘산-합천'!T6, -2) -> 4600 | F21: =ROUND(기준!$B$1*'묘산-합천'!T7, -2) -> 4000 | G21: =ROUND(기준!$B$1*'묘산-합천'!T8, -2) -> 3800 | H21: =ROUND(기준!$B$1*'묘산-합천'!T9, -2) -> 3600 | I21: =ROUND(기준!$B$1*'묘산-합천'!T10, -2) -> 3400 | J21: =ROUND(기준!$B$1*'묘산-합천'!T11, -2) -> 3300 | K21: =ROUND(기준!$B$1*'묘산-합천'!T12, -2) -> 3100 | L21: =ROUND(기준!$B$1*'묘산-합천'!T13, -2) -> 2600 | M21: =ROUND(기준!$B$1*'묘산-합천'!T14, -2) -> 2300 | N21: =ROUND(기준!$B$1*'묘산-합천'!T15, -2) -> 2000 | O21: =ROUND(기준!$B$1*T16, -2) -> 1700 | P21: 1450 | T21: 합천

Sheet 계산-남계-합천
A1: 거창 - 계산 - 시)남계 - 합천
A2: 거창 | B2: 3.8 | C2: =B2+C3 -> 4.5 | D2: =C2+D4 -> 6.4 | E2: =D2+E5 -> 8.6 | F2: =E2+F6 -> 12.6 | G2: =F2+G7 -> 14 | H2: =G2+H8 -> 15.4 | I2: =H2+I9 -> 17.3 | J2: =I2+J10 -> 17.4 | K2: =J2+K11 -> 19 | L2: =K2+L12 -> 21.6 | M2: =L2+M13 -> 30.3 | N2: =M2+N14 -> 31.9 | O2: =M2+O14 -> 36.1 | P2: =O2+P16 -> 38.1 | Q2: =P2+Q17 -> 39.4 | R2: =Q2+R18 -> 42.5 | S2: =R2+S19 -> 43.7 | T2: =S2+T20 -> 47.1
A3: 국농소 | B3: 양곡 | C3: 0.7 | D3: =C3+D4 -> 2.6 | E3: =D3+E5 -> 4.8 | F3: =E3+F6 -> 8.8 | G3: =F3+G7 -> 10.2 | H3: =G3+H8 -> 11.6 | I3: =H3+I9 -> 13.5 | J3: =I3+J10 -> 13.6 | K3: =J3+K11 -> 15.2 | L3: =K3+L12 -> 17.8 | M3: =L3+M13 -> 26.5 | N3: =M3+N14 -> 28.1 | O3: =M3+O14 -> 32.3 | P3: =O3+P16 -> 34.3 | Q3: =P3+Q17 -> 35.6 | R3: =Q3+R18 -> 38.7 | S3: =R3+S19 -> 39.9 | T3: =S3+T20 -> 43.3
C4: 남하 | D4: 1.9 | E4: =D4+E5 -> 4.1 | F4: =E4+F6 -> 8.1 | G4: =F4+G7 -> 9.5 | H4: =G4+H8 -> 10.9 | I4: =H4+I9 -> 12.8 | J4: =I4+J10 -> 12.9 | K4: =J4+K11 -> 14.5 | L4: =K4+L12 -> 17.1 | M4: =L4+M13 -> 25.8 | N4: =M4+N14 -> 27.4 | O4: =M4+O14 -> 31.6 | P4: =O4+P16 -> 33.6 | Q4: =P4+Q17 -> 34.9 | R4: =Q4+R18 -> 38 | S4: =R4+S19 -> 39.2 | T4: =S4+T20 -> 42.6
D5: 산포 | E5: 2.2 | F5: =E5+F6 -> 6.2 | G5: =F5+G7 -> 7.6 | H5: =G5+H8 -> 9 | I5: =H5+I9 -> 10.9 | J5: =I5+J10 -> 11 | K5: =J5+K11 -> 12.6 | L5: =K5+L12 -> 15.2 | M5: =L5+M13 -> 23.9 | N5: =M5+N14 -> 25.5 | O5: =M5+O14 -> 29.7 | P5: =O5+P16 -> 31.7 | Q5: =P5+Q17 -> 33 | R5: =Q5+R18 -> 36.1 | S5: =R5+S19 -> 37.3 | T5: =S5+T20 -> 40.7
A6: 1450 | E6: 대야 | F6: 4 | G6: =F6+G7 -> 5.4 | H6: =G6+H8 -> 6.8 | I6: =H6+I9 -> 8.7 | J6: =I6+J10 -> 8.8 | K6: =J6+K11 -> 10.4 | L6: =K6+L12 -> 13 | M6: =L6+M13 -> 21.7 | N6: =M6+N14 -> 23.3 | O6: =M6+O14 -> 27.5 | P6: =O6+P16 -> 29.5 | Q6: =P6+Q17 -> 30.8 | R6: =Q6+R18 -> 33.9 | S6: =R6+S19 -> 35.1 | T6: =S6+T20 -> 38.5
A7: =ROUND(기준!$B$1*F2, -2) -> 1800 | F7: 가천교 | G7: 1.4 | H7: =G7+H8 -> 2.8 | I7: =H7+I9 -> 4.7 | J7: =I7+J10 -> 4.8 | K7: =J7+K11 -> 6.4 | L7: =K7+L12 -> 9 | M7: =L7+M13 -> 17.7 | N7: =M7+N14 -> 19.3 | O7: =M7+O14 -> 23.5 | P7: =O7+P16 -> 25.5 | Q7: =P7+Q17 -> 26.8 | R7: =Q7+R18 -> 29.9 | S7: =R7+S19 -> 31.1 | T7: =S7+T20 -> 34.5
A8: =ROUND(기준!$B$1*G2, -2) -> 2000 | B8: 1450 | G8: 상현휴게 | H8: 1.4 | I8: =H8+I9 -> 3.3 | J8: =I8+J10 -> 3.4 | K8: =J8+K11 -> 5 | L8: =K8+L12 -> 7.6 | M8: =L8+M13 -> 16.3 | N8: =M8+N14 -> 17.9 | O8: =M8+O14 -> 22.1 | P8: =O8+P16 -> 24.1 | Q8: =P8+Q17 -> 25.4 | R8: =Q8+R18 -> 28.5 | S8: =R8+S19 -> 29.7 | T8: =S8+T20 -> 33.1
A9: =ROUND(기준!$B$1*H2, -2) -> 2200 | B9: =ROUND(기준!$B$1*H3, -2) -> 1700 | C9: 1450 | F9: (상현마을입구) | H9: 부자정 | I9: 1.9 | J9: =I9+J10 -> 2 | K9: =J9+K11 -> 3.6 | L9: =K9+L12 -> 6.2 | M9: =L9+M13 -> 14.9 | N9: =M9+N14 -> 16.5 | O9: =M9+O14 -> 20.7 | P9: =O9+P16 -> 22.7 | Q9: =P9+Q17 -> 24 | R9: =Q9+R18 -> 27.1 | S9: =R9+S19 -> 28.3 | T9: =S9+T20 -> 31.7
A10: =ROUND(기준!$B$1*I2, -2) -> 2500 | B10: =ROUND(기준!$B$1*I3, -2) -> 2000 | C10: =ROUND(기준!$B$1*I4, -2) -> 1900 | D10: 1450 | I10: 봉산 | J10: 0.1 | K10: =J10+K11+0.6 -> 2.3 | L10: =K10+L12 -> 4.9 | M10: =L10+M13 -> 13.6 | N10: =M10+N14 -> 15.2 | O10: =M10+O14 -> 19.4 | P10: =O10+P16 -> 21.4 | Q10: =P10+Q17 -> 22.7 | R10: =Q10+R18 -> 25.8 | S10: =R10+S19 -> 27 | T10: =S10+T20 -> 30.4
A11: =ROUND(기준!$B$1*J2, -2) -> 2500 | B11: =ROUND(기준!$B$1*J3, -2) -> 2000 | C11: =ROUND(기준!$B$1*J4, -2) -> 1900 | D11: =ROUND(기준!$B$1*J5, -2) -> 1600 | J11: 압곡 | K11: 1.6 | L11: =K11+L12 -> 4.2 | M11: =L11+M13 -> 12.9 | N11: =M11+N14 -> 14.5 | O11: =M11+O14 -> 18.7 | P11: =O11+P16 -> 20.7 | Q11: =P11+Q17 -> 22 | R11: =Q11+R18 -> 25.1 | S11: =R11+S19 -> 26.3 | T11: =S11+T20 -> 29.7
A12: =ROUND(기준!$B$1*'계산-남계-합천'!K2, -2) -> 2800 | B12: =ROUND(기준!$B$1*'계산-남계-합천'!K3, -2) -> 2200 | C12: =ROUND(기준!$B$1*'계산-남계-합천'!K4, -2) -> 2100 | D12: =ROUND(기준!$B$1*'계산-남계-합천'!K5, -2) -> 1800 | E12: 1450 | K12: 권빈 | L12: 2.6 | M12: =L12+M13 -> 11.3 | N12: =M12+N14 -> 12.9 | O12: =M12+O14 -> 17.1 | P12: =O12+P16 -> 19.1 | Q12: =P12+Q17 -> 20.4 | R12: =Q12+R18 -> 23.5 | S12: =R12+S19 -> 24.7 | T12: =S12+T20 -> 28.1
A13: =ROUND(기준!$B$1*'계산-남계-합천'!L2, -2) -> 3100 | B13: =ROUND(기준!$B$1*'계산-남계-합천'!L3, -2) -> 2600 | C13: =ROUND(기준!$B$1*'계산-남계-합천'!L4, -2) -> 2500 | D13: =ROUND(기준!$B$1*'계산-남계-합천'!L5, -2) -> 2200 | E13: =ROUND(기준!$B$1*'계산-남계-합천'!L6, -2) -> 1900 | F13: 1450 | G13: 1450 | H13: 1450 | I13: 1450 | J13: 1450 | K13: 1450 | L13: 송림 | M13: 8.7 | N13: =M13+N14 -> 10.3 | O13: =M13+O14 -> 14.5 | P13: =O13+P16 -> 16.5 | Q13: =P13+Q17 -> 17.8 | R13: =Q13+R18 -> 20.9 | S13: =R13+S19 -> 22.1 | T13: =S13+T20 -> 25.5
A14: =ROUND(기준!$B$1*'계산-남계-합천'!M2, -2) -> 4400 | B14: =ROUND(기준!$B$1*'계산-남계-합천'!M3, -2) -> 3900 | C14: =ROUND(기준!$B$1*'계산-남계-합천'!M4, -2) -> 3700 | D14: =ROUND(기준!$B$1*'계산-남계-합천'!M5, -2) -> 3500 | E14: =ROUND(기준!$B$1*'계산-남계-합천'!M6, -2) -> 3200 | F14: =ROUND(기준!$B$1*'계산-남계-합천'!M7, -2) -> 2600 | G14: =ROUND(기준!$B$1*'계산-남계-합천'!M8, -2) -> 2400 | H14: =ROUND(기준!$B$1*'계산-남계-합천'!M9, -2) -> 2200 | I14: =ROUND(기준!$B$1*M10, -2) -> 2000 | J14: =ROUND(기준!$B$1*M11, -2) -> 1900 | K14: =ROUND(기준!$B$1*M12, -2) -> 1600 | M14: 계산 | N14: 1.6 | O14: 5.8 | P14: =O14+P16 -> 7.8 | Q14: =P14+Q17 -> 9.1 | R14: =Q14+R18 -> 12.2 | S14: =R14+S19 -> 13.4 | T14: =S14+T20 -> 16.8
A15: =ROUND(기준!$B$1*'계산-남계-합천'!N2, -2) -> 4600 | B15: =ROUND(기준!$B$1*'계산-남계-합천'!N3, -2) -> 4100 | C15: =ROUND(기준!$B$1*'계산-남계-합천'!N4, -2) -> 4000 | D15: =ROUND(기준!$B$1*'계산-남계-합천'!N5, -2) -> 3700 | E15: =ROUND(기준!$B$1*'계산-남계-합천'!N6, -2) -> 3400 | F15: =ROUND(기준!$B$1*'계산-남계-합천'!N7, -2) -> 2800 | G15: =ROUND(기준!$B$1*'계산-남계-합천'!N8, -2) -> 2600 | H15: =ROUND(기준!$B$1*'계산-남계-합천'!N9, -2) -> 2400 | I15: =ROUND(기준!$B$1*'계산-남계-합천'!N10, -2) -> 2200 | J15: =ROUND(기준!$B$1*N11, -2) -> 2100 | K15: =ROUND(기준!$B$1*N12, -2) -> 1900 | L15: 1450 | N15: 남계 | O15: =N14+O14 -> 7.4 | P15: =O15+P16 -> 9.4 | Q15: =P15+Q17 -> 10.7 | R15: =Q15+R18 -> 13.8 | S15: =R15+S19 -> 15 | T15: =S15+T20 -> 18.4
A16: =ROUND(기준!$B$1*'계산-남계-합천'!O2, -2) -> 5200 | B16: =ROUND(기준!$B$1*'계산-남계-합천'!O3, -2) -> 4700 | C16: =ROUND(기준!$B$1*'계산-남계-합천'!O4, -2) -> 4600 | D16: =ROUND(기준!$B$1*'계산-남계-합천'!O5, -2) -> 4300 | E16: =ROUND(기준!$B$1*'계산-남계-합천'!O6, -2) -> 4000 | F16: =ROUND(기준!$B$1*'계산-남계-합천'!O7, -2) -> 3400 | G16: =ROUND(기준!$B$1*'계산-남계-합천'!O8, -2) -> 3200 | H16: =ROUND(기준!$B$1*'계산-남계-합천'!O9, -2) -> 3000 | I16: =ROUND(기준!$B$1*'계산-남계-합천'!O10, -2) -> 2800 | J16: =ROUND(기준!$B$1*O11, -2) -> 2700 | K16: =ROUND(기준!$B$1*O12, -2) -> 2500 | L16: =ROUND(기준!$B$1*O13, -2) -> 2100 | O16: 인곡 | P16: 2 | Q16: =P16+Q17 -> 3.3 | R16: =Q16+R18 -> 6.4 | S16: =R16+S19 -> 7.6 | T16: =S16+T20 -> 11
A17: =ROUND(기준!$B$1*'계산-남계-합천'!P2, -2) -> 5500 | B17: =ROUND(기준!$B$1*'계산-남계-합천'!P3, -2) -> 5000 | C17: =ROUND(기준!$B$1*'계산-남계-합천'!P4, -2) -> 4900 | D17: =ROUND(기준!$B$1*'계산-남계-합천'!P5, -2) -> 4600 | E17: =ROUND(기준!$B$1*'계산-남계-합천'!P6, -2) -> 4300 | F17: =ROUND(기준!$B$1*'계산-남계-합천'!P7, -2) -> 3700 | G17: =ROUND(기준!$B$1*'계산-남계-합천'!P8, -2) -> 3500 | H17: =ROUND(기준!$B$1*'계산-남계-합천'!P9, -2) -> 3300 | I17: =ROUND(기준!$B$1*'계산-남계-합천'!P10, -2) -> 3100 | J17: =ROUND(기준!$B$1*'계산-남계-합천'!P11, -2) -> 3000 | K17: =ROUND(기준!$B$1*P12, -2) -> 2800 | L17: =ROUND(기준!$B$1*P13, -2) -> 2400 | O17: 안터 | P17: 장계 | Q17: 1.3 | R17: =Q17+R18 -> 4.4 | S17: =R17+S19 -> 5.6 | T17: =S17+T20 -> 9
A18: =ROUND(기준!$B$1*'계산-남계-합천'!Q2, -2) -> 5700 | B18: =ROUND(기준!$B$1*'계산-남계-합천'!Q3, -2) -> 5200 | C18: =ROUND(기준!$B$1*'계산-남계-합천'!Q4, -2) -> 5100 | D18: =ROUND(기준!$B$1*'계산-남계-합천'!Q5, -2) -> 4800 | E18: =ROUND(기준!$B$1*'계산-남계-합천'!Q6, -2) -> 4500 | F18: =ROUND(기준!$B$1*'계산-남계-합천'!Q7, -2) -> 3900 | G18: =ROUND(기준!$B$1*'계산-남계-합천'!Q8, -2) -> 3700 | H18: =ROUND(기준!$B$1*'계산-남계-합천'!Q9, -2) -> 3500 | I18: =ROUND(기준!$B$1*'계산-남계-합천'!Q10, -2) -> 3300 | J18: =ROUND(기준!$B$1*'계산-남계-합천'!Q11, -2) -> 3200 | K18: =ROUND(기준!$B$1*'계산-남계-합천'!Q12, -2) -> 3000 | L18: =ROUND(기준!$B$1*Q13, -2) -> 2600 | M18: 1450 | N18: 1450 | Q18: 남암 | R18: 3.1 | S18: =R18+S19 -> 4.3 | T18: =S18+T20 -> 7.7
A19: =ROUND(기준!$B$1*'계산-남계-합천'!R2, -2) -> 6200 | B19: =ROUND(기준!$B$1*'계산-남계-합천'!R3, -2) -> 5600 | C19: =ROUND(기준!$B$1*'계산-남계-합천'!R4, -2) -> 5500 | D19: =ROUND(기준!$B$1*'계산-남계-합천'!R5, -2) -> 5200 | E19: =ROUND(기준!$B$1*'계산-남계-합천'!R6, -2) -> 4900 | F19: =ROUND(기준!$B$1*'계산-남계-합천'!R7, -2) -> 4300 | G19: =ROUND(기준!$B$1*'계산-남계-합천'!R8, -2) -> 4100 | H19: =ROUND(기준!$B$1*'계산-남계-합천'!R9, -2) -> 3900 | I19: =ROUND(기준!$B$1*'계산-남계-합천'!R10, -2) -> 3700 | J19: =ROUND(기준!$B$1*'계산-남계-합천'!R11, -2) -> 3600 | K19: =ROUND(기준!$B$1*'계산-남계-합천'!R12, -2) -> 3400 | L19: =ROUND(기준!$B$1*'계산-남계-합천'!R13, -2) -> 3000 | M19: =ROUND(기준!$B$1*R14, -2) -> 1800 | N19: =ROUND(기준!$B$1*R15, -2) -> 2000 | R19: 남전동 | S19: 1.2 | T19: =S19+T20 -> 4.6
A20: =ROUND(기준!$B$1*'계산-남계-합천'!S2, -2) -> 6400 | B20: =ROUND(기준!$B$1*'계산-남계-합천'!S3, -2) -> 5800 | C20: =ROUND(기준!$B$1*'계산-남계-합천'!S4, -2) -> 5700 | D20: =ROUND(기준!$B$1*'계산-남계-합천'!S5, -2) -> 5400 | E20: =ROUND(기준!$B$1*'계산-남계-합천'!S6, -2) -> 5100 | F20: =ROUND(기준!$B$1*'계산-남계-합천'!S7, -2) -> 4500 | G20: =ROUND(기준!$B$1*'계산-남계-합천'!S8, -2) -> 4300 | H20: =ROUND(기준!$B$1*'계산-남계-합천'!S9, -2) -> 4100 | I20: =ROUND(기준!$B$1*'계산-남계-합천'!S10, -2) -> 3900 | J20: =ROUND(기준!$B$1*'계산-남계-합천'!S11, -2) -> 3800 | K20: =ROUND(기준!$B$1*'계산-남계-합천'!S12, -2) -> 3600 | L20: =ROUND(기준!$B$1*'계산-남계-합천'!S13, -2) -> 3200 | M20: =ROUND(기준!$B$1*'계산-남계-합천'!S14, -2) -> 1900 | N20: =ROUND(기준!$B$1*S15, -2) -> 2200 | O20: 1450 | S20: 계림 | T20: 3.4
A21: 5800 | B21: 4800 | C21: 4700 | D21: 4400 | E21: 4100 | F21: 3600 | G21: 3400 | H21: 3200 | I21: 3100 | J21: 3000 | K21: 2800 | L21: =ROUND(기준!$B$1*'계산-남계-합천'!T13, -2) -> 3700 | M21: =ROUND(기준!$B$1*'계산-남계-합천'!T14, -2) -> 2400 | N21: =ROUND(기준!$B$1*'계산-남계-합천'!T15, -2) -> 2700 | O21: =ROUND(기준!$B$1*'계산-남계-합천'!T16, -2) -> 1600 | P21: 1450 | T21: 합천

Sheet 대병-평학-합천(직)
A1: 거창 - 대병 - 평학 - 합천
A2: 거창 | B2: 3.8 | C2: =B2+C3 -> 4.5 | D2: =C2+D4 -> 6.4 | E2: =D2+E5 -> 8.6 | F2: =E2+F6 -> 12.6 | G2: =F2+G7 -> 14 | H2: =G2+H8 -> 15.4 | I2: =H2+I9 -> 17.3 | J2: =I2+J10 -> 20 | K2: =J2+K11 -> 21 | L2: =K2+L12 -> 24.2 | M2: =L2+M13 -> 26.3 | N2: =M2+N14 -> 29 | O2: =N2+O15 -> 33.5 | P2: =O2+P16 -> 35 | Q2: =P2+Q17 -> 36.5 | R2: =Q2+R18 -> 37.5 | S2: =R2+S19 -> 40.6 | T2: =S2+T20 -> 41.2 | U2: =T2+U21 -> 43.1 | V2: =U2+V22 -> 46.1 | W2: =V2+W23 -> 47.5 | X2: =W2+X24 -> 48.8 | Y2: =X2+Y25 -> 50.2 | Z2: =Y2+Z26 -> 51.7 | AA2: =Z2+AA27 -> 59.9
A3: 국농소 | B3: 양곡 | C3: 0.7 | D3: =C3+D4 -> 2.6 | E3: =D3+E5 -> 4.8 | F3: =E3+F6 -> 8.8 | G3: =F3+G7 -> 10.2 | H3: =G3+H8 -> 11.6 | I3: =H3+I9 -> 13.5 | J3: =I3+J10 -> 16.2 | K3: =J3+K11 -> 17.2 | L3: =K3+L12 -> 20.4 | M3: =L3+M13 -> 22.5 | N3: =M3+N14 -> 25.2 | O3: =N3+O15 -> 29.7 | P3: =O3+P16 -> 31.2 | Q3: =P3+Q17 -> 32.7 | R3: =Q3+R18 -> 33.7 | S3: =R3+S19 -> 36.8 | T3: =S3+T20 -> 37.4 | U3: =T3+U21 -> 39.3 | V3: =U3+V22 -> 42.3 | W3: =V3+W23 -> 43.7 | X3: =W3+X24 -> 45 | Y3: =X3+Y25 -> 46.4 | Z3: =Y3+Z26 -> 47.9 | AA3: =Z3+AA27 -> 56.1
C4: 남하 | D4: 1.9 | E4: =D4+E5 -> 4.1 | F4: =E4+F6 -> 8.1 | G4: =F4+G7 -> 9.5 | H4: =G4+H8 -> 10.9 | I4: =H4+I9 -> 12.8 | J4: =I4+J10 -> 15.5 | K4: =J4+K11 -> 16.5 | L4: =K4+L12 -> 19.7 | M4: =L4+M13 -> 21.8 | N4: =M4+N14 -> 24.5 | O4: =N4+O15 -> 29 | P4: =O4+P16 -> 30.5 | Q4: =P4+Q17 -> 32 | R4: =Q4+R18 -> 33 | S4: =R4+S19 -> 36.1 | T4: =S4+T20 -> 36.7 | U4: =T4+U21 -> 38.6 | V4: =U4+V22 -> 41.6 | W4: =V4+W23 -> 43 | X4: =W4+X24 -> 44.3 | Y4: =X4+Y25 -> 45.7 | Z4: =Y4+Z26 -> 47.2 | AA4: =Z4+AA27 -> 55.4
D5: 산포 | E5: 2.2 | F5: =E5+F6 -> 6.2 | G5: =F5+G7 -> 7.6 | H5: =G5+H8 -> 9 | I5: =H5+I9 -> 10.9 | J5: =I5+J10 -> 13.6 | K5: =J5+K11 -> 14.6 | L5: =K5+L12 -> 17.8 | M5: =L5+M13 -> 19.9 | N5: =M5+N14 -> 22.6 | O5: =N5+O15 -> 27.1 | P5: =O5+P16 -> 28.6 | Q5: =P5+Q17 -> 30.1 | R5: =Q5+R18 -> 31.1 | S5: =R5+S19 -> 34.2 | T5: =S5+T20 -> 34.8 | U5: =T5+U21 -> 36.7 | V5: =U5+V22 -> 39.7 | W5: =V5+W23 -> 41.1 | X5: =W5+X24 -> 42.4 | Y5: =X5+Y25 -> 43.8 | Z5: =Y5+Z26 -> 45.3 | AA5: =Z5+AA27 -> 53.5
A6: 1450 | E6: 대야 | F6: 4 | G6: =F6+G7 -> 5.4 | H6: =G6+H8 -> 6.8 | I6: =H6+I9 -> 8.7 | J6: =I6+J10 -> 11.4 | K6: =J6+K11 -> 12.4 | L6: =K6+L12 -> 15.6 | M6: =L6+M13 -> 17.7 | N6: =M6+N14 -> 20.4 | O6: =N6+O15 -> 24.9 | P6: =O6+P16 -> 26.4 | Q6: =P6+Q17 -> 27.9 | R6: =Q6+R18 -> 28.9 | S6: =R6+S19 -> 32 | T6: =S6+T20 -> 32.6 | U6: =T6+U21 -> 34.5 | V6: =U6+V22 -> 37.5 | W6: =V6+W23 -> 38.9 | X6: =W6+X24 -> 40.2 | Y6: =X6+Y25 -> 41.6 | Z6: =Y6+Z26 -> 43.1 | AA6: =Z6+AA27 -> 51.3
A7: =ROUND(기준!$B$1*F2, -2) -> 1800 | F7: 가천교 | G7: 1.4 | H7: =G7+H8 -> 2.8 | I7: =H7+I9 -> 4.7 | J7: =I7+J10 -> 7.4 | K7: =J7+K11 -> 8.4 | L7: =K7+L12 -> 11.6 | M7: =L7+M13 -> 13.7 | N7: =M7+N14 -> 16.4 | O7: =N7+O15 -> 20.9 | P7: =O7+P16 -> 22.4 | Q7: =P7+Q17 -> 23.9 | R7: =Q7+R18 -> 24.9 | S7: =R7+S19 -> 28 | T7: =S7+T20 -> 28.6 | U7: =T7+U21 -> 30.5 | V7: =U7+V22 -> 33.5 | W7: =V7+W23 -> 34.9 | X7: =W7+X24 -> 36.2 | Y7: =X7+Y25 -> 37.6 | Z7: =Y7+Z26 -> 39.1 | AA7: =Z7+AA27 -> 47.3
A8: =ROUND(기준!$B$1*G2, -2) -> 2000 | B8: 1450 | G8: 상현휴게 | H8: 1.4 | I8: =H8+I9 -> 3.3 | J8: =I8+J10 -> 6 | K8: =J8+K11 -> 7 | L8: =K8+L12 -> 10.2 | M8: =L8+M13 -> 12.3 | N8: =M8+N14 -> 15 | O8: =N8+O15 -> 19.5 | P8: =O8+P16 -> 21 | Q8: =P8+Q17 -> 22.5 | R8: =Q8+R18 -> 23.5 | S8: =R8+S19 -> 26.6 | T8: =S8+T20 -> 27.2 | U8: =T8+U21 -> 29.1 | V8: =U8+V22 -> 32.1 | W8: =V8+W23 -> 33.5 | X8: =W8+X24 -> 34.8 | Y8: =X8+Y25 -> 36.2 | Z8: =Y8+Z26 -> 37.7 | AA8: =Z8+AA27 -> 45.9
A9: =ROUND(기준!$B$1*H2, -2) -> 2200 | B9: =ROUND(기준!$B$1*H3, -2) -> 1700 | C9: 1450 | F9: (상현마을입구) | H9: 부자정 | I9: 1.9 | J9: =I9+J10 -> 4.6 | K9: =J9+K11 -> 5.6 | L9: =K9+L12 -> 8.8 | M9: =L9+M13 -> 10.9 | N9: =M9+N14 -> 13.6 | O9: =N9+O15 -> 18.1 | P9: =O9+P16 -> 19.6 | Q9: =P9+Q17 -> 21.1 | R9: =Q9+R18 -> 22.1 | S9: =R9+S19 -> 25.2 | T9: =S9+T20 -> 25.8 | U9: =T9+U21 -> 27.7 | V9: =U9+V22 -> 30.7 | W9: =V9+W23 -> 32.1 | X9: =W9+X24 -> 33.4 | Y9: =X9+Y25 -> 34.8 | Z9: =Y9+Z26 -> 36.3 | AA9: =Z9+AA27 -> 44.5
A10: =ROUND(기준!$B$1*I2, -2) -> 2500 | B10: =ROUND(기준!$B$1*I3, -2) -> 2000 | C10: =ROUND(기준!$B$1*I4, -2) -> 1900 | D10: 1450 | E10: 1450 | I10: 봉산 | J10: 2.7 | K10: =J10+K11 -> 3.7 | L10: =K10+L12 -> 6.9 | M10: =L10+M13 -> 9 | N10: =M10+N14 -> 11.7 | O10: =N10+O15 -> 16.2 | P10: =O10+P16 -> 17.7 | Q10: =P10+Q17 -> 19.2 | R10: =Q10+R18 -> 20.2 | S10: =R10+S19 -> 23.3 | T10: =S10+T20 -> 23.9 | U10: =T10+U21 -> 25.8 | V10: =U10+V22 -> 28.8 | W10: =V10+W23 -> 30.2 | X10: =W10+X24 -> 31.5 | Y10: =X10+Y25 -> 32.9 | Z10: =Y10+Z26 -> 34.4 | AA10: =Z10+AA27 -> 42.6
A11: =ROUND(기준!$B$1*'대병-평학-합천(직)'!J2, -2) -> 2900 | B11: =ROUND(기준!$B$1*'대병-평학-합천(직)'!J3, -2) -> 2400 | C11: =ROUND(기준!$B$1*'대병-평학-합천(직)'!J4, -2) -> 2300 | D11: =ROUND(기준!$B$1*'대병-평학-합천(직)'!J5, -2) -> 2000 | E11: =ROUND(기준!$B$1*'대병-평학-합천(직)'!J6, -2) -> 1700 | J11: 거안 | K11: 1 | L11: =K11+L12 -> 4.2 | M11: =L11+M13 -> 6.3 | N11: =M11+N14 -> 9 | O11: =N11+O15 -> 13.5 | P11: =O11+P16 -> 15 | Q11: =P11+Q17 -> 16.5 | R11: =Q11+R18 -> 17.5 | S11: =R11+S19 -> 20.6 | T11: =S11+T20 -> 21.2 | U11: =T11+U21 -> 23.1 | V11: =U11+V22 -> 26.1 | W11: =V11+W23 -> 27.5 | X11: =W11+X24 -> 28.8 | Y11: =X11+Y25 -> 30.2 | Z11: =Y11+Z26 -> 31.7 | AA11: =Z11+AA27 -> 39.9
A12: =ROUND(기준!$B$1*'대병-평학-합천(직)'!K2, -2) -> 3100 | B12: =ROUND(기준!$B$1*'대병-평학-합천(직)'!K3, -2) -> 2500 | C12: =ROUND(기준!$B$1*'대병-평학-합천(직)'!K4, -2) -> 2400 | D12: =ROUND(기준!$B$1*'대병-평학-합천(직)'!K5, -2) -> 2100 | E12: =ROUND(기준!$B$1*'대병-평학-합천(직)'!K6, -2) -> 1800 | F12: 1450 | K12: 고삼 | L12: 3.2 | M12: =L12+M13 -> 5.3 | N12: =M12+N14 -> 8 | O12: =N12+O15 -> 12.5 | P12: =O12+P16 -> 14 | Q12: =P12+Q17 -> 15.5 | R12: =Q12+R18 -> 16.5 | S12: =R12+S19 -> 19.6 | T12: =S12+T20 -> 20.2 | U12: =T12+U21 -> 22.1 | V12: =U12+V22 -> 25.1 | W12: =V12+W23 -> 26.5 | X12: =W12+X24 -> 27.8 | Y12: =X12+Y25 -> 29.2 | Z12: =Y12+Z26 -> 30.7 | AA12: =Z12+AA27 -> 38.9
A13: =ROUND(기준!$B$1*'대병-평학-합천(직)'!L2, -2) -> 3500 | B13: =ROUND(기준!$B$1*'대병-평학-합천(직)'!L3, -2) -> 3000 | C13: =ROUND(기준!$B$1*'대병-평학-합천(직)'!L4, -2) -> 2900 | D13: =ROUND(기준!$B$1*'대병-평학-합천(직)'!L5, -2) -> 2600 | E13: =ROUND(기준!$B$1*'대병-평학-합천(직)'!L6, -2) -> 2300 | F13: =ROUND(기준!$B$1*'대병-평학-합천(직)'!L7, -2) -> 1700 | G13: 1450 | L13: 양지 | M13: 2.1 | N13: =M13+N14 -> 4.8 | O13: =N13+O15 -> 9.3 | P13: =O13+P16 -> 10.8 | Q13: =P13+Q17 -> 12.3 | R13: =Q13+R18 -> 13.3 | S13: =R13+S19 -> 16.4 | T13: =S13+T20 -> 17 | U13: =T13+U21 -> 18.9 | V13: =U13+V22 -> 21.9 | W13: =V13+W23 -> 23.3 | X13: =W13+X24 -> 24.6 | Y13: =X13+Y25 -> 26 | Z13: =Y13+Z26 -> 27.5 | AA13: =Z13+AA27 -> 35.7
A14: =ROUND(기준!$B$1*'대병-평학-합천(직)'!M2, -2) -> 3800 | B14: =ROUND(기준!$B$1*'대병-평학-합천(직)'!M3, -2) -> 3300 | C14: =ROUND(기준!$B$1*'대병-평학-합천(직)'!M4, -2) -> 3200 | D14: =ROUND(기준!$B$1*'대병-평학-합천(직)'!M5, -2) -> 2900 | E14: =ROUND(기준!$B$1*'대병-평학-합천(직)'!M6, -2) -> 2600 | F14: =ROUND(기준!$B$1*'대병-평학-합천(직)'!M7, -2) -> 2000 | G14: =ROUND(기준!$B$1*'대병-평학-합천(직)'!M8, -2) -> 1800 | H14: 1450 | I14: 1450 | M14: 수다 | N14: 2.7 | O14: =N14+O15 -> 7.2 | P14: =O14+P16 -> 8.7 | Q14: =P14+Q17 -> 10.2 | R14: =Q14+R18 -> 11.2 | S14: =R14+S19 -> 14.3 | T14: =S14+T20 -> 14.9 | U14: =T14+U21 -> 16.8 | V14: =U14+V22 -> 19.8 | W14: =V14+W23 -> 21.2 | X14: =W14+X24 -> 22.5 | Y14: =X14+Y25 -> 23.9 | Z14: =Y14+Z26 -> 25.4 | AA14: =Z14+AA27 -> 33.6
A15: =ROUND(기준!$B$1*'대병-평학-합천(직)'!N2, -2) -> 4200 | B15: =ROUND(기준!$B$1*'대병-평학-합천(직)'!N3, -2) -> 3700 | C15: =ROUND(기준!$B$1*'대병-평학-합천(직)'!N4, -2) -> 3600 | D15: =ROUND(기준!$B$1*'대병-평학-합천(직)'!N5, -2) -> 3300 | E15: =ROUND(기준!$B$1*'대병-평학-합천(직)'!N6, -2) -> 3000 | F15: =ROUND(기준!$B$1*'대병-평학-합천(직)'!N7, -2) -> 2400 | G15: =ROUND(기준!$B$1*'대병-평학-합천(직)'!N8, -2) -> 2200 | H15: =ROUND(기준!$B$1*'대병-평학-합천(직)'!N9, -2) -> 2000 | I15: =ROUND(기준!$B$1*'대병-평학-합천(직)'!N10, -2) -> 1700 | J15: 1450 | K15: 1450 | N15: 술곡 | O15: 4.5 | P15: =O15+P16 -> 6 | Q15: =P15+Q17 -> 7.5 | R15: =Q15+R18 -> 8.5 | S15: =R15+S19 -> 11.6 | T15: =S15+T20 -> 12.2 | U15: =T15+U21 -> 14.1 | V15: =U15+V22 -> 17.1 | W15: =V15+W23 -> 18.5 | X15: =W15+X24 -> 19.8 | Y15: =X15+Y25 -> 21.2 | Z15: =Y15+Z26 -> 22.7 | AA15: =Z15+AA27 -> 30.9
A16: =ROUND(기준!$B$1*'대병-평학-합천(직)'!O2, -2) -> 4900 | B16: =ROUND(기준!$B$1*'대병-평학-합천(직)'!O3, -2) -> 4300 | C16: =ROUND(기준!$B$1*'대병-평학-합천(직)'!O4, -2) -> 4200 | D16: =ROUND(기준!$B$1*'대병-평학-합천(직)'!O5, -2) -> 3900 | E16: =ROUND(기준!$B$1*'대병-평학-합천(직)'!O6, -2) -> 3600 | F16: =ROUND(기준!$B$1*'대병-평학-합천(직)'!O7, -2) -> 3000 | G16: =ROUND(기준!$B$1*'대병-평학-합천(직)'!O8, -2) -> 2800 | H16: =ROUND(기준!$B$1*'대병-평학-합천(직)'!O9, -2) -> 2600 | I16: =ROUND(기준!$B$1*'대병-평학-합천(직)'!O10, -2) -> 2400 | J16: =ROUND(기준!$B$1*'대병-평학-합천(직)'!O11, -2) -> 2000 | K16: =ROUND(기준!$B$1*O12, -2) -> 1800 | O16: 역평 | P16: 1.5 | Q16: =P16+Q17 -> 3 | R16: =Q16+R18 -> 4 | S16: =R16+S19 -> 7.1 | T16: =S16+T20 -> 7.7 | U16: =T16+U21 -> 9.6 | V16: =U16+V22 -> 12.6 | W16: =V16+W23 -> 14 | X16: =W16+X24 -> 15.3 | Y16: =X16+Y25 -> 16.7 | Z16: =Y16+Z26 -> 18.2 | AA16: =Z16+AA27 -> 26.4
A17: =ROUND(기준!$B$1*'대병-평학-합천(직)'!P2, -2) -> 5100 | B17: =ROUND(기준!$B$1*'대병-평학-합천(직)'!P3, -2) -> 4500 | C17: =ROUND(기준!$B$1*'대병-평학-합천(직)'!P4, -2) -> 4400 | D17: =ROUND(기준!$B$1*'대병-평학-합천(직)'!P5, -2) -> 4200 | E17: =ROUND(기준!$B$1*'대병-평학-합천(직)'!P6, -2) -> 3800 | F17: =ROUND(기준!$B$1*'대병-평학-합천(직)'!P7, -2) -> 3300 | G17: =ROUND(기준!$B$1*'대병-평학-합천(직)'!P8, -2) -> 3100 | H17: =ROUND(기준!$B$1*'대병-평학-합천(직)'!P9, -2) -> 2800 | I17: =ROUND(기준!$B$1*'대병-평학-합천(직)'!P10, -2) -> 2600 | J17: =ROUND(기준!$B$1*'대병-평학-합천(직)'!P11, -2) -> 2200 | K17: =ROUND(기준!$B$1*'대병-평학-합천(직)'!P12, -2) -> 2000 | L17: 1450 | P17: 무학사 | Q17: 1.5 | R17: =Q17+R18 -> 2.5 | S17: =R17+S19 -> 5.6 | T17: =S17+T20 -> 6.2 | U17: =T17+U21 -> 8.1 | V17: =U17+V22 -> 11.1 | W17: =V17+W23 -> 12.5 | X17: =W17+X24 -> 13.8 | Y17: =X17+Y25 -> 15.2 | Z17: =Y17+Z26 -> 16.7 | AA17: =Z17+AA27 -> 24.9
A18: =ROUND(기준!$B$1*'대병-평학-합천(직)'!Q2, -2) -> 5300 | B18: =ROUND(기준!$B$1*'대병-평학-합천(직)'!Q3, -2) -> 4800 | C18: =ROUND(기준!$B$1*'대병-평학-합천(직)'!Q4, -2) -> 4700 | D18: =ROUND(기준!$B$1*'대병-평학-합천(직)'!Q5, -2) -> 4400 | E18: =ROUND(기준!$B$1*'대병-평학-합천(직)'!Q6, -2) -> 4100 | F18: =ROUND(기준!$B$1*'대병-평학-합천(직)'!Q7, -2) -> 3500 | G18: =ROUND(기준!$B$1*'대병-평학-합천(직)'!Q8, -2) -> 3300 | H18: =ROUND(기준!$B$1*'대병-평학-합천(직)'!Q9, -2) -> 3100 | I18: =ROUND(기준!$B$1*'대병-평학-합천(직)'!Q10, -2) -> 2800 | J18: =ROUND(기준!$B$1*'대병-평학-합천(직)'!Q11, -2) -> 2400 | K18: =ROUND(기준!$B$1*'대병-평학-합천(직)'!Q12, -2) -> 2300 | L18: =ROUND(기준!$B$1*'대병-평학-합천(직)'!Q13, -2) -> 1800 | M18: 1450 | Q18: 유전 | R18: 1 | S18: =R18+S19 -> 4.1 | T18: =S18+T20 -> 4.7 | U18: =T18+U21 -> 6.6 | V18: =U18+V22 -> 9.6 | W18: =V18+W23 -> 11 | X18: =W18+X24 -> 12.3 | Y18: =X18+Y25 -> 13.7 | Z18: =Y18+Z26 -> 15.2 | AA18: =Z18+AA27 -> 23.4
A19: =ROUND(기준!$B$1*'대병-평학-합천(직)'!R2, -2) -> 5400 | B19: =ROUND(기준!$B$1*'대병-평학-합천(직)'!R3, -2) -> 4900 | C19: =ROUND(기준!$B$1*'대병-평학-합천(직)'!R4, -2) -> 4800 | D19: =ROUND(기준!$B$1*'대병-평학-합천(직)'!R5, -2) -> 4500 | E19: =ROUND(기준!$B$1*'대병-평학-합천(직)'!R6, -2) -> 4200 | F19: =ROUND(기준!$B$1*'대병-평학-합천(직)'!R7, -2) -> 3600 | G19: =ROUND(기준!$B$1*'대병-평학-합천(직)'!R8, -2) -> 3400 | H19: =ROUND(기준!$B$1*'대병-평학-합천(직)'!R9, -2) -> 3200 | I19: =ROUND(기준!$B$1*'대병-평학-합천(직)'!R10, -2) -> 2900 | J19: =ROUND(기준!$B$1*'대병-평학-합천(직)'!R11, -2) -> 2500 | K19: =ROUND(기준!$B$1*'대병-평학-합천(직)'!R12, -2) -> 2400 | L19: =ROUND(기준!$B$1*'대병-평학-합천(직)'!R13, -2) -> 1900 | M19: =ROUND(기준!$B$1*'대병-평학-합천(직)'!R14, -2) -> 1600 | N19: 1450 | R19: 하금 | S19: 3.1 | T19: =S19+T20 -> 3.7 | U19: =T19+U21 -> 5.6 | V19: =U19+V22 -> 8.6 | W19: =V19+W23 -> 10 | X19: =W19+X24 -> 11.3 | Y19: =X19+Y25 -> 12.7 | Z19: =Y19+Z26 -> 14.2 | AA19: =Z19+AA27 -> 22.4
A20: =ROUND(기준!$B$1*'대병-평학-합천(직)'!S2, -2) -> 5900 | B20: =ROUND(기준!$B$1*'대병-평학-합천(직)'!S3, -2) -> 5300 | C20: =ROUND(기준!$B$1*'대병-평학-합천(직)'!S4, -2) -> 5200 | D20: =ROUND(기준!$B$1*'대병-평학-합천(직)'!S5, -2) -> 5000 | E20: =ROUND(기준!$B$1*'대병-평학-합천(직)'!S6, -2) -> 4700 | F20: =ROUND(기준!$B$1*'대병-평학-합천(직)'!S7, -2) -> 4100 | G20: =ROUND(기준!$B$1*'대병-평학-합천(직)'!S8, -2) -> 3900 | H20: =ROUND(기준!$B$1*'대병-평학-합천(직)'!S9, -2) -> 3700 | I20: =ROUND(기준!$B$1*'대병-평학-합천(직)'!S10, -2) -> 3400 | J20: =ROUND(기준!$B$1*'대병-평학-합천(직)'!S11, -2) -> 3000 | K20: =ROUND(기준!$B$1*'대병-평학-합천(직)'!S12, -2) -> 2800 | L20: =ROUND(기준!$B$1*'대병-평학-합천(직)'!S13, -2) -> 2400 | M20: =ROUND(기준!$B$1*'대병-평학-합천(직)'!S14, -2) -> 2100 | N20: =ROUND(기준!$B$1*'대병-평학-합천(직)'!S15, -2) -> 1700 | S20: 대병 | T20: 0.6 | U20: =T20+U21 -> 2.5 | V20: =U20+V22 -> 5.5 | W20: =V20+W23 -> 6.9 | X20: =W20+X24 -> 8.2 | Y20: =X20+Y25 -> 9.6 | Z20: =Y20+Z26 -> 11.1 | AA20: =Z20+AA27 -> 19.3
A21: =ROUND(기준!$B$1*T2, -2) -> 6000 | B21: =ROUND(기준!$B$1*'대병-평학-합천(직)'!T3, -2) -> 5400 | C21: =ROUND(기준!$B$1*'대병-평학-합천(직)'!T4, -2) -> 5300 | D21: =ROUND(기준!$B$1*'대병-평학-합천(직)'!T5, -2) -> 5100 | E21: =ROUND(기준!$B$1*'대병-평학-합천(직)'!T6, -2) -> 4700 | F21: =ROUND(기준!$B$1*'대병-평학-합천(직)'!T7, -2) -> 4200 | G21: =ROUND(기준!$B$1*'대병-평학-합천(직)'!T8, -2) -> 4000 | H21: =ROUND(기준!$B$1*'대병-평학-합천(직)'!T9, -2) -> 3700 | I21: =ROUND(기준!$B$1*'대병-평학-합천(직)'!T10, -2) -> 3500 | J21: =ROUND(기준!$B$1*'대병-평학-합천(직)'!T11, -2) -> 3100 | K21: =ROUND(기준!$B$1*'대병-평학-합천(직)'!T12, -2) -> 2900 | L21: =ROUND(기준!$B$1*'대병-평학-합천(직)'!T13, -2) -> 2500 | M21: =ROUND(기준!$B$1*'대병-평학-합천(직)'!T14, -2) -> 2200 | N21: =ROUND(기준!$B$1*'대병-평학-합천(직)'!T15, -2) -> 1800 | T21: 회양 | U21: 1.9 | V21: =U21+V22 -> 4.9 | W21: =V21+W23 -> 6.3 | X21: =W21+X24 -> 7.6 | Y21: =X21+Y25 -> 9 | Z21: =Y21+Z26 -> 10.5 | AA21: =Z21+AA27 -> 18.7
A22: =ROUND(기준!$B$1*U2, -2) -> 6300 | B22: =ROUND(기준!$B$1*'대병-평학-합천(직)'!U3, -2) -> 5700 | C22: =ROUND(기준!$B$1*'대병-평학-합천(직)'!U4, -2) -> 5600 | D22: =ROUND(기준!$B$1*'대병-평학-합천(직)'!U5, -2) -> 5300 | E22: =ROUND(기준!$B$1*'대병-평학-합천(직)'!U6, -2) -> 5000 | F22: =ROUND(기준!$B$1*'대병-평학-합천(직)'!U7, -2) -> 4400 | G22: =ROUND(기준!$B$1*'대병-평학-합천(직)'!U8, -2) -> 4200 | H22: =ROUND(기준!$B$1*'대병-평학-합천(직)'!U9, -2) -> 4000 | I22: =ROUND(기준!$B$1*'대병-평학-합천(직)'!U10, -2) -> 3700 | J22: =ROUND(기준!$B$1*'대병-평학-합천(직)'!U11, -2) -> 3400 | K22: =ROUND(기준!$B$1*'대병-평학-합천(직)'!U12, -2) -> 3200 | L22: =ROUND(기준!$B$1*'대병-평학-합천(직)'!U13, -2) -> 2700 | M22: =ROUND(기준!$B$1*'대병-평학-합천(직)'!U14, -2) -> 2400 | N22: =ROUND(기준!$B$1*'대병-평학-합천(직)'!U15, -2) -> 2000 | O22: 1450 | P22: 1450 | T22: 월정 | U22: 합천댐 | V22: 3 | W22: =V22+W23 -> 4.4 | X22: =W22+X24 -> 5.7 | Y22: =X22+Y25 -> 7.1 | Z22: =Y22+Z26 -> 8.6 | AA22: =Z22+AA27 -> 16.8
A23: =ROUND(기준!$B$1*V2, -2) -> 6700 | B23: =ROUND(기준!$B$1*'대병-평학-합천(직)'!V3, -2) -> 6100 | C23: =ROUND(기준!$B$1*'대병-평학-합천(직)'!V4, -2) -> 6000 | D23: =ROUND(기준!$B$1*'대병-평학-합천(직)'!V5, -2) -> 5800 | E23: =ROUND(기준!$B$1*'대병-평학-합천(직)'!V6, -2) -> 5400 | F23: =ROUND(기준!$B$1*'대병-평학-합천(직)'!V7, -2) -> 4900 | G23: =ROUND(기준!$B$1*'대병-평학-합천(직)'!V8, -2) -> 4700 | H23: =ROUND(기준!$B$1*'대병-평학-합천(직)'!V9, -2) -> 4500 | I23: =ROUND(기준!$B$1*'대병-평학-합천(직)'!V10, -2) -> 4200 | J23: =ROUND(기준!$B$1*'대병-평학-합천(직)'!V11, -2) -> 3800 | K23: =ROUND(기준!$B$1*'대병-평학-합천(직)'!V12, -2) -> 3600 | L23: =ROUND(기준!$B$1*'대병-평학-합천(직)'!V13, -2) -> 3200 | M23: =ROUND(기준!$B$1*'대병-평학-합천(직)'!V14, -2) -> 2900 | N23: =ROUND(기준!$B$1*'대병-평학-합천(직)'!V15, -2) -> 2500 | O23: =ROUND(기준!$B$1*'대병-평학-합천(직)'!V16, -2) -> 1800 | P23: =ROUND(기준!$B$1*'대병-평학-합천(직)'!V17, -2) -> 1600 | Q23: 1450 | V23: 평학 | W23: 1.4 | X23: =W23+X24 -> 2.7 | Y23: =X23+Y25 -> 4.1 | Z23: =Y23+Z26 -> 5.6 | AA23: =Z23+AA27 -> 13.8
A24: =ROUND(기준!$B$1*W2, -2) -> 6900 | B24: =ROUND(기준!$B$1*W3, -2) -> 6400 | C24: =ROUND(기준!$B$1*'대병-평학-합천(직)'!W4, -2) -> 6200 | D24: =ROUND(기준!$B$1*'대병-평학-합천(직)'!W5, -2) -> 6000 | E24: =ROUND(기준!$B$1*'대병-평학-합천(직)'!W6, -2) -> 5700 | F24: =ROUND(기준!$B$1*'대병-평학-합천(직)'!W7, -2) -> 5100 | G24: =ROUND(기준!$B$1*'대병-평학-합천(직)'!W8, -2) -> 4900 | H24: =ROUND(기준!$B$1*'대병-평학-합천(직)'!W9, -2) -> 4700 | I24: =ROUND(기준!$B$1*'대병-평학-합천(직)'!W10, -2) -> 4400 | J24: =ROUND(기준!$B$1*'대병-평학-합천(직)'!W11, -2) -> 4000 | K24: =ROUND(기준!$B$1*'대병-평학-합천(직)'!W12, -2) -> 3900 | L24: =ROUND(기준!$B$1*'대병-평학-합천(직)'!W13, -2) -> 3400 | M24: =ROUND(기준!$B$1*'대병-평학-합천(직)'!W14, -2) -> 3100 | N24: =ROUND(기준!$B$1*'대병-평학-합천(직)'!W15, -2) -> 2700 | O24: =ROUND(기준!$B$1*'대병-평학-합천(직)'!W16, -2) -> 2000 | P24: =ROUND(기준!$B$1*'대병-평학-합천(직)'!W17, -2) -> 1800 | Q24: =ROUND(기준!$B$1*'대병-평학-합천(직)'!W18, -2) -> 1600 | R24: 1450 | W24: 용문정 | X24: 1.3 | Y24: =X24+Y25 -> 2.7 | Z24: =Y24+Z26 -> 4.2 | AA24: =Z24+AA27 -> 12.4
A25: =ROUND(기준!$B$1*X2, -2) -> 7100 | B25: =ROUND(기준!$B$1*X3, -2) -> 6500 | C25: =ROUND(기준!$B$1*X4, -2) -> 6400 | D25: =ROUND(기준!$B$1*'대병-평학-합천(직)'!X5, -2) -> 6200 | E25: =ROUND(기준!$B$1*'대병-평학-합천(직)'!X6, -2) -> 5800 | F25: =ROUND(기준!$B$1*'대병-평학-합천(직)'!X7, -2) -> 5300 | G25: =ROUND(기준!$B$1*'대병-평학-합천(직)'!X8, -2) -> 5100 | H25: =ROUND(기준!$B$1*'대병-평학-합천(직)'!X9, -2) -> 4900 | I25: =ROUND(기준!$B$1*'대병-평학-합천(직)'!X10, -2) -> 4600 | J25: =ROUND(기준!$B$1*'대병-평학-합천(직)'!X11, -2) -> 4200 | K25: =ROUND(기준!$B$1*'대병-평학-합천(직)'!X12, -2) -> 4000 | L25: =ROUND(기준!$B$1*'대병-평학-합천(직)'!X13, -2) -> 3600 | M25: =ROUND(기준!$B$1*'대병-평학-합천(직)'!X14, -2) -> 3300 | N25: =ROUND(기준!$B$1*'대병-평학-합천(직)'!X15, -2) -> 2900 | O25: =ROUND(기준!$B$1*'대병-평학-합천(직)'!X16, -2) -> 2200 | P25: =ROUND(기준!$B$1*'대병-평학-합천(직)'!X17, -2) -> 2000 | Q25: =ROUND(기준!$B$1*'대병-평학-합천(직)'!X18, -2) -> 1800 | R25: =ROUND(기준!$B$1*'대병-평학-합천(직)'!X19, -2) -> 1600 | W25: (가호리) | X25: 테마파크 | Y25: 1.4 | Z25: =Y25+Z26 -> 2.9 | AA25: =Z25+AA27 -> 11.1
A26: =ROUND(기준!$B$1*Y2, -2) -> 7300 | B26: =ROUND(기준!$B$1*Y3, -2) -> 6700 | C26: =ROUND(기준!$B$1*Y4, -2) -> 6600 | D26: =ROUND(기준!$B$1*Y5, -2) -> 6400 | E26: =ROUND(기준!$B$1*'대병-평학-합천(직)'!Y6, -2) -> 6000 | F26: =ROUND(기준!$B$1*'대병-평학-합천(직)'!Y7, -2) -> 5500 | G26: =ROUND(기준!$B$1*'대병-평학-합천(직)'!Y8, -2) -> 5300 | H26: =ROUND(기준!$B$1*'대병-평학-합천(직)'!Y9, -2) -> 5100 | I26: =ROUND(기준!$B$1*'대병-평학-합천(직)'!Y10, -2) -> 4800 | J26: =ROUND(기준!$B$1*'대병-평학-합천(직)'!Y11, -2) -> 4400 | K26: =ROUND(기준!$B$1*'대병-평학-합천(직)'!Y12, -2) -> 4200 | L26: =ROUND(기준!$B$1*'대병-평학-합천(직)'!Y13, -2) -> 3800 | M26: =ROUND(기준!$B$1*'대병-평학-합천(직)'!Y14, -2) -> 3500 | N26: =ROUND(기준!$B$1*'대병-평학-합천(직)'!Y15, -2) -> 3100 | O26: =ROUND(기준!$B$1*'대병-평학-합천(직)'!Y16, -2) -> 2400 | P26: =ROUND(기준!$B$1*'대병-평학-합천(직)'!Y17, -2) -> 2200 | Q26: =ROUND(기준!$B$1*'대병-평학-합천(직)'!Y18, -2) -> 2000 | R26: =ROUND(기준!$B$1*'대병-평학-합천(직)'!Y19, -2) -> 1800 | S26: 1450 | X26: 수련원 | Y26: 봉기 | Z26: 1.5 | AA26: =Z26+AA27 -> 9.7
A27: =ROUND(기준!$B$1*Z2, -2) -> 7500 | B27: =ROUND(기준!$B$1*Z3, -2) -> 7000 | C27: =ROUND(기준!$B$1*Z4, -2) -> 6900 | D27: =ROUND(기준!$B$1*Z5, -2) -> 6600 | E27: =ROUND(기준!$B$1*Z6, -2) -> 6300 | F27: =ROUND(기준!$B$1*'대병-평학-합천(직)'!Z7, -2) -> 5700 | G27: =ROUND(기준!$B$1*'대병-평학-합천(직)'!Z8, -2) -> 5500 | H27: =ROUND(기준!$B$1*'대병-평학-합천(직)'!Z9, -2) -> 5300 | I27: =ROUND(기준!$B$1*'대병-평학-합천(직)'!Z10, -2) -> 5000 | J27: =ROUND(기준!$B$1*'대병-평학-합천(직)'!Z11, -2) -> 4600 | K27: =ROUND(기준!$B$1*'대병-평학-합천(직)'!Z12, -2) -> 4500 | L27: =ROUND(기준!$B$1*'대병-평학-합천(직)'!Z13, -2) -> 4000 | M27: =ROUND(기준!$B$1*'대병-평학-합천(직)'!Z14, -2) -> 3700 | N27: =ROUND(기준!$B$1*'대병-평학-합천(직)'!Z15, -2) -> 3300 | O27: =ROUND(기준!$B$1*'대병-평학-합천(직)'!Z16, -2) -> 2600 | P27: =ROUND(기준!$B$1*'대병-평학-합천(직)'!Z17, -2) -> 2400 | Q27: =ROUND(기준!$B$1*'대병-평학-합천(직)'!Z18, -2) -> 2200 | R27: =ROUND(기준!$B$1*'대병-평학-합천(직)'!Z19, -2) -> 2100 | S27: =ROUND(기준!$B$1*'대병-평학-합천(직)'!Z20, -2) -> 1600 | T27: 1450 | U27: 1450 | V27: 1450 | W27: 1450 | X27: 1450 | Z27: 고품 | AA27: 8.2
A28: 5800 | B28: 4800 | C28: 4700 | D28: 4400 | E28: 4100 | F28: 3600 | G28: 3400 | H28: 3200 | I28: 3100 | J28: =ROUND(기준!$B$1*'대병-평학-합천(직)'!AA11, -2) -> 5800 | K28: =ROUND(기준!$B$1*'대병-평학-합천(직)'!AA12, -2) -> 5700 | L28: =ROUND(기준!$B$1*'대병-평학-합천(직)'!AA13, -2) -> 5200 | M28: =ROUND(기준!$B$1*'대병-평학-합천(직)'!AA14, -2) -> 4900 | N28: =ROUND(기준!$B$1*'대병-평학-합천(직)'!AA15, -2) -> 4500 | O28: =ROUND(기준!$B$1*'대병-평학-합천(직)'!AA16, -2) -> 3800 | P28: =ROUND(기준!$B$1*'대병-평학-합천(직)'!AA17, -2) -> 3600 | Q28: =ROUND(기준!$B$1*'대병-평학-합천(직)'!AA18, -2) -> 3400 | R28: =ROUND(기준!$B$1*'대병-평학-합천(직)'!AA19, -2) -> 3300 | S28: =ROUND(기준!$B$1*'대병-평학-합천(직)'!AA20, -2) -> 2800 | T28: =ROUND(기준!$B$1*'대병-평학-합천(직)'!AA21, -2) -> 2700 | U28: =ROUND(기준!$B$1*'대병-평학-합천(직)'!AA22, -2) -> 2400 | V28: =ROUND(기준!$B$1*'대병-평학-합천(직)'!AA23, -2) -> 2000 | W28: =ROUND(기준!$B$1*AA24, -2) -> 1800 | X28: =ROUND(기준!$B$1*AA25, -2) -> 1600 | Y28: 1450 | AA28: 합천

Sheet 거창-(노곡)-평학-합천
A1: 거창 - 노곡 - 대병 - 평학 - 합천
A2: 거창 | B2: 3.8 | C2: =B2+C3 -> 4.5 | D2: =C2+D4 -> 6.4 | E2: =D2+E5 -> 8.6 | F2: =E2+F6 -> 12.6 | G2: =F2+G7 -> 14 | H2: =G2+H8 -> 15.4 | I2: =H2+I9 -> 17.3 | J2: =I2+J10 -> 20 | K2: =J2+K11 -> 21 | L2: =K2+L12 -> 24.2 | M2: =L2+M13 -> 26.7 | N2: =L2+N13 -> 26.3 | O2: =N2+O15 -> 29 | P2: =O2+P16 -> 33.5 | Q2: =P2+Q17 -> 35 | R2: =Q2+R18 -> 36.5 | S2: =R2+S19 -> 37.5 | T2: =S2+T20 -> 40.6 | U2: =T2+U21 -> 41.2 | V2: =U2+V22 -> 43.1 | W2: =V2+W23 -> 46.1 | X2: =W2+X24 -> 47.5 | Y2: =X2+Y25 -> 48.8 | Z2: =Y2+Z26 -> 50.2 | AA2: =Z2+AA27 -> 51.7 | AB2: =AA2+AB28 -> 59.9
A3: 국농소 | B3: 양곡 | C3: 0.7 | D3: =C3+D4 -> 2.6 | E3: =D3+E5 -> 4.8 | F3: =E3+F6 -> 8.8 | G3: =F3+G7 -> 10.2 | H3: =G3+H8 -> 11.6 | I3: =H3+I9 -> 13.5 | J3: =I3+J10 -> 16.2 | K3: =J3+K11 -> 17.2 | L3: =K3+L12 -> 20.4 | M3: =L3+M13 -> 22.9 | N3: =L3+N13 -> 22.5 | O3: =N3+O15 -> 25.2 | P3: =O3+P16 -> 29.7 | Q3: =P3+Q17 -> 31.2 | R3: =Q3+R18 -> 32.7 | S3: =R3+S19 -> 33.7 | T3: =S3+T20 -> 36.8 | U3: =T3+U21 -> 37.4 | V3: =U3+V22 -> 39.3 | W3: =V3+W23 -> 42.3 | X3: =W3+X24 -> 43.7 | Y3: =X3+Y25 -> 45 | Z3: =Y3+Z26 -> 46.4 | AA3: =Z3+AA27 -> 47.9 | AB3: =AA3+AB28 -> 56.1
C4: 남하 | D4: 1.9 | E4: =D4+E5 -> 4.1 | F4: =E4+F6 -> 8.1 | G4: =F4+G7 -> 9.5 | H4: =G4+H8 -> 10.9 | I4: =H4+I9 -> 12.8 | J4: =I4+J10 -> 15.5 | K4: =J4+K11 -> 16.5 | L4: =K4+L12 -> 19.7 | M4: =L4+M13 -> 22.2 | N4: =L4+N13 -> 21.8 | O4: =N4+O15 -> 24.5 | P4: =O4+P16 -> 29 | Q4: =P4+Q17 -> 30.5 | R4: =Q4+R18 -> 32 | S4: =R4+S19 -> 33 | T4: =S4+T20 -> 36.1 | U4: =T4+U21 -> 36.7 | V4: =U4+V22 -> 38.6 | W4: =V4+W23 -> 41.6 | X4: =W4+X24 -> 43 | Y4: =X4+Y25 -> 44.3 | Z4: =Y4+Z26 -> 45.7 | AA4: =Z4+AA27 -> 47.2 | AB4: =AA4+AB28 -> 55.4
D5: 산포 | E5: 2.2 | F5: =E5+F6 -> 6.2 | G5: =F5+G7 -> 7.6 | H5: =G5+H8 -> 9 | I5: =H5+I9 -> 10.9 | J5: =I5+J10 -> 13.6 | K5: =J5+K11 -> 14.6 | L5: =K5+L12 -> 17.8 | M5: =L5+M13 -> 20.3 | N5: =L5+N13 -> 19.9 | O5: =N5+O15 -> 22.6 | P5: =O5+P16 -> 27.1 | Q5: =P5+Q17 -> 28.6 | R5: =Q5+R18 -> 30.1 | S5: =R5+S19 -> 31.1 | T5: =S5+T20 -> 34.2 | U5: =T5+U21 -> 34.8 | V5: =U5+V22 -> 36.7 | W5: =V5+W23 -> 39.7 | X5: =W5+X24 -> 41.1 | Y5: =X5+Y25 -> 42.4 | Z5: =Y5+Z26 -> 43.8 | AA5: =Z5+AA27 -> 45.3 | AB5: =AA5+AB28 -> 53.5
A6: 1450 | E6: 대야 | F6: 4 | G6: =F6+G7 -> 5.4 | H6: =G6+H8 -> 6.8 | I6: =H6+I9 -> 8.7 | J6: =I6+J10 -> 11.4 | K6: =J6+K11 -> 12.4 | L6: =K6+L12 -> 15.6 | M6: =L6+M13 -> 18.1 | N6: =L6+N13 -> 17.7 | O6: =N6+O15 -> 20.4 | P6: =O6+P16 -> 24.9 | Q6: =P6+Q17 -> 26.4 | R6: =Q6+R18 -> 27.9 | S6: =R6+S19 -> 28.9 | T6: =S6+T20 -> 32 | U6: =T6+U21 -> 32.6 | V6: =U6+V22 -> 34.5 | W6: =V6+W23 -> 37.5 | X6: =W6+X24 -> 38.9 | Y6: =X6+Y25 -> 40.2 | Z6: =Y6+Z26 -> 41.6 | AA6: =Z6+AA27 -> 43.1 | AB6: =AA6+AB28 -> 51.3
A7: =ROUND(기준!$B$1*F2, -2) -> 1800 | F7: 가천교 | G7: 1.4 | H7: =G7+H8 -> 2.8 | I7: =H7+I9 -> 4.7 | J7: =I7+J10 -> 7.4 | K7: =J7+K11 -> 8.4 | L7: =K7+L12 -> 11.6 | M7: =L7+M13 -> 14.1 | N7: =L7+N13 -> 13.7 | O7: =N7+O15 -> 16.4 | P7: =O7+P16 -> 20.9 | Q7: =P7+Q17 -> 22.4 | R7: =Q7+R18 -> 23.9 | S7: =R7+S19 -> 24.9 | T7: =S7+T20 -> 28 | U7: =T7+U21 -> 28.6 | V7: =U7+V22 -> 30.5 | W7: =V7+W23 -> 33.5 | X7: =W7+X24 -> 34.9 | Y7: =X7+Y25 -> 36.2 | Z7: =Y7+Z26 -> 37.6 | AA7: =Z7+AA27 -> 39.1 | AB7: =AA7+AB28 -> 47.3
A8: =ROUND(기준!$B$1*G2, -2) -> 2000 | B8: 1450 | G8: 상현휴게 | H8: 1.4 | I8: =H8+I9 -> 3.3 | J8: =I8+J10 -> 6 | K8: =J8+K11 -> 7 | L8: =K8+L12 -> 10.2 | M8: =L8+M13 -> 12.7 | N8: =L8+N13 -> 12.3 | O8: =N8+O15 -> 15 | P8: =O8+P16 -> 19.5 | Q8: =P8+Q17 -> 21 | R8: =Q8+R18 -> 22.5 | S8: =R8+S19 -> 23.5 | T8: =S8+T20 -> 26.6 | U8: =T8+U21 -> 27.2 | V8: =U8+V22 -> 29.1 | W8: =V8+W23 -> 32.1 | X8: =W8+X24 -> 33.5 | Y8: =X8+Y25 -> 34.8 | Z8: =Y8+Z26 -> 36.2 | AA8: =Z8+AA27 -> 37.7 | AB8: =AA8+AB28 -> 45.9
A9: =ROUND(기준!$B$1*H2, -2) -> 2200 | B9: =ROUND(기준!$B$1*H3, -2) -> 1700 | C9: 1450 | F9: (상현마을입구) | H9: 부자정 | I9: 1.9 | J9: =I9+J10 -> 4.6 | K9: =J9+K11 -> 5.6 | L9: =K9+L12 -> 8.8 | M9: =L9+M13 -> 11.3 | N9: =L9+N13 -> 10.9 | O9: =N9+O15 -> 13.6 | P9: =O9+P16 -> 18.1 | Q9: =P9+Q17 -> 19.6 | R9: =Q9+R18 -> 21.1 | S9: =R9+S19 -> 22.1 | T9: =S9+T20 -> 25.2 | U9: =T9+U21 -> 25.8 | V9: =U9+V22 -> 27.7 | W9: =V9+W23 -> 30.7 | X9: =W9+X24 -> 32.1 | Y9: =X9+Y25 -> 33.4 | Z9: =Y9+Z26 -> 34.8 | AA9: =Z9+AA27 -> 36.3 | AB9: =AA9+AB28 -> 44.5
A10: =ROUND(기준!$B$1*I2, -2) -> 2500 | B10: =ROUND(기준!$B$1*I3, -2) -> 2000 | C10: =ROUND(기준!$B$1*I4, -2) -> 1900 | D10: 1450 | E10: 1450 | I10: 봉산 | J10: 2.7 | K10: =J10+K11 -> 3.7 | L10: =K10+L12 -> 6.9 | M10: =L10+M13 -> 9.4 | N10: =L10+N13 -> 9 | O10: =N10+O15 -> 11.7 | P10: =O10+P16 -> 16.2 | Q10: =P10+Q17 -> 17.7 | R10: =Q10+R18 -> 19.2 | S10: =R10+S19 -> 20.2 | T10: =S10+T20 -> 23.3 | U10: =T10+U21 -> 23.9 | V10: =U10+V22 -> 25.8 | W10: =V10+W23 -> 28.8 | X10: =W10+X24 -> 30.2 | Y10: =X10+Y25 -> 31.5 | Z10: =Y10+Z26 -> 32.9 | AA10: =Z10+AA27 -> 34.4 | AB10: =AA10+AB28 -> 42.6
A11: =ROUND(기준!$B$1*'거창-(노곡)-평학-합천'!J2, -2) -> 2900 | B11: =ROUND(기준!$B$1*'거창-(노곡)-평학-합천'!J3, -2) -> 2400 | C11: =ROUND(기준!$B$1*'거창-(노곡)-평학-합천'!J4, -2) -> 2300 | D11: =ROUND(기준!$B$1*'거창-(노곡)-평학-합천'!J5, -2) -> 2000 | E11: =ROUND(기준!$B$1*'거창-(노곡)-평학-합천'!J6, -2) -> 1700 | J11: 거안 | K11: 1 | L11: =K11+L12 -> 4.2 | M11: =L11+M13 -> 6.7 | N11: =L11+N13 -> 6.3 | O11: =N11+O15 -> 9 | P11: =O11+P16 -> 13.5 | Q11: =P11+Q17 -> 15 | R11: =Q11+R18 -> 16.5 | S11: =R11+S19 -> 17.5 | T11: =S11+T20 -> 20.6 | U11: =T11+U21 -> 21.2 | V11: =U11+V22 -> 23.1 | W11: =V11+W23 -> 26.1 | X11: =W11+X24 -> 27.5 | Y11: =X11+Y25 -> 28.8 | Z11: =Y11+Z26 -> 30.2 | AA11: =Z11+AA27 -> 31.7 | AB11: =AA11+AB28 -> 39.9
A12: =ROUND(기준!$B$1*'거창-(노곡)-평학-합천'!K2, -2) -> 3100 | B12: =ROUND(기준!$B$1*'거창-(노곡)-평학-합천'!K3, -2) -> 2500 | C12: =ROUND(기준!$B$1*'거창-(노곡)-평학-합천'!K4, -2) -> 2400 | D12: =ROUND(기준!$B$1*'거창-(노곡)-평학-합천'!K5, -2) -> 2100 | E12: =ROUND(기준!$B$1*'거창-(노곡)-평학-합천'!K6, -2) -> 1800 | F12: 1450 | K12: 고삼 | L12: 3.2 | M12: =L12+M13 -> 5.7 | N12: =L12+N13 -> 5.3 | O12: =N12+O15 -> 8 | P12: =O12+P16 -> 12.5 | Q12: =P12+Q17 -> 14 | R12: =Q12+R18 -> 15.5 | S12: =R12+S19 -> 16.5 | T12: =S12+T20 -> 19.6 | U12: =T12+U21 -> 20.2 | V12: =U12+V22 -> 22.1 | W12: =V12+W23 -> 25.1 | X12: =W12+X24 -> 26.5 | Y12: =X12+Y25 -> 27.8 | Z12: =Y12+Z26 -> 29.2 | AA12: =Z12+AA27 -> 30.7 | AB12: =AA12+AB28 -> 38.9
A13: =ROUND(기준!$B$1*'거창-(노곡)-평학-합천'!L2, -2) -> 3500 | B13: =ROUND(기준!$B$1*'거창-(노곡)-평학-합천'!L3, -2) -> 3000 | C13: =ROUND(기준!$B$1*'거창-(노곡)-평학-합천'!L4, -2) -> 2900 | D13: =ROUND(기준!$B$1*'거창-(노곡)-평학-합천'!L5, -2) -> 2600 | E13: =ROUND(기준!$B$1*'거창-(노곡)-평학-합천'!L6, -2) -> 2300 | F13: =ROUND(기준!$B$1*'거창-(노곡)-평학-합천'!L7, -2) -> 1700 | G13: 1450 | H13: 1450 | L13: 양지 | M13: 2.5 | N13: 2.1 | O13: =N13+O15 -> 4.8 | P13: =O13+P16 -> 9.3 | Q13: =P13+Q17 -> 10.8 | R13: =Q13+R18 -> 12.3 | S13: =R13+S19 -> 13.3 | T13: =S13+T20 -> 16.4 | U13: =T13+U21 -> 17 | V13: =U13+V22 -> 18.9 | W13: =V13+W23 -> 21.9 | X13: =W13+X24 -> 23.3 | Y13: =X13+Y25 -> 24.6 | Z13: =Y13+Z26 -> 26 | AA13: =Z13+AA27 -> 27.5 | AB13: =AA13+AB28 -> 35.7
A14: =ROUND(기준!$B$1*M2, -2) -> 3900 | B14: =ROUND(기준!$B$1*'거창-(노곡)-평학-합천'!M3, -2) -> 3300 | C14: =ROUND(기준!$B$1*'거창-(노곡)-평학-합천'!M4, -2) -> 3200 | D14: =ROUND(기준!$B$1*'거창-(노곡)-평학-합천'!M5, -2) -> 3000 | E14: =ROUND(기준!$B$1*'거창-(노곡)-평학-합천'!M6, -2) -> 2600 | F14: =ROUND(기준!$B$1*'거창-(노곡)-평학-합천'!M7, -2) -> 2000 | G14: =ROUND(기준!$B$1*'거창-(노곡)-평학-합천'!M8, -2) -> 1800 | H14: =ROUND(기준!$B$1*'거창-(노곡)-평학-합천'!M9, -2) -> 1600 | M14: 노곡 | N14: 4 | O14: =N14+O15 -> 6.7 | P14: =O14+P16 -> 11.2 | Q14: =P14+Q17 -> 12.7 | R14: =Q14+R18 -> 14.2 | S14: =R14+S19 -> 15.2 | T14: =S14+T20 -> 18.3 | U14: =T14+U21 -> 18.9 | V14: =U14+V22 -> 20.8 | W14: =V14+W23 -> 23.8 | X14: =W14+X24 -> 25.2 | Y14: =X14+Y25 -> 26.5 | Z14: =Y14+Z26 -> 27.9 | AA14: =Z14+AA27 -> 29.4 | AB14: =AA14+AB28 -> 37.6
A15: =ROUND(기준!$B$1*'거창-(노곡)-평학-합천'!N2, -2) -> 3800 | B15: =ROUND(기준!$B$1*'거창-(노곡)-평학-합천'!N3, -2) -> 3300 | C15: =ROUND(기준!$B$1*'거창-(노곡)-평학-합천'!N4, -2) -> 3200 | D15: =ROUND(기준!$B$1*'거창-(노곡)-평학-합천'!N5, -2) -> 2900 | E15: =ROUND(기준!$B$1*'거창-(노곡)-평학-합천'!N6, -2) -> 2600 | F15: =ROUND(기준!$B$1*'거창-(노곡)-평학-합천'!N7, -2) -> 2000 | G15: =ROUND(기준!$B$1*'거창-(노곡)-평학-합천'!N8, -2) -> 1800 | H15: =ROUND(기준!$B$1*'거창-(노곡)-평학-합천'!N9, -2) -> 1600 | I15: 1450 | N15: 수다 | O15: 2.7 | P15: =O15+P16 -> 7.2 | Q15: =P15+Q17 -> 8.7 | R15: =Q15+R18 -> 10.2 | S15: =R15+S19 -> 11.2 | T15: =S15+T20 -> 14.3 | U15: =T15+U21 -> 14.9 | V15: =U15+V22 -> 16.8 | W15: =V15+W23 -> 19.8 | X15: =W15+X24 -> 21.2 | Y15: =X15+Y25 -> 22.5 | Z15: =Y15+Z26 -> 23.9 | AA15: =Z15+AA27 -> 25.4 | AB15: =AA15+AB28 -> 33.6
A16: =ROUND(기준!$B$1*'거창-(노곡)-평학-합천'!O2, -2) -> 4200 | B16: =ROUND(기준!$B$1*'거창-(노곡)-평학-합천'!O3, -2) -> 3700 | C16: =ROUND(기준!$B$1*'거창-(노곡)-평학-합천'!O4, -2) -> 3600 | D16: =ROUND(기준!$B$1*'거창-(노곡)-평학-합천'!O5, -2) -> 3300 | E16: =ROUND(기준!$B$1*'거창-(노곡)-평학-합천'!O6, -2) -> 3000 | F16: =ROUND(기준!$B$1*'거창-(노곡)-평학-합천'!O7, -2) -> 2400 | G16: =ROUND(기준!$B$1*'거창-(노곡)-평학-합천'!O8, -2) -> 2200 | H16: =ROUND(기준!$B$1*'거창-(노곡)-평학-합천'!O9, -2) -> 2000 | I16: =ROUND(기준!$B$1*'거창-(노곡)-평학-합천'!O10, -2) -> 1700 | J16: 1450 | K16: 1450 | M16: 1450 | O16: 술곡 | P16: 4.5 | Q16: =P16+Q17 -> 6 | R16: =Q16+R18 -> 7.5 | S16: =R16+S19 -> 8.5 | T16: =S16+T20 -> 11.6 | U16: =T16+U21 -> 12.2 | V16: =U16+V22 -> 14.1 | W16: =V16+W23 -> 17.1 | X16: =W16+X24 -> 18.5 | Y16: =X16+Y25 -> 19.8 | Z16: =Y16+Z26 -> 21.2 | AA16: =Z16+AA27 -> 22.7 | AB16: =AA16+AB28 -> 30.9
A17: =ROUND(기준!$B$1*'거창-(노곡)-평학-합천'!P2, -2) -> 4900 | B17: =ROUND(기준!$B$1*'거창-(노곡)-평학-합천'!P3, -2) -> 4300 | C17: =ROUND(기준!$B$1*'거창-(노곡)-평학-합천'!P4, -2) -> 4200 | D17: =ROUND(기준!$B$1*'거창-(노곡)-평학-합천'!P5, -2) -> 3900 | E17: =ROUND(기준!$B$1*'거창-(노곡)-평학-합천'!P6, -2) -> 3600 | F17: =ROUND(기준!$B$1*'거창-(노곡)-평학-합천'!P7, -2) -> 3000 | G17: =ROUND(기준!$B$1*'거창-(노곡)-평학-합천'!P8, -2) -> 2800 | H17: =ROUND(기준!$B$1*'거창-(노곡)-평학-합천'!P9, -2) -> 2600 | I17: =ROUND(기준!$B$1*'거창-(노곡)-평학-합천'!P10, -2) -> 2400 | J17: =ROUND(기준!$B$1*'거창-(노곡)-평학-합천'!P11, -2) -> 2000 | K17: =ROUND(기준!$B$1*P12, -2) -> 1800 | M17: =ROUND(기준!$B$1*P14, -2) -> 1600 | P17: 역평 | Q17: 1.5 | R17: =Q17+R18 -> 3 | S17: =R17+S19 -> 4 | T17: =S17+T20 -> 7.1 | U17: =T17+U21 -> 7.7 | V17: =U17+V22 -> 9.6 | W17: =V17+W23 -> 12.6 | X17: =W17+X24 -> 14 | Y17: =X17+Y25 -> 15.3 | Z17: =Y17+Z26 -> 16.7 | AA17: =Z17+AA27 -> 18.2 | AB17: =AA17+AB28 -> 26.4
A18: =ROUND(기준!$B$1*'거창-(노곡)-평학-합천'!Q2, -2) -> 5100 | B18: =ROUND(기준!$B$1*'거창-(노곡)-평학-합천'!Q3, -2) -> 4500 | C18: =ROUND(기준!$B$1*'거창-(노곡)-평학-합천'!Q4, -2) -> 4400 | D18: =ROUND(기준!$B$1*'거창-(노곡)-평학-합천'!Q5, -2) -> 4200 | E18: =ROUND(기준!$B$1*'거창-(노곡)-평학-합천'!Q6, -2) -> 3800 | F18: =ROUND(기준!$B$1*'거창-(노곡)-평학-합천'!Q7, -2) -> 3300 | G18: =ROUND(기준!$B$1*'거창-(노곡)-평학-합천'!Q8, -2) -> 3100 | H18: =ROUND(기준!$B$1*'거창-(노곡)-평학-합천'!Q9, -2) -> 2800 | I18: =ROUND(기준!$B$1*'거창-(노곡)-평학-합천'!Q10, -2) -> 2600 | J18: =ROUND(기준!$B$1*'거창-(노곡)-평학-합천'!Q11, -2) -> 2200 | K18: =ROUND(기준!$B$1*'거창-(노곡)-평학-합천'!Q12, -2) -> 2000 | L18: 1450 | M18: =ROUND(기준!$B$1*Q14, -2) -> 1800 | Q18: 무학사 | R18: 1.5 | S18: =R18+S19 -> 2.5 | T18: =S18+T20 -> 5.6 | U18: =T18+U21 -> 6.2 | V18: =U18+V22 -> 8.1 | W18: =V18+W23 -> 11.1 | X18: =W18+X24 -> 12.5 | Y18: =X18+Y25 -> 13.8 | Z18: =Y18+Z26 -> 15.2 | AA18: =Z18+AA27 -> 16.7 | AB18: =AA18+AB28 -> 24.9
A19: =ROUND(기준!$B$1*'거창-(노곡)-평학-합천'!R2, -2) -> 5300 | B19: =ROUND(기준!$B$1*'거창-(노곡)-평학-합천'!R3, -2) -> 4800 | C19: =ROUND(기준!$B$1*'거창-(노곡)-평학-합천'!R4, -2) -> 4700 | D19: =ROUND(기준!$B$1*'거창-(노곡)-평학-합천'!R5, -2) -> 4400 | E19: =ROUND(기준!$B$1*'거창-(노곡)-평학-합천'!R6, -2) -> 4100 | F19: =ROUND(기준!$B$1*'거창-(노곡)-평학-합천'!R7, -2) -> 3500 | G19: =ROUND(기준!$B$1*'거창-(노곡)-평학-합천'!R8, -2) -> 3300 | H19: =ROUND(기준!$B$1*'거창-(노곡)-평학-합천'!R9, -2) -> 3100 | I19: =ROUND(기준!$B$1*'거창-(노곡)-평학-합천'!R10, -2) -> 2800 | J19: =ROUND(기준!$B$1*'거창-(노곡)-평학-합천'!R11, -2) -> 2400 | K19: =ROUND(기준!$B$1*'거창-(노곡)-평학-합천'!R12, -2) -> 2300 | L19: =ROUND(기준!$B$1*'거창-(노곡)-평학-합천'!R13, -2) -> 1800 | M19: =ROUND(기준!$B$1*R14, -2) -> 2100 | N19: 1450 | R19: 유전 | S19: 1 | T19: =S19+T20 -> 4.1 | U19: =T19+U21 -> 4.7 | V19: =U19+V22 -> 6.6 | W19: =V19+W23 -> 9.6 | X19: =W19+X24 -> 11 | Y19: =X19+Y25 -> 12.3 | Z19: =Y19+Z26 -> 13.7 | AA19: =Z19+AA27 -> 15.2 | AB19: =AA19+AB28 -> 23.4
A20: =ROUND(기준!$B$1*S2, -2) -> 5400 | B20: =ROUND(기준!$B$1*'거창-(노곡)-평학-합천'!S3, -2) -> 4900 | C20: =ROUND(기준!$B$1*'거창-(노곡)-평학-합천'!S4, -2) -> 4800 | D20: =ROUND(기준!$B$1*'거창-(노곡)-평학-합천'!S5, -2) -> 4500 | E20: =ROUND(기준!$B$1*'거창-(노곡)-평학-합천'!S6, -2) -> 4200 | F20: =ROUND(기준!$B$1*'거창-(노곡)-평학-합천'!S7, -2) -> 3600 | G20: =ROUND(기준!$B$1*'거창-(노곡)-평학-합천'!S8, -2) -> 3400 | H20: =ROUND(기준!$B$1*'거창-(노곡)-평학-합천'!S9, -2) -> 3200 | I20: =ROUND(기준!$B$1*'거창-(노곡)-평학-합천'!S10, -2) -> 2900 | J20: =ROUND(기준!$B$1*'거창-(노곡)-평학-합천'!S11, -2) -> 2500 | K20: =ROUND(기준!$B$1*'거창-(노곡)-평학-합천'!S12, -2) -> 2400 | L20: =ROUND(기준!$B$1*'거창-(노곡)-평학-합천'!S13, -2) -> 1900 | M20: =ROUND(기준!$B$1*'거창-(노곡)-평학-합천'!S14, -2) -> 2200 | N20: =ROUND(기준!$B$1*'거창-(노곡)-평학-합천'!S15, -2) -> 1600 | O20: 1450 | S20: 하금 | T20: 3.1 | U20: =T20+U21 -> 3.7 | V20: =U20+V22 -> 5.6 | W20: =V20+W23 -> 8.6 | X20: =W20+X24 -> 10 | Y20: =X20+Y25 -> 11.3 | Z20: =Y20+Z26 -> 12.7 | AA20: =Z20+AA27 -> 14.2 | AB20: =AA20+AB28 -> 22.4
A21: =ROUND(기준!$B$1*T2, -2) -> 5900 | B21: =ROUND(기준!$B$1*'거창-(노곡)-평학-합천'!T3, -2) -> 5300 | C21: =ROUND(기준!$B$1*'거창-(노곡)-평학-합천'!T4, -2) -> 5200 | D21: =ROUND(기준!$B$1*'거창-(노곡)-평학-합천'!T5, -2) -> 5000 | E21: =ROUND(기준!$B$1*'거창-(노곡)-평학-합천'!T6, -2) -> 4700 | F21: =ROUND(기준!$B$1*'거창-(노곡)-평학-합천'!T7, -2) -> 4100 | G21: =ROUND(기준!$B$1*'거창-(노곡)-평학-합천'!T8, -2) -> 3900 | H21: =ROUND(기준!$B$1*'거창-(노곡)-평학-합천'!T9, -2) -> 3700 | I21: =ROUND(기준!$B$1*'거창-(노곡)-평학-합천'!T10, -2) -> 3400 | J21: =ROUND(기준!$B$1*'거창-(노곡)-평학-합천'!T11, -2) -> 3000 | K21: =ROUND(기준!$B$1*'거창-(노곡)-평학-합천'!T12, -2) -> 2800 | L21: =ROUND(기준!$B$1*'거창-(노곡)-평학-합천'!T13, -2) -> 2400 | M21: =ROUND(기준!$B$1*'거창-(노곡)-평학-합천'!T14, -2) -> 2700 | N21: =ROUND(기준!$B$1*'거창-(노곡)-평학-합천'!T15, -2) -> 2100 | O21: =ROUND(기준!$B$1*'거창-(노곡)-평학-합천'!T16, -2) -> 1700 | T21: 대병 | U21: 0.6 | V21: =U21+V22 -> 2.5 | W21: =V21+W23 -> 5.5 | X21: =W21+X24 -> 6.9 | Y21: =X21+Y25 -> 8.2 | Z21: =Y21+Z26 -> 9.6 | AA21: =Z21+AA27 -> 11.1 | AB21: =AA21+AB28 -> 19.3
A22: =ROUND(기준!$B$1*U2, -2) -> 6000 | B22: =ROUND(기준!$B$1*'거창-(노곡)-평학-합천'!U3, -2) -> 5400 | C22: =ROUND(기준!$B$1*'거창-(노곡)-평학-합천'!U4, -2) -> 5300 | D22: =ROUND(기준!$B$1*'거창-(노곡)-평학-합천'!U5, -2) -> 5100 | E22: =ROUND(기준!$B$1*'거창-(노곡)-평학-합천'!U6, -2) -> 4700 | F22: =ROUND(기준!$B$1*'거창-(노곡)-평학-합천'!U7, -2) -> 4200 | G22: =ROUND(기준!$B$1*'거창-(노곡)-평학-합천'!U8, -2) -> 4000 | H22: =ROUND(기준!$B$1*'거창-(노곡)-평학-합천'!U9, -2) -> 3700 | I22: =ROUND(기준!$B$1*'거창-(노곡)-평학-합천'!U10, -2) -> 3500 | J22: =ROUND(기준!$B$1*'거창-(노곡)-평학-합천'!U11, -2) -> 3100 | K22: =ROUND(기준!$B$1*'거창-(노곡)-평학-합천'!U12, -2) -> 2900 | L22: =ROUND(기준!$B$1*'거창-(노곡)-평학-합천'!U13, -2) -> 2500 | M22: =ROUND(기준!$B$1*'거창-(노곡)-평학-합천'!U14, -2) -> 2700 | N22: =ROUND(기준!$B$1*'거창-(노곡)-평학-합천'!U15, -2) -> 2200 | O22: =ROUND(기준!$B$1*'거창-(노곡)-평학-합천'!U16, -2) -> 1800 | U22: 회양 | V22: 1.9 | W22: =V22+W23 -> 4.9 | X22: =W22+X24 -> 6.3 | Y22: =X22+Y25 -> 7.6 | Z22: =Y22+Z26 -> 9 | AA22: =Z22+AA27 -> 10.5 | AB22: =AA22+AB28 -> 18.7
A23: =ROUND(기준!$B$1*V2, -2) -> 6300 | B23: =ROUND(기준!$B$1*'거창-(노곡)-평학-합천'!V3, -2) -> 5700 | C23: =ROUND(기준!$B$1*'거창-(노곡)-평학-합천'!V4, -2) -> 5600 | D23: =ROUND(기준!$B$1*'거창-(노곡)-평학-합천'!V5, -2) -> 5300 | E23: =ROUND(기준!$B$1*'거창-(노곡)-평학-합천'!V6, -2) -> 5000 | F23: =ROUND(기준!$B$1*'거창-(노곡)-평학-합천'!V7, -2) -> 4400 | G23: =ROUND(기준!$B$1*'거창-(노곡)-평학-합천'!V8, -2) -> 4200 | H23: =ROUND(기준!$B$1*'거창-(노곡)-평학-합천'!V9, -2) -> 4000 | I23: =ROUND(기준!$B$1*'거창-(노곡)-평학-합천'!V10, -2) -> 3700 | J23: =ROUND(기준!$B$1*'거창-(노곡)-평학-합천'!V11, -2) -> 3400 | K23: =ROUND(기준!$B$1*'거창-(노곡)-평학-합천'!V12, -2) -> 3200 | L23: =ROUND(기준!$B$1*'거창-(노곡)-평학-합천'!V13, -2) -> 2700 | M23: =ROUND(기준!$B$1*'거창-(노곡)-평학-합천'!V14, -2) -> 3000 | N23: =ROUND(기준!$B$1*'거창-(노곡)-평학-합천'!V15, -2) -> 2400 | O23: =ROUND(기준!$B$1*'거창-(노곡)-평학-합천'!V16, -2) -> 2000 | P23: 1450 | Q23: 1450 | U23: 월정 | V23: 합천댐 | W23: 3 | X23: =W23+X24 -> 4.4 | Y23: =X23+Y25 -> 5.7 | Z23: =Y23+Z26 -> 7.1 | AA23: =Z23+AA27 -> 8.6 | AB23: =AA23+AB28 -> 16.8
A24: =ROUND(기준!$B$1*W2, -2) -> 6700 | B24: =ROUND(기준!$B$1*'거창-(노곡)-평학-합천'!W3, -2) -> 6100 | C24: =ROUND(기준!$B$1*'거창-(노곡)-평학-합천'!W4, -2) -> 6000 | D24: =ROUND(기준!$B$1*'거창-(노곡)-평학-합천'!W5, -2) -> 5800 | E24: =ROUND(기준!$B$1*'거창-(노곡)-평학-합천'!W6, -2) -> 5400 | F24: =ROUND(기준!$B$1*'거창-(노곡)-평학-합천'!W7, -2) -> 4900 | G24: =ROUND(기준!$B$1*'거창-(노곡)-평학-합천'!W8, -2) -> 4700 | H24: =ROUND(기준!$B$1*'거창-(노곡)-평학-합천'!W9, -2) -> 4500 | I24: =ROUND(기준!$B$1*'거창-(노곡)-평학-합천'!W10, -2) -> 4200 | J24: =ROUND(기준!$B$1*'거창-(노곡)-평학-합천'!W11, -2) -> 3800 | K24: =ROUND(기준!$B$1*'거창-(노곡)-평학-합천'!W12, -2) -> 3600 | L24: =ROUND(기준!$B$1*'거창-(노곡)-평학-합천'!W13, -2) -> 3200 | M24: =ROUND(기준!$B$1*'거창-(노곡)-평학-합천'!W14, -2) -> 3500 | N24: =ROUND(기준!$B$1*'거창-(노곡)-평학-합천'!W15, -2) -> 2900 | O24: =ROUND(기준!$B$1*'거창-(노곡)-평학-합천'!W16, -2) -> 2500 | P24: =ROUND(기준!$B$1*'거창-(노곡)-평학-합천'!W17, -2) -> 1800 | Q24: =ROUND(기준!$B$1*'거창-(노곡)-평학-합천'!W18, -2) -> 1600 | R24: 1450 | W24: 평학 | X24: 1.4 | Y24: =X24+Y25 -> 2.7 | Z24: =Y24+Z26 -> 4.1 | AA24: =Z24+AA27 -> 5.6 | AB24: =AA24+AB28 -> 13.8
A25: =ROUND(기준!$B$1*X2, -2) -> 6900 | B25: =ROUND(기준!$B$1*X3, -2) -> 6400 | C25: =ROUND(기준!$B$1*'거창-(노곡)-평학-합천'!X4, -2) -> 6200 | D25: =ROUND(기준!$B$1*'거창-(노곡)-평학-합천'!X5, -2) -> 6000 | E25: =ROUND(기준!$B$1*'거창-(노곡)-평학-합천'!X6, -2) -> 5700 | F25: =ROUND(기준!$B$1*'거창-(노곡)-평학-합천'!X7, -2) -> 5100 | G25: =ROUND(기준!$B$1*'거창-(노곡)-평학-합천'!X8, -2) -> 4900 | H25: =ROUND(기준!$B$1*'거창-(노곡)-평학-합천'!X9, -2) -> 4700 | I25: =ROUND(기준!$B$1*'거창-(노곡)-평학-합천'!X10, -2) -> 4400 | J25: =ROUND(기준!$B$1*'거창-(노곡)-평학-합천'!X11, -2) -> 4000 | K25: =ROUND(기준!$B$1*'거창-(노곡)-평학-합천'!X12, -2) -> 3900 | L25: =ROUND(기준!$B$1*'거창-(노곡)-평학-합천'!X13, -2) -> 3400 | M25: =ROUND(기준!$B$1*'거창-(노곡)-평학-합천'!X14, -2) -> 3700 | N25: =ROUND(기준!$B$1*'거창-(노곡)-평학-합천'!X15, -2) -> 3100 | O25: =ROUND(기준!$B$1*'거창-(노곡)-평학-합천'!X16, -2) -> 2700 | P25: =ROUND(기준!$B$1*'거창-(노곡)-평학-합천'!X17, -2) -> 2000 | Q25: =ROUND(기준!$B$1*'거창-(노곡)-평학-합천'!X18, -2) -> 1800 | R25: =ROUND(기준!$B$1*'거창-(노곡)-평학-합천'!X19, -2) -> 1600 | S25: 1450 | X25: 용문정 | Y25: 1.3 | Z25: =Y25+Z26 -> 2.7 | AA25: =Z25+AA27 -> 4.2 | AB25: =AA25+AB28 -> 12.4
A26: =ROUND(기준!$B$1*Y2, -2) -> 7100 | B26: =ROUND(기준!$B$1*Y3, -2) -> 6500 | C26: =ROUND(기준!$B$1*Y4, -2) -> 6400 | D26: =ROUND(기준!$B$1*'거창-(노곡)-평학-합천'!Y5, -2) -> 6200 | E26: =ROUND(기준!$B$1*'거창-(노곡)-평학-합천'!Y6, -2) -> 5800 | F26: =ROUND(기준!$B$1*'거창-(노곡)-평학-합천'!Y7, -2) -> 5300 | G26: =ROUND(기준!$B$1*'거창-(노곡)-평학-합천'!Y8, -2) -> 5100 | H26: =ROUND(기준!$B$1*'거창-(노곡)-평학-합천'!Y9, -2) -> 4900 | I26: =ROUND(기준!$B$1*'거창-(노곡)-평학-합천'!Y10, -2) -> 4600 | J26: =ROUND(기준!$B$1*'거창-(노곡)-평학-합천'!Y11, -2) -> 4200 | K26: =ROUND(기준!$B$1*'거창-(노곡)-평학-합천'!Y12, -2) -> 4000 | L26: =ROUND(기준!$B$1*'거창-(노곡)-평학-합천'!Y13, -2) -> 3600 | M26: =ROUND(기준!$B$1*'거창-(노곡)-평학-합천'!Y14, -2) -> 3900 | N26: =ROUND(기준!$B$1*'거창-(노곡)-평학-합천'!Y15, -2) -> 3300 | O26: =ROUND(기준!$B$1*'거창-(노곡)-평학-합천'!Y16, -2) -> 2900 | P26: =ROUND(기준!$B$1*'거창-(노곡)-평학-합천'!Y17, -2) -> 2200 | Q26: =ROUND(기준!$B$1*'거창-(노곡)-평학-합천'!Y18, -2) -> 2000 | R26: =ROUND(기준!$B$1*'거창-(노곡)-평학-합천'!Y19, -2) -> 1800 | S26: =ROUND(기준!$B$1*'거창-(노곡)-평학-합천'!Y20, -2) -> 1600 | X26: 테마파크 | Y26: 가호리 | Z26: 1.4 | AA26: =Z26+AA27 -> 2.9 | AB26: =AA26+AB28 -> 11.1
A27: =ROUND(기준!$B$1*Z2, -2) -> 7300 | B27: =ROUND(기준!$B$1*Z3, -2) -> 6700 | C27: =ROUND(기준!$B$1*Z4, -2) -> 6600 | D27: =ROUND(기준!$B$1*Z5, -2) -> 6400 | E27: =ROUND(기준!$B$1*'거창-(노곡)-평학-합천'!Z6, -2) -> 6000 | F27: =ROUND(기준!$B$1*'거창-(노곡)-평학-합천'!Z7, -2) -> 5500 | G27: =ROUND(기준!$B$1*'거창-(노곡)-평학-합천'!Z8, -2) -> 5300 | H27: =ROUND(기준!$B$1*'거창-(노곡)-평학-합천'!Z9, -2) -> 5100 | I27: =ROUND(기준!$B$1*'거창-(노곡)-평학-합천'!Z10, -2) -> 4800 | J27: =ROUND(기준!$B$1*'거창-(노곡)-평학-합천'!Z11, -2) -> 4400 | K27: =ROUND(기준!$B$1*'거창-(노곡)-평학-합천'!Z12, -2) -> 4200 | L27: =ROUND(기준!$B$1*'거창-(노곡)-평학-합천'!Z13, -2) -> 3800 | M27: =ROUND(기준!$B$1*'거창-(노곡)-평학-합천'!Z14, -2) -> 4100 | N27: =ROUND(기준!$B$1*'거창-(노곡)-평학-합천'!Z15, -2) -> 3500 | O27: =ROUND(기준!$B$1*'거창-(노곡)-평학-합천'!Z16, -2) -> 3100 | P27: =ROUND(기준!$B$1*'거창-(노곡)-평학-합천'!Z17, -2) -> 2400 | Q27: =ROUND(기준!$B$1*'거창-(노곡)-평학-합천'!Z18, -2) -> 2200 | R27: =ROUND(기준!$B$1*'거창-(노곡)-평학-합천'!Z19, -2) -> 2000 | S27: =ROUND(기준!$B$1*'거창-(노곡)-평학-합천'!Z20, -2) -> 1800 | T27: 1450 | Y27: 수련원 | Z27: 봉기 | AA27: 1.5 | AB27: =AA27+AB28 -> 9.7
A28: =ROUND(기준!$B$1*AA2, -2) -> 7500 | B28: =ROUND(기준!$B$1*AA3, -2) -> 7000 | C28: =ROUND(기준!$B$1*AA4, -2) -> 6900 | D28: =ROUND(기준!$B$1*AA5, -2) -> 6600 | E28: =ROUND(기준!$B$1*AA6, -2) -> 6300 | F28: =ROUND(기준!$B$1*'거창-(노곡)-평학-합천'!AA7, -2) -> 5700 | G28: =ROUND(기준!$B$1*'거창-(노곡)-평학-합천'!AA8, -2) -> 5500 | H28: =ROUND(기준!$B$1*'거창-(노곡)-평학-합천'!AA9, -2) -> 5300 | I28: =ROUND(기준!$B$1*'거창-(노곡)-평학-합천'!AA10, -2) -> 5000 | J28: =ROUND(기준!$B$1*'거창-(노곡)-평학-합천'!AA11, -2) -> 4600 | K28: =ROUND(기준!$B$1*'거창-(노곡)-평학-합천'!AA12, -2) -> 4500 | L28: =ROUND(기준!$B$1*'거창-(노곡)-평학-합천'!AA13, -2) -> 4000 | M28: =ROUND(기준!$B$1*'거창-(노곡)-평학-합천'!AA14, -2) -> 4300 | N28: =ROUND(기준!$B$1*'거창-(노곡)-평학-합천'!AA15, -2) -> 3700 | O28: =ROUND(기준!$B$1*'거창-(노곡)-평학-합천'!AA16, -2) -> 3300 | P28: =ROUND(기준!$B$1*'거창-(노곡)-평학-합천'!AA17, -2) -> 2600 | Q28: =ROUND(기준!$B$1*'거창-(노곡)-평학-합천'!AA18, -2) -> 2400 | R28: =ROUND(기준!$B$1*'거창-(노곡)-평학-합천'!AA19, -2) -> 2200 | S28: =ROUND(기준!$B$1*'거창-(노곡)-평학-합천'!AA20, -2) -> 2100 | T28: =ROUND(기준!$B$1*'거창-(노곡)-평학-합천'!AA21, -2) -> 1600 | U28: 1450 | V28: 1450 | W28: 1450 | X28: 1450 | Y28: 1450 | AA28: 고품 | AB28: 8.2
A29: 5800 | B29: 4800 | C29: 4700 | D29: 4400 | E29: 4100 | F29: 3600 | G29: 3400 | H29: 3200 | I29: 3100 | J29: =ROUND(기준!$B$1*'거창-(노곡)-평학-합천'!AB11, -2) -> 5800 | K29: =ROUND(기준!$B$1*'거창-(노곡)-평학-합천'!AB12, -2) -> 5700 | L29: =ROUND(기준!$B$1*'거창-(노곡)-평학-합천'!AB13, -2) -> 5200 | M29: =ROUND(기준!$B$1*'거창-(노곡)-평학-합천'!AB14, -2) -> 5500 | N29: =ROUND(기준!$B$1*'거창-(노곡)-평학-합천'!AB15, -2) -> 4900 | O29: =ROUND(기준!$B$1*'거창-(노곡)-평학-합천'!AB16, -2) -> 4500 | P29: =ROUND(기준!$B$1*'거창-(노곡)-평학-합천'!AB17, -2) -> 3800 | Q29: =ROUND(기준!$B$1*'거창-(노곡)-평학-합천'!AB18, -2) -> 3600 | R29: =ROUND(기준!$B$1*'거창-(노곡)-평학-합천'!AB19, -2) -> 3400 | S29: =ROUND(기준!$B$1*'거창-(노곡)-평학-합천'!AB20, -2) -> 3300 | T29: =ROUND(기준!$B$1*'거창-(노곡)-평학-합천'!AB21, -2) -> 2800 | U29: =ROUND(기준!$B$1*'거창-(노곡)-평학-합천'!AB22, -2) -> 2700 | V29: =ROUND(기준!$B$1*'거창-(노곡)-평학-합천'!AB23, -2) -> 2400 | W29: =ROUND(기준!$B$1*'거창-(노곡)-평학-합천'!AB24, -2) -> 2000 | X29: =ROUND(기준!$B$1*AB25, -2) -> 1800 | Y29: =ROUND(기준!$B$1*AB26, -2) -> 1600 | Z29: 1450 | AB29: 합천

Sheet 거창-대병-용주-합천
A1: 거창 - 대병 - 용주 - 합천
A2: 거창 | B2: 3.8 | C2: =B2+C3 -> 4.5 | D2: =C2+D4 -> 6.4 | E2: =D2+E5 -> 8.6 | F2: =E2+F6 -> 12.6 | G2: =F2+G7 -> 14 | H2: =G2+H8 -> 15.4 | I2: =H2+I9 -> 17.3 | J2: =I2+J10 -> 20 | K2: =J2+K11 -> 21 | L2: =K2+L12 -> 24.2 | M2: =L2+M13 -> 26.3 | N2: =M2+N14 -> 29 | O2: =N2+O15 -> 33.5 | P2: =O2+P16 -> 35 | Q2: =P2+Q17 -> 36.5 | R2: =Q2+R18 -> 37.5 | S2: =R2+S19 -> 40.6 | T2: =S2+T20 -> 41.6 | U2: =T2+U21 -> 43.3 | V2: =U2+V22 -> 45.3 | W2: =V2+W23 -> 47.3 | X2: =W2+X24 -> 48.4 | Y2: =X2+Y25 -> 52.3 | Z2: =Y2+Z26 -> 54.5 | AA2: =Z2+AA27 -> 56.8 | AB2: =AA2+AB28 -> 57.7 | AC2: =AB2+AC29 -> 59.5 | AD2: =AC2+AD30 -> 61.8 | AE2: =AD2+AE31 -> 63.8 | AF2: =AE2+AF32 -> 66.4
A3: 국농소 | B3: 양곡 | C3: 0.7 | D3: =C3+D4 -> 2.6 | E3: =D3+E5 -> 4.8 | F3: =E3+F6 -> 8.8 | G3: =F3+G7 -> 10.2 | H3: =G3+H8 -> 11.6 | I3: =H3+I9 -> 13.5 | J3: =I3+J10 -> 16.2 | K3: =J3+K11 -> 17.2 | L3: =K3+L12 -> 20.4 | M3: =L3+M13 -> 22.5 | N3: =M3+N14 -> 25.2 | O3: =N3+O15 -> 29.7 | P3: =O3+P16 -> 31.2 | Q3: =P3+Q17 -> 32.7 | R3: =Q3+R18 -> 33.7 | S3: =R3+S19 -> 36.8 | T3: =S3+T20 -> 37.8 | U3: =T3+U21 -> 39.5 | V3: =U3+V22 -> 41.5 | W3: =V3+W23 -> 43.5 | X3: =W3+X24 -> 44.6 | Y3: =X3+Y25 -> 48.5 | Z3: =Y3+Z26 -> 50.7 | AA3: =Z3+AA27 -> 53 | AB3: =AA3+AB28 -> 53.9 | AC3: =AB3+AC29 -> 55.7 | AD3: =AC3+AD30 -> 58 | AE3: =AD3+AE31 -> 60 | AF3: =AE3+AF32 -> 62.6
C4: 남하 | D4: 1.9 | E4: =D4+E5 -> 4.1 | F4: =E4+F6 -> 8.1 | G4: =F4+G7 -> 9.5 | H4: =G4+H8 -> 10.9 | I4: =H4+I9 -> 12.8 | J4: =I4+J10 -> 15.5 | K4: =J4+K11 -> 16.5 | L4: =K4+L12 -> 19.7 | M4: =L4+M13 -> 21.8 | N4: =M4+N14 -> 24.5 | O4: =N4+O15 -> 29 | P4: =O4+P16 -> 30.5 | Q4: =P4+Q17 -> 32 | R4: =Q4+R18 -> 33 | S4: =R4+S19 -> 36.1 | T4: =S4+T20 -> 37.1 | U4: =T4+U21 -> 38.8 | V4: =U4+V22 -> 40.8 | W4: =V4+W23 -> 42.8 | X4: =W4+X24 -> 43.9 | Y4: =X4+Y25 -> 47.8 | Z4: =Y4+Z26 -> 50 | AA4: =Z4+AA27 -> 52.3 | AB4: =AA4+AB28 -> 53.2 | AC4: =AB4+AC29 -> 55 | AD4: =AC4+AD30 -> 57.3 | AE4: =AD4+AE31 -> 59.3 | AF4: =AE4+AF32 -> 61.9
D5: 산포 | E5: 2.2 | F5: =E5+F6 -> 6.2 | G5: =F5+G7 -> 7.6 | H5: =G5+H8 -> 9 | I5: =H5+I9 -> 10.9 | J5: =I5+J10 -> 13.6 | K5: =J5+K11 -> 14.6 | L5: =K5+L12 -> 17.8 | M5: =L5+M13 -> 19.9 | N5: =M5+N14 -> 22.6 | O5: =N5+O15 -> 27.1 | P5: =O5+P16 -> 28.6 | Q5: =P5+Q17 -> 30.1 | R5: =Q5+R18 -> 31.1 | S5: =R5+S19 -> 34.2 | T5: =S5+T20 -> 35.2 | U5: =T5+U21 -> 36.9 | V5: =U5+V22 -> 38.9 | W5: =V5+W23 -> 40.9 | X5: =W5+X24 -> 42 | Y5: =X5+Y25 -> 45.9 | Z5: =Y5+Z26 -> 48.1 | AA5: =Z5+AA27 -> 50.4 | AB5: =AA5+AB28 -> 51.3 | AC5: =AB5+AC29 -> 53.1 | AD5: =AC5+AD30 -> 55.4 | AE5: =AD5+AE31 -> 57.4 | AF5: =AE5+AF32 -> 60
A6: 1450 | E6: 대야 | F6: 4 | G6: =F6+G7 -> 5.4 | H6: =G6+H8 -> 6.8 | I6: =H6+I9 -> 8.7 | J6: =I6+J10 -> 11.4 | K6: =J6+K11 -> 12.4 | L6: =K6+L12 -> 15.6 | M6: =L6+M13 -> 17.7 | N6: =M6+N14 -> 20.4 | O6: =N6+O15 -> 24.9 | P6: =O6+P16 -> 26.4 | Q6: =P6+Q17 -> 27.9 | R6: =Q6+R18 -> 28.9 | S6: =R6+S19 -> 32 | T6: =S6+T20 -> 33 | U6: =T6+U21 -> 34.7 | V6: =U6+V22 -> 36.7 | W6: =V6+W23 -> 38.7 | X6: =W6+X24 -> 39.8 | Y6: =X6+Y25 -> 43.7 | Z6: =Y6+Z26 -> 45.9 | AA6: =Z6+AA27 -> 48.2 | AB6: =AA6+AB28 -> 49.1 | AC6: =AB6+AC29 -> 50.9 | AD6: =AC6+AD30 -> 53.2 | AE6: =AD6+AE31 -> 55.2 | AF6: =AE6+AF32 -> 57.8
A7: =ROUND(기준!$B$1*F2, -2) -> 1800 | F7: 가천교 | G7: 1.4 | H7: =G7+H8 -> 2.8 | I7: =H7+I9 -> 4.7 | J7: =I7+J10 -> 7.4 | K7: =J7+K11 -> 8.4 | L7: =K7+L12 -> 11.6 | M7: =L7+M13 -> 13.7 | N7: =M7+N14 -> 16.4 | O7: =N7+O15 -> 20.9 | P7: =O7+P16 -> 22.4 | Q7: =P7+Q17 -> 23.9 | R7: =Q7+R18 -> 24.9 | S7: =R7+S19 -> 28 | T7: =S7+T20 -> 29 | U7: =T7+U21 -> 30.7 | V7: =U7+V22 -> 32.7 | W7: =V7+W23 -> 34.7 | X7: =W7+X24 -> 35.8 | Y7: =X7+Y25 -> 39.7 | Z7: =Y7+Z26 -> 41.9 | AA7: =Z7+AA27 -> 44.2 | AB7: =AA7+AB28 -> 45.1 | AC7: =AB7+AC29 -> 46.9 | AD7: =AC7+AD30 -> 49.2 | AE7: =AD7+AE31 -> 51.2 | AF7: =AE7+AF32 -> 53.8
A8: =ROUND(기준!$B$1*G2, -2) -> 2000 | B8: 1450 | G8: 상현휴게 | H8: 1.4 | I8: =H8+I9 -> 3.3 | J8: =I8+J10 -> 6 | K8: =J8+K11 -> 7 | L8: =K8+L12 -> 10.2 | M8: =L8+M13 -> 12.3 | N8: =M8+N14 -> 15 | O8: =N8+O15 -> 19.5 | P8: =O8+P16 -> 21 | Q8: =P8+Q17 -> 22.5 | R8: =Q8+R18 -> 23.5 | S8: =R8+S19 -> 26.6 | T8: =S8+T20 -> 27.6 | U8: =T8+U21 -> 29.3 | V8: =U8+V22 -> 31.3 | W8: =V8+W23 -> 33.3 | X8: =W8+X24 -> 34.4 | Y8: =X8+Y25 -> 38.3 | Z8: =Y8+Z26 -> 40.5 | AA8: =Z8+AA27 -> 42.8 | AB8: =AA8+AB28 -> 43.7 | AC8: =AB8+AC29 -> 45.5 | AD8: =AC8+AD30 -> 47.8 | AE8: =AD8+AE31 -> 49.8 | AF8: =AE8+AF32 -> 52.4
A9: =ROUND(기준!$B$1*H2, -2) -> 2200 | B9: =ROUND(기준!$B$1*H3, -2) -> 1700 | C9: 1450 | F9: (상현마을입구) | H9: 부자정 | I9: 1.9 | J9: =I9+J10 -> 4.6 | K9: =J9+K11 -> 5.6 | L9: =K9+L12 -> 8.8 | M9: =L9+M13 -> 10.9 | N9: =M9+N14 -> 13.6 | O9: =N9+O15 -> 18.1 | P9: =O9+P16 -> 19.6 | Q9: =P9+Q17 -> 21.1 | R9: =Q9+R18 -> 22.1 | S9: =R9+S19 -> 25.2 | T9: =S9+T20 -> 26.2 | U9: =T9+U21 -> 27.9 | V9: =U9+V22 -> 29.9 | W9: =V9+W23 -> 31.9 | X9: =W9+X24 -> 33 | Y9: =X9+Y25 -> 36.9 | Z9: =Y9+Z26 -> 39.1 | AA9: =Z9+AA27 -> 41.4 | AB9: =AA9+AB28 -> 42.3 | AC9: =AB9+AC29 -> 44.1 | AD9: =AC9+AD30 -> 46.4 | AE9: =AD9+AE31 -> 48.4 | AF9: =AE9+AF32 -> 51
A10: =ROUND(기준!$B$1*I2, -2) -> 2500 | B10: =ROUND(기준!$B$1*I3, -2) -> 2000 | C10: =ROUND(기준!$B$1*I4, -2) -> 1900 | D10: 1450 | E10: 1450 | I10: 봉산 | J10: 2.7 | K10: =J10+K11 -> 3.7 | L10: =K10+L12 -> 6.9 | M10: =L10+M13 -> 9 | N10: =M10+N14 -> 11.7 | O10: =N10+O15 -> 16.2 | P10: =O10+P16 -> 17.7 | Q10: =P10+Q17 -> 19.2 | R10: =Q10+R18 -> 20.2 | S10: =R10+S19 -> 23.3 | T10: =S10+T20 -> 24.3 | U10: =T10+U21 -> 26 | V10: =U10+V22 -> 28 | W10: =V10+W23 -> 30 | X10: =W10+X24 -> 31.1 | Y10: =X10+Y25 -> 35 | Z10: =Y10+Z26 -> 37.2 | AA10: =Z10+AA27 -> 39.5 | AB10: =AA10+AB28 -> 40.4 | AC10: =AB10+AC29 -> 42.2 | AD10: =AC10+AD30 -> 44.5 | AE10: =AD10+AE31 -> 46.5 | AF10: =AE10+AF32 -> 49.1
A11: =ROUND(기준!$B$1*'거창-대병-용주-합천'!J2, -2) -> 2900 | B11: =ROUND(기준!$B$1*'거창-대병-용주-합천'!J3, -2) -> 2400 | C11: =ROUND(기준!$B$1*'거창-대병-용주-합천'!J4, -2) -> 2300 | D11: =ROUND(기준!$B$1*'거창-대병-용주-합천'!J5, -2) -> 2000 | E11: =ROUND(기준!$B$1*'거창-대병-용주-합천'!J6, -2) -> 1700 | J11: 거안 | K11: 1 | L11: =K11+L12 -> 4.2 | M11: =L11+M13 -> 6.3 | N11: =M11+N14 -> 9 | O11: =N11+O15 -> 13.5 | P11: =O11+P16 -> 15 | Q11: =P11+Q17 -> 16.5 | R11: =Q11+R18 -> 17.5 | S11: =R11+S19 -> 20.6 | T11: =S11+T20 -> 21.6 | U11: =T11+U21 -> 23.3 | V11: =U11+V22 -> 25.3 | W11: =V11+W23 -> 27.3 | X11: =W11+X24 -> 28.4 | Y11: =X11+Y25 -> 32.3 | Z11: =Y11+Z26 -> 34.5 | AA11: =Z11+AA27 -> 36.8 | AB11: =AA11+AB28 -> 37.7 | AC11: =AB11+AC29 -> 39.5 | AD11: =AC11+AD30 -> 41.8 | AE11: =AD11+AE31 -> 43.8 | AF11: =AE11+AF32 -> 46.4
A12: =ROUND(기준!$B$1*'거창-대병-용주-합천'!K2, -2) -> 3100 | B12: =ROUND(기준!$B$1*'거창-대병-용주-합천'!K3, -2) -> 2500 | C12: =ROUND(기준!$B$1*'거창-대병-용주-합천'!K4, -2) -> 2400 | D12: =ROUND(기준!$B$1*'거창-대병-용주-합천'!K5, -2) -> 2100 | E12: =ROUND(기준!$B$1*'거창-대병-용주-합천'!K6, -2) -> 1800 | F12: 1450 | K12: 고삼 | L12: 3.2 | M12: =L12+M13 -> 5.3 | N12: =M12+N14 -> 8 | O12: =N12+O15 -> 12.5 | P12: =O12+P16 -> 14 | Q12: =P12+Q17 -> 15.5 | R12: =Q12+R18 -> 16.5 | S12: =R12+S19 -> 19.6 | T12: =S12+T20 -> 20.6 | U12: =T12+U21 -> 22.3 | V12: =U12+V22 -> 24.3 | W12: =V12+W23 -> 26.3 | X12: =W12+X24 -> 27.4 | Y12: =X12+Y25 -> 31.3 | Z12: =Y12+Z26 -> 33.5 | AA12: =Z12+AA27 -> 35.8 | AB12: =AA12+AB28 -> 36.7 | AC12: =AB12+AC29 -> 38.5 | AD12: =AC12+AD30 -> 40.8 | AE12: =AD12+AE31 -> 42.8 | AF12: =AE12+AF32 -> 45.4
A13: =ROUND(기준!$B$1*'거창-대병-용주-합천'!L2, -2) -> 3500 | B13: =ROUND(기준!$B$1*'거창-대병-용주-합천'!L3, -2) -> 3000 | C13: =ROUND(기준!$B$1*'거창-대병-용주-합천'!L4, -2) -> 2900 | D13: =ROUND(기준!$B$1*'거창-대병-용주-합천'!L5, -2) -> 2600 | E13: =ROUND(기준!$B$1*'거창-대병-용주-합천'!L6, -2) -> 2300 | F13: =ROUND(기준!$B$1*'거창-대병-용주-합천'!L7, -2) -> 1700 | G13: 1450 | L13: 양지 | M13: 2.1 | N13: =M13+N14 -> 4.8 | O13: =N13+O15 -> 9.3 | P13: =O13+P16 -> 10.8 | Q13: =P13+Q17 -> 12.3 | R13: =Q13+R18 -> 13.3 | S13: =R13+S19 -> 16.4 | T13: =S13+T20 -> 17.4 | U13: =T13+U21 -> 19.1 | V13: =U13+V22 -> 21.1 | W13: =V13+W23 -> 23.1 | X13: =W13+X24 -> 24.2 | Y13: =X13+Y25 -> 28.1 | Z13: =Y13+Z26 -> 30.3 | AA13: =Z13+AA27 -> 32.6 | AB13: =AA13+AB28 -> 33.5 | AC13: =AB13+AC29 -> 35.3 | AD13: =AC13+AD30 -> 37.6 | AE13: =AD13+AE31 -> 39.6 | AF13: =AE13+AF32 -> 42.2
A14: =ROUND(기준!$B$1*'거창-대병-용주-합천'!M2, -2) -> 3800 | B14: =ROUND(기준!$B$1*'거창-대병-용주-합천'!M3, -2) -> 3300 | C14: =ROUND(기준!$B$1*'거창-대병-용주-합천'!M4, -2) -> 3200 | D14: =ROUND(기준!$B$1*'거창-대병-용주-합천'!M5, -2) -> 2900 | E14: =ROUND(기준!$B$1*'거창-대병-용주-합천'!M6, -2) -> 2600 | F14: =ROUND(기준!$B$1*'거창-대병-용주-합천'!M7, -2) -> 2000 | G14: =ROUND(기준!$B$1*'거창-대병-용주-합천'!M8, -2) -> 1800 | H14: 1450 | I14: 1450 | M14: 수다 | N14: 2.7 | O14: =N14+O15 -> 7.2 | P14: =O14+P16 -> 8.7 | Q14: =P14+Q17 -> 10.2 | R14: =Q14+R18 -> 11.2 | S14: =R14+S19 -> 14.3 | T14: =S14+T20 -> 15.3 | U14: =T14+U21 -> 17 | V14: =U14+V22 -> 19 | W14: =V14+W23 -> 21 | X14: =W14+X24 -> 22.1 | Y14: =X14+Y25 -> 26 | Z14: =Y14+Z26 -> 28.2 | AA14: =Z14+AA27 -> 30.5 | AB14: =AA14+AB28 -> 31.4 | AC14: =AB14+AC29 -> 33.2 | AD14: =AC14+AD30 -> 35.5 | AE14: =AD14+AE31 -> 37.5 | AF14: =AE14+AF32 -> 40.1
A15: =ROUND(기준!$B$1*'거창-대병-용주-합천'!N2, -2) -> 4200 | B15: =ROUND(기준!$B$1*'거창-대병-용주-합천'!N3, -2) -> 3700 | C15: =ROUND(기준!$B$1*'거창-대병-용주-합천'!N4, -2) -> 3600 | D15: =ROUND(기준!$B$1*'거창-대병-용주-합천'!N5, -2) -> 3300 | E15: =ROUND(기준!$B$1*'거창-대병-용주-합천'!N6, -2) -> 3000 | F15: =ROUND(기준!$B$1*'거창-대병-용주-합천'!N7, -2) -> 2400 | G15: =ROUND(기준!$B$1*'거창-대병-용주-합천'!N8, -2) -> 2200 | H15: =ROUND(기준!$B$1*'거창-대병-용주-합천'!N9, -2) -> 2000 | I15: =ROUND(기준!$B$1*'거창-대병-용주-합천'!N10, -2) -> 1700 | J15: 1450 | K15: 1450 | N15: 술곡 | O15: 4.5 | P15: =O15+P16 -> 6 | Q15: =P15+Q17 -> 7.5 | R15: =Q15+R18 -> 8.5 | S15: =R15+S19 -> 11.6 | T15: =S15+T20 -> 12.6 | U15: =T15+U21 -> 14.3 | V15: =U15+V22 -> 16.3 | W15: =V15+W23 -> 18.3 | X15: =W15+X24 -> 19.4 | Y15: =X15+Y25 -> 23.3 | Z15: =Y15+Z26 -> 25.5 | AA15: =Z15+AA27 -> 27.8 | AB15: =AA15+AB28 -> 28.7 | AC15: =AB15+AC29 -> 30.5 | AD15: =AC15+AD30 -> 32.8 | AE15: =AD15+AE31 -> 34.8 | AF15: =AE15+AF32 -> 37.4
A16: =ROUND(기준!$B$1*'거창-대병-용주-합천'!O2, -2) -> 4900 | B16: =ROUND(기준!$B$1*'거창-대병-용주-합천'!O3, -2) -> 4300 | C16: =ROUND(기준!$B$1*'거창-대병-용주-합천'!O4, -2) -> 4200 | D16: =ROUND(기준!$B$1*'거창-대병-용주-합천'!O5, -2) -> 3900 | E16: =ROUND(기준!$B$1*'거창-대병-용주-합천'!O6, -2) -> 3600 | F16: =ROUND(기준!$B$1*'거창-대병-용주-합천'!O7, -2) -> 3000 | G16: =ROUND(기준!$B$1*'거창-대병-용주-합천'!O8, -2) -> 2800 | H16: =ROUND(기준!$B$1*'거창-대병-용주-합천'!O9, -2) -> 2600 | I16: =ROUND(기준!$B$1*'거창-대병-용주-합천'!O10, -2) -> 2400 | J16: =ROUND(기준!$B$1*'거창-대병-용주-합천'!O11, -2) -> 2000 | K16: =ROUND(기준!$B$1*O12, -2) -> 1800 | O16: 역평 | P16: 1.5 | Q16: =P16+Q17 -> 3 | R16: =Q16+R18 -> 4 | S16: =R16+S19 -> 7.1 | T16: =S16+T20 -> 8.1 | U16: =T16+U21 -> 9.8 | V16: =U16+V22 -> 11.8 | W16: =V16+W23 -> 13.8 | X16: =W16+X24 -> 14.9 | Y16: =X16+Y25 -> 18.8 | Z16: =Y16+Z26 -> 21 | AA16: =Z16+AA27 -> 23.3 | AB16: =AA16+AB28 -> 24.2 | AC16: =AB16+AC29 -> 26 | AD16: =AC16+AD30 -> 28.3 | AE16: =AD16+AE31 -> 30.3 | AF16: =AE16+AF32 -> 32.9
A17: =ROUND(기준!$B$1*'거창-대병-용주-합천'!P2, -2) -> 5100 | B17: =ROUND(기준!$B$1*'거창-대병-용주-합천'!P3, -2) -> 4500 | C17: =ROUND(기준!$B$1*'거창-대병-용주-합천'!P4, -2) -> 4400 | D17: =ROUND(기준!$B$1*'거창-대병-용주-합천'!P5, -2) -> 4200 | E17: =ROUND(기준!$B$1*'거창-대병-용주-합천'!P6, -2) -> 3800 | F17: =ROUND(기준!$B$1*'거창-대병-용주-합천'!P7, -2) -> 3300 | G17: =ROUND(기준!$B$1*'거창-대병-용주-합천'!P8, -2) -> 3100 | H17: =ROUND(기준!$B$1*'거창-대병-용주-합천'!P9, -2) -> 2800 | I17: =ROUND(기준!$B$1*'거창-대병-용주-합천'!P10, -2) -> 2600 | J17: =ROUND(기준!$B$1*'거창-대병-용주-합천'!P11, -2) -> 2200 | K17: =ROUND(기준!$B$1*'거창-대병-용주-합천'!P12, -2) -> 2000 | L17: 1450 | P17: 무학사 | Q17: 1.5 | R17: =Q17+R18 -> 2.5 | S17: =R17+S19 -> 5.6 | T17: =S17+T20 -> 6.6 | U17: =T17+U21 -> 8.3 | V17: =U17+V22 -> 10.3 | W17: =V17+W23 -> 12.3 | X17: =W17+X24 -> 13.4 | Y17: =X17+Y25 -> 17.3 | Z17: =Y17+Z26 -> 19.5 | AA17: =Z17+AA27 -> 21.8 | AB17: =AA17+AB28 -> 22.7 | AC17: =AB17+AC29 -> 24.5 | AD17: =AC17+AD30 -> 26.8 | AE17: =AD17+AE31 -> 28.8 | AF17: =AE17+AF32 -> 31.4
A18: =ROUND(기준!$B$1*'거창-대병-용주-합천'!Q2, -2) -> 5300 | B18: =ROUND(기준!$B$1*'거창-대병-용주-합천'!Q3, -2) -> 4800 | C18: =ROUND(기준!$B$1*'거창-대병-용주-합천'!Q4, -2) -> 4700 | D18: =ROUND(기준!$B$1*'거창-대병-용주-합천'!Q5, -2) -> 4400 | E18: =ROUND(기준!$B$1*'거창-대병-용주-합천'!Q6, -2) -> 4100 | F18: =ROUND(기준!$B$1*'거창-대병-용주-합천'!Q7, -2) -> 3500 | G18: =ROUND(기준!$B$1*'거창-대병-용주-합천'!Q8, -2) -> 3300 | H18: =ROUND(기준!$B$1*'거창-대병-용주-합천'!Q9, -2) -> 3100 | I18: =ROUND(기준!$B$1*'거창-대병-용주-합천'!Q10, -2) -> 2800 | J18: =ROUND(기준!$B$1*'거창-대병-용주-합천'!Q11, -2) -> 2400 | K18: =ROUND(기준!$B$1*'거창-대병-용주-합천'!Q12, -2) -> 2300 | L18: =ROUND(기준!$B$1*'거창-대병-용주-합천'!Q13, -2) -> 1800 | M18: 1450 | Q18: 유전 | R18: 1 | S18: =R18+S19 -> 4.1 | T18: =S18+T20 -> 5.1 | U18: =T18+U21 -> 6.8 | V18: =U18+V22 -> 8.8 | W18: =V18+W23 -> 10.8 | X18: =W18+X24 -> 11.9 | Y18: =X18+Y25 -> 15.8 | Z18: =Y18+Z26 -> 18 | AA18: =Z18+AA27 -> 20.3 | AB18: =AA18+AB28 -> 21.2 | AC18: =AB18+AC29 -> 23 | AD18: =AC18+AD30 -> 25.3 | AE18: =AD18+AE31 -> 27.3 | AF18: =AE18+AF32 -> 29.9
A19: =ROUND(기준!$B$1*'거창-대병-용주-합천'!R2, -2) -> 5400 | B19: =ROUND(기준!$B$1*'거창-대병-용주-합천'!R3, -2) -> 4900 | C19: =ROUND(기준!$B$1*'거창-대병-용주-합천'!R4, -2) -> 4800 | D19: =ROUND(기준!$B$1*'거창-대병-용주-합천'!R5, -2) -> 4500 | E19: =ROUND(기준!$B$1*'거창-대병-용주-합천'!R6, -2) -> 4200 | F19: =ROUND(기준!$B$1*'거창-대병-용주-합천'!R7, -2) -> 3600 | G19: =ROUND(기준!$B$1*'거창-대병-용주-합천'!R8, -2) -> 3400 | H19: =ROUND(기준!$B$1*'거창-대병-용주-합천'!R9, -2) -> 3200 | I19: =ROUND(기준!$B$1*'거창-대병-용주-합천'!R10, -2) -> 2900 | J19: =ROUND(기준!$B$1*'거창-대병-용주-합천'!R11, -2) -> 2500 | K19: =ROUND(기준!$B$1*'거창-대병-용주-합천'!R12, -2) -> 2400 | L19: =ROUND(기준!$B$1*'거창-대병-용주-합천'!R13, -2) -> 1900 | M19: =ROUND(기준!$B$1*'거창-대병-용주-합천'!R14, -2) -> 1600 | N19: 1450 | R19: 하금 | S19: 3.1 | T19: =S19+T20 -> 4.1 | U19: =T19+U21 -> 5.8 | V19: =U19+V22 -> 7.8 | W19: =V19+W23 -> 9.8 | X19: =W19+X24 -> 10.9 | Y19: =X19+Y25 -> 14.8 | Z19: =Y19+Z26 -> 17 | AA19: =Z19+AA27 -> 19.3 | AB19: =AA19+AB28 -> 20.2 | AC19: =AB19+AC29 -> 22 | AD19: =AC19+AD30 -> 24.3 | AE19: =AD19+AE31 -> 26.3 | AF19: =AE19+AF32 -> 28.9
A20: =ROUND(기준!$B$1*'거창-대병-용주-합천'!S2, -2) -> 5900 | B20: =ROUND(기준!$B$1*'거창-대병-용주-합천'!S3, -2) -> 5300 | C20: =ROUND(기준!$B$1*'거창-대병-용주-합천'!S4, -2) -> 5200 | D20: =ROUND(기준!$B$1*'거창-대병-용주-합천'!S5, -2) -> 5000 | E20: =ROUND(기준!$B$1*'거창-대병-용주-합천'!S6, -2) -> 4700 | F20: =ROUND(기준!$B$1*'거창-대병-용주-합천'!S7, -2) -> 4100 | G20: =ROUND(기준!$B$1*'거창-대병-용주-합천'!S8, -2) -> 3900 | H20: =ROUND(기준!$B$1*'거창-대병-용주-합천'!S9, -2) -> 3700 | I20: =ROUND(기준!$B$1*'거창-대병-용주-합천'!S10, -2) -> 3400 | J20: =ROUND(기준!$B$1*'거창-대병-용주-합천'!S11, -2) -> 3000 | K20: =ROUND(기준!$B$1*'거창-대병-용주-합천'!S12, -2) -> 2800 | L20: =ROUND(기준!$B$1*'거창-대병-용주-합천'!S13, -2) -> 2400 | M20: =ROUND(기준!$B$1*'거창-대병-용주-합천'!S14, -2) -> 2100 | N20: =ROUND(기준!$B$1*'거창-대병-용주-합천'!S15, -2) -> 1700 | S20: 대병 | T20: 1 | U20: =T20+U21 -> 2.7 | V20: =U20+V22 -> 4.7 | W20: =V20+W23 -> 6.7 | X20: =W20+X24 -> 7.8 | Y20: =X20+Y25 -> 11.7 | Z20: =Y20+Z26 -> 13.9 | AA20: =Z20+AA27 -> 16.2 | AB20: =AA20+AB28 -> 17.1 | AC20: =AB20+AC29 -> 18.9 | AD20: =AC20+AD30 -> 21.2 | AE20: =AD20+AE31 -> 23.2 | AF20: =AE20+AF32 -> 25.8
A21: =ROUND(기준!$B$1*T2, -2) -> 6000 | B21: =ROUND(기준!$B$1*'거창-대병-용주-합천'!T3, -2) -> 5500 | C21: =ROUND(기준!$B$1*'거창-대병-용주-합천'!T4, -2) -> 5400 | D21: =ROUND(기준!$B$1*'거창-대병-용주-합천'!T5, -2) -> 5100 | E21: =ROUND(기준!$B$1*'거창-대병-용주-합천'!T6, -2) -> 4800 | F21: =ROUND(기준!$B$1*'거창-대병-용주-합천'!T7, -2) -> 4200 | G21: =ROUND(기준!$B$1*'거창-대병-용주-합천'!T8, -2) -> 4000 | H21: =ROUND(기준!$B$1*'거창-대병-용주-합천'!T9, -2) -> 3800 | I21: =ROUND(기준!$B$1*'거창-대병-용주-합천'!T10, -2) -> 3500 | J21: =ROUND(기준!$B$1*'거창-대병-용주-합천'!T11, -2) -> 3100 | K21: =ROUND(기준!$B$1*'거창-대병-용주-합천'!T12, -2) -> 3000 | L21: =ROUND(기준!$B$1*'거창-대병-용주-합천'!T13, -2) -> 2500 | M21: =ROUND(기준!$B$1*'거창-대병-용주-합천'!T14, -2) -> 2200 | N21: =ROUND(기준!$B$1*'거창-대병-용주-합천'!T15, -2) -> 1800 | T21: 주암 | U21: 1.7 | V21: =U21+V22 -> 3.7 | W21: =V21+W23 -> 5.7 | X21: =W21+X24 -> 6.8 | Y21: =X21+Y25 -> 10.7 | Z21: =Y21+Z26 -> 12.9 | AA21: =Z21+AA27 -> 15.2 | AB21: =AA21+AB28 -> 16.1 | AC21: =AB21+AC29 -> 17.9 | AD21: =AC21+AD30 -> 20.2 | AE21: =AD21+AE31 -> 22.2 | AF21: =AE21+AF32 -> 24.8
A22: =ROUND(기준!$B$1*U2, -2) -> 6300 | B22: =ROUND(기준!$B$1*'거창-대병-용주-합천'!U3, -2) -> 5700 | C22: =ROUND(기준!$B$1*'거창-대병-용주-합천'!U4, -2) -> 5600 | D22: =ROUND(기준!$B$1*'거창-대병-용주-합천'!U5, -2) -> 5400 | E22: =ROUND(기준!$B$1*'거창-대병-용주-합천'!U6, -2) -> 5000 | F22: =ROUND(기준!$B$1*'거창-대병-용주-합천'!U7, -2) -> 4500 | G22: =ROUND(기준!$B$1*'거창-대병-용주-합천'!U8, -2) -> 4300 | H22: =ROUND(기준!$B$1*'거창-대병-용주-합천'!U9, -2) -> 4100 | I22: =ROUND(기준!$B$1*'거창-대병-용주-합천'!U10, -2) -> 3800 | J22: =ROUND(기준!$B$1*'거창-대병-용주-합천'!U11, -2) -> 3400 | K22: =ROUND(기준!$B$1*'거창-대병-용주-합천'!U12, -2) -> 3200 | L22: =ROUND(기준!$B$1*'거창-대병-용주-합천'!U13, -2) -> 2800 | M22: =ROUND(기준!$B$1*'거창-대병-용주-합천'!U14, -2) -> 2500 | N22: =ROUND(기준!$B$1*'거창-대병-용주-합천'!U15, -2) -> 2100 | O22: 1450 | T22: 석장 | U22: 양리 | V22: 2 | W22: =V22+W23 -> 4 | X22: =W22+X24 -> 5.1 | Y22: =X22+Y25 -> 9 | Z22: =Y22+Z26 -> 11.2 | AA22: =Z22+AA27 -> 13.5 | AB22: =AA22+AB28 -> 14.4 | AC22: =AB22+AC29 -> 16.2 | AD22: =AC22+AD30 -> 18.5 | AE22: =AD22+AE31 -> 20.5 | AF22: =AE22+AF32 -> 23.1
A23: =ROUND(기준!$B$1*V2, -2) -> 6600 | B23: =ROUND(기준!$B$1*'거창-대병-용주-합천'!V3, -2) -> 6000 | C23: =ROUND(기준!$B$1*'거창-대병-용주-합천'!V4, -2) -> 5900 | D23: =ROUND(기준!$B$1*'거창-대병-용주-합천'!V5, -2) -> 5700 | E23: =ROUND(기준!$B$1*'거창-대병-용주-합천'!V6, -2) -> 5300 | F23: =ROUND(기준!$B$1*'거창-대병-용주-합천'!V7, -2) -> 4800 | G23: =ROUND(기준!$B$1*'거창-대병-용주-합천'!V8, -2) -> 4500 | H23: =ROUND(기준!$B$1*'거창-대병-용주-합천'!V9, -2) -> 4300 | I23: =ROUND(기준!$B$1*'거창-대병-용주-합천'!V10, -2) -> 4100 | J23: =ROUND(기준!$B$1*'거창-대병-용주-합천'!V11, -2) -> 3700 | K23: =ROUND(기준!$B$1*'거창-대병-용주-합천'!V12, -2) -> 3500 | L23: =ROUND(기준!$B$1*'거창-대병-용주-합천'!V13, -2) -> 3100 | M23: =ROUND(기준!$B$1*'거창-대병-용주-합천'!V14, -2) -> 2800 | N23: =ROUND(기준!$B$1*'거창-대병-용주-합천'!V15, -2) -> 2400 | O23: =ROUND(기준!$B$1*'거창-대병-용주-합천'!V16, -2) -> 1700 | P23: 1450 | U23: 쌍암 | V23: 장단 | W23: 2 | X23: =W23+X24 -> 3.1 | Y23: =X23+Y25 -> 7 | Z23: =Y23+Z26 -> 9.2 | AA23: =Z23+AA27 -> 11.5 | AB23: =AA23+AB28 -> 12.4 | AC23: =AB23+AC29 -> 14.2 | AD23: =AC23+AD30 -> 16.5 | AE23: =AD23+AE31 -> 18.5 | AF23: =AE23+AF32 -> 21.1
A24: =ROUND(기준!$B$1*W2, -2) -> 6900 | B24: =ROUND(기준!$B$1*W3, -2) -> 6300 | C24: =ROUND(기준!$B$1*'거창-대병-용주-합천'!W4, -2) -> 6200 | D24: =ROUND(기준!$B$1*'거창-대병-용주-합천'!W5, -2) -> 5900 | E24: =ROUND(기준!$B$1*'거창-대병-용주-합천'!W6, -2) -> 5600 | F24: =ROUND(기준!$B$1*'거창-대병-용주-합천'!W7, -2) -> 5000 | G24: =ROUND(기준!$B$1*'거창-대병-용주-합천'!W8, -2) -> 4800 | H24: =ROUND(기준!$B$1*'거창-대병-용주-합천'!W9, -2) -> 4600 | I24: =ROUND(기준!$B$1*'거창-대병-용주-합천'!W10, -2) -> 4400 | J24: =ROUND(기준!$B$1*'거창-대병-용주-합천'!W11, -2) -> 4000 | K24: =ROUND(기준!$B$1*'거창-대병-용주-합천'!W12, -2) -> 3800 | L24: =ROUND(기준!$B$1*'거창-대병-용주-합천'!W13, -2) -> 3400 | M24: =ROUND(기준!$B$1*'거창-대병-용주-합천'!W14, -2) -> 3100 | N24: =ROUND(기준!$B$1*'거창-대병-용주-합천'!W15, -2) -> 2700 | O24: =ROUND(기준!$B$1*'거창-대병-용주-합천'!W16, -2) -> 2000 | P24: =ROUND(기준!$B$1*'거창-대병-용주-합천'!W17, -2) -> 1800 | Q24: 1450 | W24: 성리1구 | X24: 1.1 | Y24: =X24+Y25 -> 5 | Z24: =Y24+Z26 -> 7.2 | AA24: =Z24+AA27 -> 9.5 | AB24: =AA24+AB28 -> 10.4 | AC24: =AB24+AC29 -> 12.2 | AD24: =AC24+AD30 -> 14.5 | AE24: =AD24+AE31 -> 16.5 | AF24: =AE24+AF32 -> 19.1
A25: =ROUND(기준!$B$1*X2, -2) -> 7000 | B25: =ROUND(기준!$B$1*X3, -2) -> 6500 | C25: =ROUND(기준!$B$1*X4, -2) -> 6400 | D25: =ROUND(기준!$B$1*'거창-대병-용주-합천'!X5, -2) -> 6100 | E25: =ROUND(기준!$B$1*'거창-대병-용주-합천'!X6, -2) -> 5800 | F25: =ROUND(기준!$B$1*'거창-대병-용주-합천'!X7, -2) -> 5200 | G25: =ROUND(기준!$B$1*'거창-대병-용주-합천'!X8, -2) -> 5000 | H25: =ROUND(기준!$B$1*'거창-대병-용주-합천'!X9, -2) -> 4800 | I25: =ROUND(기준!$B$1*'거창-대병-용주-합천'!X10, -2) -> 4500 | J25: =ROUND(기준!$B$1*'거창-대병-용주-합천'!X11, -2) -> 4100 | K25: =ROUND(기준!$B$1*'거창-대병-용주-합천'!X12, -2) -> 4000 | L25: =ROUND(기준!$B$1*'거창-대병-용주-합천'!X13, -2) -> 3500 | M25: =ROUND(기준!$B$1*'거창-대병-용주-합천'!X14, -2) -> 3200 | N25: =ROUND(기준!$B$1*'거창-대병-용주-합천'!X15, -2) -> 2800 | O25: =ROUND(기준!$B$1*'거창-대병-용주-합천'!X16, -2) -> 2200 | P25: =ROUND(기준!$B$1*'거창-대병-용주-합천'!X17, -2) -> 1900 | Q25: =ROUND(기준!$B$1*'거창-대병-용주-합천'!X18, -2) -> 1700 | R25: 1450 | S25: 1450 | X25: 성리2구 | Y25: 3.9 | Z25: =Y25+Z26 -> 6.1 | AA25: =Z25+AA27 -> 8.4 | AB25: =AA25+AB28 -> 9.3 | AC25: =AB25+AC29 -> 11.1 | AD25: =AC25+AD30 -> 13.4 | AE25: =AD25+AE31 -> 15.4 | AF25: =AE25+AF32 -> 18
A26: =ROUND(기준!$B$1*Y2, -2) -> 7600 | B26: =ROUND(기준!$B$1*Y3, -2) -> 7000 | C26: =ROUND(기준!$B$1*Y4, -2) -> 6900 | D26: =ROUND(기준!$B$1*Y5, -2) -> 6700 | E26: =ROUND(기준!$B$1*'거창-대병-용주-합천'!Y6, -2) -> 6400 | F26: =ROUND(기준!$B$1*'거창-대병-용주-합천'!Y7, -2) -> 5800 | G26: =ROUND(기준!$B$1*'거창-대병-용주-합천'!Y8, -2) -> 5600 | H26: =ROUND(기준!$B$1*'거창-대병-용주-합천'!Y9, -2) -> 5400 | I26: =ROUND(기준!$B$1*'거창-대병-용주-합천'!Y10, -2) -> 5100 | J26: =ROUND(기준!$B$1*'거창-대병-용주-합천'!Y11, -2) -> 4700 | K26: =ROUND(기준!$B$1*'거창-대병-용주-합천'!Y12, -2) -> 4500 | L26: =ROUND(기준!$B$1*'거창-대병-용주-합천'!Y13, -2) -> 4100 | M26: =ROUND(기준!$B$1*'거창-대병-용주-합천'!Y14, -2) -> 3800 | N26: =ROUND(기준!$B$1*'거창-대병-용주-합천'!Y15, -2) -> 3400 | O26: =ROUND(기준!$B$1*'거창-대병-용주-합천'!Y16, -2) -> 2700 | P26: =ROUND(기준!$B$1*'거창-대병-용주-합천'!Y17, -2) -> 2500 | Q26: =ROUND(기준!$B$1*'거창-대병-용주-합천'!Y18, -2) -> 2300 | R26: =ROUND(기준!$B$1*'거창-대병-용주-합천'!Y19, -2) -> 2200 | S26: =ROUND(기준!$B$1*'거창-대병-용주-합천'!Y20, -2) -> 1700 | T26: 1450 | U26: 1450 | Y26: 황계 | Z26: 2.2 | AA26: =Z26+AA27 -> 4.5 | AB26: =AA26+AB28 -> 5.4 | AC26: =AB26+AC29 -> 7.2 | AD26: =AC26+AD30 -> 9.5 | AE26: =AD26+AE31 -> 11.5 | AF26: =AE26+AF32 -> 14.1
A27: =ROUND(기준!$B$1*Z2, -2) -> 7900 | B27: =ROUND(기준!$B$1*Z3, -2) -> 7400 | C27: =ROUND(기준!$B$1*Z4, -2) -> 7300 | D27: =ROUND(기준!$B$1*Z5, -2) -> 7000 | E27: =ROUND(기준!$B$1*Z6, -2) -> 6700 | F27: =ROUND(기준!$B$1*'거창-대병-용주-합천'!Z7, -2) -> 6100 | G27: =ROUND(기준!$B$1*'거창-대병-용주-합천'!Z8, -2) -> 5900 | H27: =ROUND(기준!$B$1*'거창-대병-용주-합천'!Z9, -2) -> 5700 | I27: =ROUND(기준!$B$1*'거창-대병-용주-합천'!Z10, -2) -> 5400 | J27: =ROUND(기준!$B$1*'거창-대병-용주-합천'!Z11, -2) -> 5000 | K27: =ROUND(기준!$B$1*'거창-대병-용주-합천'!Z12, -2) -> 4900 | L27: =ROUND(기준!$B$1*'거창-대병-용주-합천'!Z13, -2) -> 4400 | M27: =ROUND(기준!$B$1*'거창-대병-용주-합천'!Z14, -2) -> 4100 | N27: =ROUND(기준!$B$1*'거창-대병-용주-합천'!Z15, -2) -> 3700 | O27: =ROUND(기준!$B$1*'거창-대병-용주-합천'!Z16, -2) -> 3100 | P27: =ROUND(기준!$B$1*'거창-대병-용주-합천'!Z17, -2) -> 2800 | Q27: =ROUND(기준!$B$1*'거창-대병-용주-합천'!Z18, -2) -> 2600 | R27: =ROUND(기준!$B$1*'거창-대병-용주-합천'!Z19, -2) -> 2500 | S27: =ROUND(기준!$B$1*'거창-대병-용주-합천'!Z20, -2) -> 2000 | T27: =ROUND(기준!$B$1*'거창-대병-용주-합천'!Z21, -2) -> 1900 | U27: =ROUND(기준!$B$1*'거창-대병-용주-합천'!Z22, -2) -> 1600 | V27: 1450 | Z27: 장전 | AA27: 2.3 | AB27: =AA27+AB28 -> 3.2 | AC27: =AB27+AC29 -> 5 | AD27: =AC27+AD30 -> 7.3 | AE27: =AD27+AE31 -> 9.3 | AF27: =AE27+AF32 -> 11.9
A28: =ROUND(기준!$B$1*AA2, -2) -> 8300 | B28: =ROUND(기준!$B$1*AA3, -2) -> 7700 | C28: =ROUND(기준!$B$1*AA4, -2) -> 7600 | D28: =ROUND(기준!$B$1*AA5, -2) -> 7300 | E28: =ROUND(기준!$B$1*AA6, -2) -> 7000 | F28: =ROUND(기준!$B$1*AA7, -2) -> 6400 | G28: =ROUND(기준!$B$1*'거창-대병-용주-합천'!AA8, -2) -> 6200 | H28: =ROUND(기준!$B$1*'거창-대병-용주-합천'!AA9, -2) -> 6000 | I28: =ROUND(기준!$B$1*'거창-대병-용주-합천'!AA10, -2) -> 5700 | J28: =ROUND(기준!$B$1*'거창-대병-용주-합천'!AA11, -2) -> 5300 | K28: =ROUND(기준!$B$1*'거창-대병-용주-합천'!AA12, -2) -> 5200 | L28: =ROUND(기준!$B$1*'거창-대병-용주-합천'!AA13, -2) -> 4700 | M28: =ROUND(기준!$B$1*'거창-대병-용주-합천'!AA14, -2) -> 4400 | N28: =ROUND(기준!$B$1*'거창-대병-용주-합천'!AA15, -2) -> 4000 | O28: =ROUND(기준!$B$1*'거창-대병-용주-합천'!AA16, -2) -> 3400 | P28: =ROUND(기준!$B$1*'거창-대병-용주-합천'!AA17, -2) -> 3200 | Q28: =ROUND(기준!$B$1*'거창-대병-용주-합천'!AA18, -2) -> 3000 | R28: =ROUND(기준!$B$1*'거창-대병-용주-합천'!AA19, -2) -> 2800 | S28: =ROUND(기준!$B$1*'거창-대병-용주-합천'!AA20, -2) -> 2400 | T28: =ROUND(기준!$B$1*'거창-대병-용주-합천'!AA21, -2) -> 2200 | U28: =ROUND(기준!$B$1*'거창-대병-용주-합천'!AA22, -2) -> 2000 | V28: =ROUND(기준!$B$1*'거창-대병-용주-합천'!AA23, -2) -> 1700 | AA28: 평산 | AB28: 0.9 | AC28: =AB28+AC29 -> 2.7 | AD28: =AC28+AD30 -> 5 | AE28: =AD28+AE31 -> 7 | AF28: =AE28+AF32 -> 9.6
A29: =ROUND(기준!$B$1*AB2, -2) -> 8400 | B29: =ROUND(기준!$B$1*AB3, -2) -> 7800 | C29: =ROUND(기준!$B$1*AB4, -2) -> 7700 | D29: =ROUND(기준!$B$1*AB5, -2) -> 7500 | E29: =ROUND(기준!$B$1*AB6, -2) -> 7100 | F29: =ROUND(기준!$B$1*AB7, -2) -> 6600 | G29: =ROUND(기준!$B$1*AB8, -2) -> 6400 | H29: =ROUND(기준!$B$1*'거창-대병-용주-합천'!AB9, -2) -> 6100 | I29: =ROUND(기준!$B$1*'거창-대병-용주-합천'!AB10, -2) -> 5900 | J29: =ROUND(기준!$B$1*'거창-대병-용주-합천'!AB11, -2) -> 5500 | K29: =ROUND(기준!$B$1*'거창-대병-용주-합천'!AB12, -2) -> 5300 | L29: =ROUND(기준!$B$1*'거창-대병-용주-합천'!AB13, -2) -> 4900 | M29: =ROUND(기준!$B$1*'거창-대병-용주-합천'!AB14, -2) -> 4600 | N29: =ROUND(기준!$B$1*'거창-대병-용주-합천'!AB15, -2) -> 4200 | O29: =ROUND(기준!$B$1*'거창-대병-용주-합천'!AB16, -2) -> 3500 | P29: =ROUND(기준!$B$1*'거창-대병-용주-합천'!AB17, -2) -> 3300 | Q29: =ROUND(기준!$B$1*'거창-대병-용주-합천'!AB18, -2) -> 3100 | R29: =ROUND(기준!$B$1*'거창-대병-용주-합천'!AB19, -2) -> 2900 | S29: =ROUND(기준!$B$1*'거창-대병-용주-합천'!AB20, -2) -> 2500 | T29: =ROUND(기준!$B$1*'거창-대병-용주-합천'!AB21, -2) -> 2300 | U29: =ROUND(기준!$B$1*'거창-대병-용주-합천'!AB22, -2) -> 2100 | V29: =ROUND(기준!$B$1*'거창-대병-용주-합천'!AB23, -2) -> 1800 | W29: 1450 | X29: 1450 | AB29: 해곡입구 | AC29: 1.8 | AD29: =AC29+AD30 -> 4.1 | AE29: =AD29+AE31 -> 6.1 | AF29: =AE29+AF32 -> 8.7
A30: =ROUND(기준!$B$1*AC2, -2) -> 8600 | B30: =ROUND(기준!$B$1*AC3, -2) -> 8100 | C30: =ROUND(기준!$B$1*AC4, -2) -> 8000 | D30: =ROUND(기준!$B$1*AC5, -2) -> 7700 | E30: =ROUND(기준!$B$1*AC6, -2) -> 7400 | F30: =ROUND(기준!$B$1*AC7, -2) -> 6800 | G30: =ROUND(기준!$B$1*AC8, -2) -> 6600 | H30: =ROUND(기준!$B$1*AC9, -2) -> 6400 | I30: =ROUND(기준!$B$1*'거창-대병-용주-합천'!AC10, -2) -> 6100 | J30: =ROUND(기준!$B$1*'거창-대병-용주-합천'!AC11, -2) -> 5700 | K30: =ROUND(기준!$B$1*'거창-대병-용주-합천'!AC12, -2) -> 5600 | L30: =ROUND(기준!$B$1*'거창-대병-용주-합천'!AC13, -2) -> 5100 | M30: =ROUND(기준!$B$1*'거창-대병-용주-합천'!AC14, -2) -> 4800 | N30: =ROUND(기준!$B$1*'거창-대병-용주-합천'!AC15, -2) -> 4400 | O30: =ROUND(기준!$B$1*'거창-대병-용주-합천'!AC16, -2) -> 3800 | P30: =ROUND(기준!$B$1*'거창-대병-용주-합천'!AC17, -2) -> 3600 | Q30: =ROUND(기준!$B$1*'거창-대병-용주-합천'!AC18, -2) -> 3300 | R30: =ROUND(기준!$B$1*'거창-대병-용주-합천'!AC19, -2) -> 3200 | S30: =ROUND(기준!$B$1*'거창-대병-용주-합천'!AC20, -2) -> 2700 | T30: =ROUND(기준!$B$1*'거창-대병-용주-합천'!AC21, -2) -> 2600 | U30: =ROUND(기준!$B$1*'거창-대병-용주-합천'!AC22, -2) -> 2400 | V30: =ROUND(기준!$B$1*'거창-대병-용주-합천'!AC23, -2) -> 2100 | W30: =ROUND(기준!$B$1*'거창-대병-용주-합천'!AC24, -2) -> 1800 | X30: =ROUND(기준!$B$1*'거창-대병-용주-합천'!AC25, -2) -> 1600 | AC30: 용주 | AD30: 2.3 | AE30: =AD30+AE31 -> 4.3 | AF30: =AE30+AF32 -> 6.9
A31: =ROUND(기준!$B$1*AD2, -2) -> 9000 | B31: =ROUND(기준!$B$1*AD3, -2) -> 8400 | C31: =ROUND(기준!$B$1*AD4, -2) -> 8300 | D31: =ROUND(기준!$B$1*AD5, -2) -> 8100 | E31: =ROUND(기준!$B$1*AD6, -2) -> 7700 | F31: =ROUND(기준!$B$1*AD7, -2) -> 7200 | G31: =ROUND(기준!$B$1*AD8, -2) -> 6900 | H31: =ROUND(기준!$B$1*AD9, -2) -> 6700 | I31: =ROUND(기준!$B$1*AD10, -2) -> 6500 | J31: =ROUND(기준!$B$1*'거창-대병-용주-합천'!AD11, -2) -> 6100 | K31: =ROUND(기준!$B$1*'거창-대병-용주-합천'!AD12, -2) -> 5900 | L31: =ROUND(기준!$B$1*'거창-대병-용주-합천'!AD13, -2) -> 5500 | M31: =ROUND(기준!$B$1*'거창-대병-용주-합천'!AD14, -2) -> 5200 | N31: =ROUND(기준!$B$1*'거창-대병-용주-합천'!AD15, -2) -> 4800 | O31: =ROUND(기준!$B$1*'거창-대병-용주-합천'!AD16, -2) -> 4100 | P31: =ROUND(기준!$B$1*'거창-대병-용주-합천'!AD17, -2) -> 3900 | Q31: =ROUND(기준!$B$1*'거창-대병-용주-합천'!AD18, -2) -> 3700 | R31: =ROUND(기준!$B$1*'거창-대병-용주-합천'!AD19, -2) -> 3500 | S31: =ROUND(기준!$B$1*'거창-대병-용주-합천'!AD20, -2) -> 3100 | T31: =ROUND(기준!$B$1*'거창-대병-용주-합천'!AD21, -2) -> 2900 | U31: =ROUND(기준!$B$1*'거창-대병-용주-합천'!AD22, -2) -> 2700 | V31: =ROUND(기준!$B$1*'거창-대병-용주-합천'!AD23, -2) -> 2400 | W31: =ROUND(기준!$B$1*'거창-대병-용주-합천'!AD24, -2) -> 2100 | X31: =ROUND(기준!$B$1*'거창-대병-용주-합천'!AD25, -2) -> 1900 | Y31: 1450 | AD31: 손목 | AE31: 2 | AF31: =AE31+AF32 -> 4.6
A32: =ROUND(기준!$B$1*AE2, -2) -> 9300 | B32: =ROUND(기준!$B$1*AE3, -2) -> 8700 | C32: =ROUND(기준!$B$1*AE4, -2) -> 8600 | D32: =ROUND(기준!$B$1*AE5, -2) -> 8300 | E32: =ROUND(기준!$B$1*AE6, -2) -> 8000 | F32: =ROUND(기준!$B$1*AE7, -2) -> 7400 | G32: =ROUND(기준!$B$1*AE8, -2) -> 7200 | H32: =ROUND(기준!$B$1*AE9, -2) -> 7000 | I32: =ROUND(기준!$B$1*AE10, -2) -> 6800 | J32: =ROUND(기준!$B$1*AE11, -2) -> 6400 | K32: =ROUND(기준!$B$1*'거창-대병-용주-합천'!AE12, -2) -> 6200 | L32: =ROUND(기준!$B$1*'거창-대병-용주-합천'!AE13, -2) -> 5800 | M32: =ROUND(기준!$B$1*'거창-대병-용주-합천'!AE14, -2) -> 5400 | N32: =ROUND(기준!$B$1*'거창-대병-용주-합천'!AE15, -2) -> 5100 | O32: =ROUND(기준!$B$1*'거창-대병-용주-합천'!AE16, -2) -> 4400 | P32: =ROUND(기준!$B$1*'거창-대병-용주-합천'!AE17, -2) -> 4200 | Q32: =ROUND(기준!$B$1*'거창-대병-용주-합천'!AE18, -2) -> 4000 | R32: =ROUND(기준!$B$1*'거창-대병-용주-합천'!AE19, -2) -> 3800 | S32: =ROUND(기준!$B$1*'거창-대병-용주-합천'!AE20, -2) -> 3400 | T32: =ROUND(기준!$B$1*'거창-대병-용주-합천'!AE21, -2) -> 3200 | U32: =ROUND(기준!$B$1*'거창-대병-용주-합천'!AE22, -2) -> 3000 | V32: =ROUND(기준!$B$1*'거창-대병-용주-합천'!AE23, -2) -> 2700 | W32: =ROUND(기준!$B$1*'거창-대병-용주-합천'!AE24, -2) -> 2400 | X32: =ROUND(기준!$B$1*'거창-대병-용주-합천'!AE25, -2) -> 2200 | Y32: =ROUND(기준!$B$1*'거창-대병-용주-합천'!AE26, -2) -> 1700 | Z32: 1450 | AE32: 성산 | AF32: 2.6
A33: 5800 | B33: 4800 | C33: 4700 | D33: 4400 | E33: 4100 | F33: 3600 | G33: 3400 | H33: 3200 | I33: 3100 | J33: 5300 | K33: 5100 | L33: 4700 | M33: 4400 | N33: 4100 | O33: 3500 | P33: 3300 | Q33: 3100 | R33: 3000 | S33: 2500 | T33: =ROUND(기준!$B$1*'거창-대병-용주-합천'!AF21, -2) -> 3600 | U33: =ROUND(기준!$B$1*'거창-대병-용주-합천'!AF22, -2) -> 3400 | V33: =ROUND(기준!$B$1*'거창-대병-용주-합천'!AF23, -2) -> 3100 | W33: =ROUND(기준!$B$1*'거창-대병-용주-합천'!AF24, -2) -> 2800 | X33: =ROUND(기준!$B$1*'거창-대병-용주-합천'!AF25, -2) -> 2600 | Y33: =ROUND(기준!$B$1*'거창-대병-용주-합천'!AF26, -2) -> 2000 | Z33: =ROUND(기준!$B$1*'거창-대병-용주-합천'!AF27, -2) -> 1700 | AA33: 1450 | AF33: 합천

Sheet 초계-적교-신반
A1: 합천 - 초계 - 적교 - 신반
A2: 합천 | B2: 3.3 | C2: =B2+C3 -> 4.8 | D2: =C2+D4 -> 7.5 | E2: =D2+E5 -> 8.2 | F2: =E2+F6 -> 9.5 | G2: =F2+G7 -> 12 | H2: =G2+H8 -> 13.2 | I2: =H2+I9 -> 15.2 | J2: =I2+J10 -> 16.2 | K2: =J2+K11 -> 16.7 | L2: =K2+L12 -> 19.2 | M2: =L2+M13 -> 20 | N2: =M2+N14 -> 20.8 | O2: =N2+O15 -> 22.6 | P2: =O2+P16 -> 23.3 | Q2: =P2+Q17 -> 26 | R2: =Q2+R18 -> 27.7 | S2: =R2+S19 -> 30.1 | T2: =S2+T20 -> 31.8 | U2: =T2+U21 -> 32.6 | V2: =U2+V22 -> 33.9 | W2: =V2+W23 -> 36.1
B3: 부대입구 | C3: 1.5 | D3: =C3+D4 -> 4.2 | E3: =D3+E5 -> 4.9 | F3: =E3+F6 -> 6.2 | G3: =F3+G7 -> 8.7 | H3: =G3+H8 -> 9.9 | I3: =H3+I9 -> 11.9 | J3: =I3+J10 -> 12.9 | K3: =J3+K11 -> 13.4 | L3: =K3+L12 -> 15.9 | M3: =L3+M13 -> 16.7 | N3: =M3+N14 -> 17.5 | O3: =N3+O15 -> 19.3 | P3: =O3+P16 -> 20 | Q3: =P3+Q17 -> 22.7 | R3: =Q3+R18 -> 24.4 | S3: =R3+S19 -> 26.8 | T3: =S3+T20 -> 28.5 | U3: =T3+U21 -> 29.3 | V3: =U3+V22 -> 30.6 | W3: =V3+W23 -> 32.8
C4: 문림 | D4: 2.7 | E4: =D4+E5 -> 3.4 | F4: =E4+F6 -> 4.7 | G4: =F4+G7 -> 7.2 | H4: =G4+H8 -> 8.4 | I4: =H4+I9 -> 10.4 | J4: =I4+J10 -> 11.4 | K4: =J4+K11 -> 11.9 | L4: =K4+L12 -> 14.4 | M4: =L4+M13 -> 15.2 | N4: =M4+N14 -> 16 | O4: =N4+O15 -> 17.8 | P4: =O4+P16 -> 18.5 | Q4: =P4+Q17 -> 21.2 | R4: =Q4+R18 -> 22.9 | S4: =R4+S19 -> 25.3 | T4: =S4+T20 -> 27 | U4: =T4+U21 -> 27.8 | V4: =U4+V22 -> 29.1 | W4: =V4+W23 -> 31.3
D5: 영전 | E5: 0.7 | F5: =E5+F6 -> 2 | G5: =F5+G7 -> 4.5 | H5: =G5+H8 -> 5.7 | I5: =H5+I9 -> 7.7 | J5: =I5+J10 -> 8.7 | K5: =J5+K11 -> 9.2 | L5: =K5+L12 -> 11.7 | M5: =L5+M13 -> 12.5 | N5: =M5+N14 -> 13.3 | O5: =N5+O15 -> 15.1 | P5: =O5+P16 -> 15.8 | Q5: =P5+Q17 -> 18.5 | R5: =Q5+R18 -> 20.2 | S5: =R5+S19 -> 22.6 | T5: =S5+T20 -> 24.3 | U5: =T5+U21 -> 25.1 | V5: =U5+V22 -> 26.4 | W5: =V5+W23 -> 28.6
E6: 낙민로타리 | F6: 1.3 | G6: =F6+G7 -> 3.8 | H6: =G6+H8 -> 5 | I6: =H6+I9 -> 7 | J6: =I6+J10 -> 8 | K6: =J6+K11 -> 8.5 | L6: =K6+L12 -> 11 | M6: =L6+M13 -> 11.8 | N6: =M6+N14 -> 12.6 | O6: =N6+O15 -> 14.4 | P6: =O6+P16 -> 15.1 | Q6: =P6+Q17 -> 17.8 | R6: =Q6+R18 -> 19.5 | S6: =R6+S19 -> 21.9 | T6: =S6+T20 -> 23.6 | U6: =T6+U21 -> 24.4 | V6: =U6+V22 -> 25.7 | W6: =V6+W23 -> 27.9
E7: 낙민3구 | F7: 갑산입구 | G7: 2.5 | H7: =G7+H8 -> 3.7 | I7: =H7+I9 -> 5.7 | J7: =I7+J10 -> 6.7 | K7: =J7+K11 -> 7.2 | L7: =K7+L12 -> 9.7 | M7: =L7+M13 -> 10.5 | N7: =M7+N14 -> 11.3 | O7: =N7+O15 -> 13.1 | P7: =O7+P16 -> 13.8 | Q7: =P7+Q17 -> 16.5 | R7: =Q7+R18 -> 18.2 | S7: =R7+S19 -> 20.6 | T7: =S7+T20 -> 22.3 | U7: =T7+U21 -> 23.1 | V7: =U7+V22 -> 24.4 | W7: =V7+W23 -> 26.6
G8: 중리 | H8: 1.2 | I8: =H8+I9 -> 3.2 | J8: =I8+J10 -> 4.2 | K8: =J8+K11 -> 4.7 | L8: =K8+L12 -> 7.2 | M8: =L8+M13 -> 8 | N8: =M8+N14 -> 8.8 | O8: =N8+O15 -> 10.6 | P8: =O8+P16 -> 11.3 | Q8: =P8+Q17 -> 14 | R8: =Q8+R18 -> 15.7 | S8: =R8+S19 -> 18.1 | T8: =S8+T20 -> 19.8 | U8: =T8+U21 -> 20.6 | V8: =U8+V22 -> 21.9 | W8: =V8+W23 -> 24.1
H9: 초계 | I9: 2 | J9: =I9+J10 -> 3 | K9: =J9+K11 -> 3.5 | L9: =K9+L12 -> 6 | M9: =L9+M13 -> 6.8 | N9: =M9+N14 -> 7.6 | O9: =N9+O15 -> 9.4 | P9: =O9+P16 -> 10.1 | Q9: =P9+Q17 -> 12.8 | R9: =Q9+R18 -> 14.5 | S9: =R9+S19 -> 16.9 | T9: =S9+T20 -> 18.6 | U9: =T9+U21 -> 19.4 | V9: =U9+V22 -> 20.7 | W9: =V9+W23 -> 22.9
I10: 적중 | J10: 1 | K10: =J10+K11 -> 1.5 | L10: =K10+L12 -> 4 | M10: =L10+M13 -> 4.8 | N10: =M10+N14 -> 5.6 | O10: =N10+O15 -> 7.4 | P10: =O10+P16 -> 8.1 | Q10: =P10+Q17 -> 10.8 | R10: =Q10+R18 -> 12.5 | S10: =R10+S19 -> 14.9 | T10: =S10+T20 -> 16.6 | U10: =T10+U21 -> 17.4 | V10: =U10+V22 -> 18.7 | W10: =V10+W23 -> 20.9
J11: 사거리 | K11: 0.5 | L11: =K11+L12 -> 3 | M11: =L11+M13 -> 3.8 | N11: =M11+N14 -> 4.6 | O11: =N11+O15 -> 6.4 | P11: =O11+P16 -> 7.1 | Q11: =P11+Q17 -> 9.8 | R11: =Q11+R18 -> 11.5 | S11: =R11+S19 -> 13.9 | T11: =S11+T20 -> 15.6 | U11: =T11+U21 -> 16.4 | V11: =U11+V22 -> 17.7 | W11: =V11+W23 -> 19.9
K12: 옥두 | L12: 2.5 | M12: =L12+M13 -> 3.3 | N12: =M12+N14 -> 4.1 | O12: =N12+O15 -> 5.9 | P12: =O12+P16 -> 6.6 | Q12: =P12+Q17 -> 9.3 | R12: =Q12+R18 -> 11 | S12: =R12+S19 -> 13.4 | T12: =S12+T20 -> 15.1 | U12: =T12+U21 -> 15.9 | V12: =U12+V22 -> 17.2 | W12: =V12+W23 -> 19.4
L13: 두곡학교 | M13: 0.8 | N13: =M13+N14 -> 1.6 | O13: =N13+O15 -> 3.4 | P13: =O13+P16 -> 4.1 | Q13: =P13+Q17 -> 6.8 | R13: =Q13+R18 -> 8.5 | S13: =R13+S19 -> 10.9 | T13: =S13+T20 -> 12.6 | U13: =T13+U21 -> 13.4 | V13: =U13+V22 -> 14.7 | W13: =V13+W23 -> 16.9
M14: 청덕 | N14: 0.8 | O14: =N14+O15 -> 2.6 | P14: =O14+P16 -> 3.3 | Q14: =P14+Q17 -> 6 | R14: =Q14+R18 -> 7.7 | S14: =R14+S19 -> 10.1 | T14: =S14+T20 -> 11.8 | U14: =T14+U21 -> 12.6 | V14: =U14+V22 -> 13.9 | W14: =V14+W23 -> 16.1
N15: 하회입구 | O15: 1.8 | P15: =O15+P16 -> 2.5 | Q15: =P15+Q17 -> 5.2 | R15: =Q15+R18 -> 6.9 | S15: =R15+S19 -> 9.3 | T15: =S15+T20 -> 11 | U15: =T15+U21 -> 11.8 | V15: =U15+V22 -> 13.1 | W15: =V15+W23 -> 15.3
O16: 바람재 | P16: 0.7 | Q16: =P16+Q17 -> 3.4 | R16: =Q16+R18 -> 5.1 | S16: =R16+S19 -> 7.5 | T16: =S16+T20 -> 9.2 | U16: =T16+U21 -> 10 | V16: =U16+V22 -> 11.3 | W16: =V16+W23 -> 13.5
P17: 적포 | Q17: 2.7 | R17: =Q17+R18 -> 4.4 | S17: =R17+S19 -> 6.8 | T17: =S17+T20 -> 8.5 | U17: =T17+U21 -> 9.3 | V17: =U17+V22 -> 10.6 | W17: =V17+W23 -> 12.8
Q18: 대부 | R18: 1.7 | S18: =R18+S19 -> 4.1 | T18: =S18+T20 -> 5.8 | U18: =T18+U21 -> 6.6 | V18: =U18+V22 -> 7.9 | W18: =V18+W23 -> 10.1
R19: 적교 | S19: 2.4 | T19: =S19+T20 -> 4.1 | U19: =T19+U21 -> 4.9 | V19: =U19+V22 -> 6.2 | W19: =V19+W23 -> 8.4
A20: 1000 | B20: 1000 | C20: 1000 | D20: 1000 | E20: 1000 | F20: 1000 | G20: 1000 | H20: 1000 | I20: 1000 | J20: 1000 | K20: 1000 | L20: 1000 | M20: 1000 | S20: 초곡입구 | T20: 1.7 | U20: =T20+U21 -> 2.5 | V20: =U20+V22 -> 3.8 | W20: =V20+W23 -> 6
A21: =ROUND([2]기준!$B$1*'초계-적교-신반'!T2, -2) -> 4600 | B21: =ROUND([2]기준!$B$1*'초계-적교-신반'!T3, -2) -> 4100 | C21: =ROUND([2]기준!$B$1*'초계-적교-신반'!T4, -2) -> 3900 | D21: =ROUND([2]기준!$B$1*'초계-적교-신반'!T5, -2) -> 3500 | E21: =ROUND([2]기준!$B$1*'초계-적교-신반'!T6, -2) -> 3400 | F21: =ROUND([2]기준!$B$1*'초계-적교-신반'!T7, -2) -> 3200 | G21: =ROUND([2]기준!$B$1*'초계-적교-신반'!T8, -2) -> 2900 | H21: =ROUND([2]기준!$B$1*'초계-적교-신반'!T9, -2) -> 2700 | I21: =ROUND([2]기준!$B$1*'초계-적교-신반'!T10, -2) -> 2400 | J21: =ROUND([2]기준!$B$1*'초계-적교-신반'!T11, -2) -> 2300 | K21: =ROUND([2]기준!$B$1*'초계-적교-신반'!T12, -2) -> 2200 | L21: =ROUND([2]기준!$B$1*'초계-적교-신반'!T13, -2) -> 1800 | M21: =ROUND([2]기준!$B$1*'초계-적교-신반'!T14, -2) -> 1700 | N21: 1450 | T21: 유학사입구 | U21: 0.8 | V21: =U21+V22 -> 2.1 | W21: =V21+W23 -> 4.3
A22: =ROUND([2]기준!$B$1*'초계-적교-신반'!U2, -2) -> 4700 | B22: =ROUND([2]기준!$B$1*'초계-적교-신반'!U3, -2) -> 4300 | C22: =ROUND([2]기준!$B$1*'초계-적교-신반'!U4, -2) -> 4000 | D22: =ROUND([2]기준!$B$1*'초계-적교-신반'!U5, -2) -> 3600 | E22: =ROUND([2]기준!$B$1*'초계-적교-신반'!U6, -2) -> 3500 | F22: =ROUND([2]기준!$B$1*'초계-적교-신반'!U7, -2) -> 3400 | G22: =ROUND([2]기준!$B$1*'초계-적교-신반'!U8, -2) -> 3000 | H22: =ROUND([2]기준!$B$1*'초계-적교-신반'!U9, -2) -> 2800 | I22: =ROUND([2]기준!$B$1*'초계-적교-신반'!U10, -2) -> 2500 | J22: =ROUND([2]기준!$B$1*'초계-적교-신반'!U11, -2) -> 2400 | K22: =ROUND([2]기준!$B$1*'초계-적교-신반'!U12, -2) -> 2300 | L22: =ROUND([2]기준!$B$1*'초계-적교-신반'!U13, -2) -> 1900 | M22: =ROUND([2]기준!$B$1*'초계-적교-신반'!U14, -2) -> 1800 | N22: =ROUND([2]기준!$B$1*'초계-적교-신반'!U15, -2) -> 1700 | O22: 1450 | U22: 익구입구 | V22: 1.3 | W22: =V22+W23 -> 3.5
A23: =ROUND([2]기준!$B$1*V2, -2) -> 4900 | B23: =ROUND([2]기준!$B$1*'초계-적교-신반'!V3, -2) -> 4400 | C23: =ROUND([2]기준!$B$1*'초계-적교-신반'!V4, -2) -> 4200 | D23: =ROUND([2]기준!$B$1*'초계-적교-신반'!V5, -2) -> 3800 | E23: =ROUND([2]기준!$B$1*'초계-적교-신반'!V6, -2) -> 3700 | F23: =ROUND([2]기준!$B$1*'초계-적교-신반'!V7, -2) -> 3500 | G23: =ROUND([2]기준!$B$1*'초계-적교-신반'!V8, -2) -> 3200 | H23: =ROUND([2]기준!$B$1*'초계-적교-신반'!V9, -2) -> 3000 | I23: =ROUND([2]기준!$B$1*'초계-적교-신반'!V10, -2) -> 2700 | J23: =ROUND([2]기준!$B$1*'초계-적교-신반'!V11, -2) -> 2600 | K23: =ROUND([2]기준!$B$1*'초계-적교-신반'!V12, -2) -> 2500 | L23: =ROUND([2]기준!$B$1*'초계-적교-신반'!V13, -2) -> 2100 | M23: =ROUND([2]기준!$B$1*'초계-적교-신반'!V14, -2) -> 2000 | N23: =ROUND([2]기준!$B$1*'초계-적교-신반'!V15, -2) -> 1900 | O23: =ROUND([2]기준!$B$1*'초계-적교-신반'!V16, -2) -> 1600 | P23: 1450 | V23: 옥동 | W23: 2.2
A24: 3500 | B24: =ROUND([2]기준!$B$1*W3, -2) -> 4800 | C24: =ROUND([2]기준!$B$1*'초계-적교-신반'!W4, -2) -> 4500 | D24: =ROUND([2]기준!$B$1*'초계-적교-신반'!W5, -2) -> 4200 | E24: =ROUND([2]기준!$B$1*'초계-적교-신반'!W6, -2) -> 4100 | F24: =ROUND([2]기준!$B$1*'초계-적교-신반'!W7, -2) -> 3900 | G24: =ROUND([2]기준!$B$1*'초계-적교-신반'!W8, -2) -> 3500 | H24: =ROUND([2]기준!$B$1*'초계-적교-신반'!W9, -2) -> 3300 | I24: =ROUND([2]기준!$B$1*'초계-적교-신반'!W10, -2) -> 3000 | J24: =ROUND([2]기준!$B$1*'초계-적교-신반'!W11, -2) -> 2900 | K24: =ROUND([2]기준!$B$1*'초계-적교-신반'!W12, -2) -> 2800 | L24: =ROUND([2]기준!$B$1*'초계-적교-신반'!W13, -2) -> 2500 | M24: =ROUND([2]기준!$B$1*'초계-적교-신반'!W14, -2) -> 2300 | N24: =ROUND([2]기준!$B$1*'초계-적교-신반'!W15, -2) -> 2200 | O24: =ROUND([2]기준!$B$1*'초계-적교-신반'!W16, -2) -> 2000 | P24: =ROUND([2]기준!$B$1*'초계-적교-신반'!W17, -2) -> 1900 | Q24: 1450 | W24: 신반

Sheet 봉수-신반, 방계
A1: 합천 - 봉수 - 신반
A2: 합천 | B2: 2.1 | C2: =B2+C3 -> 3.5 | D2: =C2+D4 -> 4.5 | E2: =D2+E5 -> 6.2 | F2: =E2+F6 -> 7.2 | G2: =F2+G7 -> 9.8 | H2: =G2+H8 -> 12.5 | I2: =H2+I9 -> 14.4 | J2: =I2+J10 -> 15.6 | K2: =J2+K12 -> 16.8 | L2: =K2+L13 -> 17.8 | M2: =L2+M14 -> 18.9 | N2: =M2+N15 -> 21 | O2: =N2+O16 -> 22.1 | P2: =O2+P17 -> 24.4
B3: 정양 | C3: 1.4 | D3: =C3+D4 -> 2.4 | E3: =D3+E5 -> 4.1 | F3: =E3+F6 -> 5.1 | G3: =F3+G7 -> 7.7 | H3: =G3+H8 -> 10.4 | I3: =H3+I9 -> 12.3 | J3: =I3+J10 -> 13.5 | K3: =J3+K12 -> 14.7 | L3: =K3+L13 -> 15.7 | M3: =L3+M14 -> 16.8 | N3: =M3+N15 -> 18.9 | O3: =N3+O16 -> 20 | P3: =O3+P17 -> 22.3
B4: 하회동 | C4: 아천입구 | D4: 1 | E4: =D4+E5 -> 2.7 | F4: =E4+F6 -> 3.7 | G4: =F4+G7 -> 6.3 | H4: =G4+H8 -> 9 | I4: =H4+I9 -> 10.9 | J4: =I4+J10 -> 12.1 | K4: =J4+K12 -> 13.3 | L4: =K4+L13 -> 14.3 | M4: =L4+M14 -> 15.4 | N4: =M4+N15 -> 17.5 | O4: =N4+O16 -> 18.6 | P4: =O4+P17 -> 20.9
D5: 대목 | E5: 1.7 | F5: =E5+F6 -> 2.7 | G5: =F5+G7 -> 5.3 | H5: =G5+H8 -> 8 | I5: =H5+I9 -> 9.9 | J5: =I5+J10 -> 11.1 | K5: =J5+K12 -> 12.3 | L5: =K5+L13 -> 13.3 | M5: =L5+M14 -> 14.4 | N5: =M5+N15 -> 16.5 | O5: =N5+O16 -> 17.6 | P5: =O5+P17 -> 19.9
E6: 대양 | F6: 1 | G6: =F6+G7 -> 3.6 | H6: =G6+H8 -> 6.3 | I6: =H6+I9 -> 8.2 | J6: =I6+J10 -> 9.4 | K6: =J6+K12 -> 10.6 | L6: =K6+L13 -> 11.6 | M6: =L6+M14 -> 12.7 | N6: =M6+N15 -> 14.8 | O6: =N6+O16 -> 15.9 | P6: =O6+P17 -> 18.2
F7: 남암 | G7: 2.6 | H7: =G7+H8 -> 5.3 | I7: =H7+I9 -> 7.2 | J7: =I7+J10 -> 8.4 | K7: =J7+K12 -> 9.6 | L7: =K7+L13 -> 10.6 | M7: =L7+M14 -> 11.7 | N7: =M7+N15 -> 13.8 | O7: =N7+O16 -> 14.9 | P7: =O7+P17 -> 17.2
G8: 장지입구 | H8: 2.7 | I8: =H8+I9 -> 4.6 | J8: =I8+J10 -> 5.8 | K8: =J8+K12 -> 7 | L8: =K8+L13 -> 8 | M8: =L8+M14 -> 9.1 | N8: =M8+N15 -> 11.2 | O8: =N8+O16 -> 12.3 | P8: =O8+P17 -> 14.6
H9: 백암 | I9: 1.9 | J9: =I9+J10 -> 3.1 | K9: =J9+K12 -> 4.3 | L9: =K9+L13 -> 5.3 | M9: =L9+M14 -> 6.4 | N9: =M9+N15 -> 8.5 | O9: =N9+O16 -> 9.6 | P9: =O9+P17 -> 11.9
A10: 1000 | B10: 1000 | C10: 1000 | D10: 1000 | I10: 오산(합천) | J10: 1.2 | K10: =J10+K12 -> 2.4 | L10: =K10+L13 -> 3.4 | M10: =L10+M14 -> 4.5 | N10: =M10+N15 -> 6.6 | O10: =N10+O16 -> 7.7 | P10: =O10+P17 -> 10
A11: 2100 | I11: 오산(의령)
A12: =ROUND([2]기준!$B$1*'봉수-신반, 방계'!J2, -2) -> 2300 | B12: =ROUND([2]기준!$B$1*'봉수-신반, 방계'!J3, -2) -> 2000 | C12: =ROUND([2]기준!$B$1*'봉수-신반, 방계'!J4, -2) -> 1800 | D12: =ROUND([2]기준!$B$1*'봉수-신반, 방계'!J5, -2) -> 1600 | J12: 서암 | K12: 1.2 | L12: =K12+L13 -> 2.2 | M12: =L12+M14 -> 3.3 | N12: =M12+N15 -> 5.4 | O12: =N12+O16 -> 6.5 | P12: =O12+P17 -> 8.8
A13: =ROUND([2]기준!$B$1*'봉수-신반, 방계'!K2, -2) -> 2400 | B13: =ROUND([2]기준!$B$1*K3, -2) -> 2100 | C13: =ROUND([2]기준!$B$1*'봉수-신반, 방계'!K4, -2) -> 1900 | D13: =ROUND([2]기준!$B$1*'봉수-신반, 방계'!K5, -2) -> 1800 | E13: 1450 | K13: 장유 | L13: 1 | M13: =L13+M14 -> 2.1 | N13: =M13+N15 -> 4.2 | O13: =N13+O16 -> 5.3 | P13: =O13+P17 -> 7.6
A14: =ROUND([2]기준!$B$1*'봉수-신반, 방계'!L2, -2) -> 2600 | B14: =ROUND([2]기준!$B$1*'봉수-신반, 방계'!L3, -2) -> 2300 | C14: =ROUND([2]기준!$B$1*L4, -2) -> 2100 | D14: =ROUND([2]기준!$B$1*'봉수-신반, 방계'!L5, -2) -> 1900 | E14: =ROUND([2]기준!$B$1*'봉수-신반, 방계'!L6, -2) -> 1700 | F14: 1450 | L14: 신현 | M14: 1.1 | N14: =M14+N15 -> 3.2 | O14: =N14+O16 -> 4.3 | P14: =O14+P17 -> 6.6
A15: =ROUND([2]기준!$B$1*'봉수-신반, 방계'!M2, -2) -> 2700 | B15: =ROUND([2]기준!$B$1*'봉수-신반, 방계'!M3, -2) -> 2400 | C15: =ROUND([2]기준!$B$1*'봉수-신반, 방계'!M4, -2) -> 2200 | D15: =ROUND([2]기준!$B$1*M5, -2) -> 2100 | E15: =ROUND([2]기준!$B$1*'봉수-신반, 방계'!M6, -2) -> 1800 | F15: =ROUND([2]기준!$B$1*'봉수-신반, 방계'!M7, -2) -> 1700 | G15: 1450 | M15: 봉수 | N15: 2.1 | O15: =N15+O16 -> 3.2 | P15: =O15+P17 -> 5.5
A16: =ROUND([2]기준!$B$1*'봉수-신반, 방계'!N2, -2) -> 3100 | B16: =ROUND([2]기준!$B$1*'봉수-신반, 방계'!N3, -2) -> 2700 | C16: =ROUND([2]기준!$B$1*'봉수-신반, 방계'!N4, -2) -> 2500 | D16: =ROUND([2]기준!$B$1*'봉수-신반, 방계'!N5, -2) -> 2400 | E16: =ROUND([2]기준!$B$1*N6, -2) -> 2200 | F16: =ROUND([2]기준!$B$1*'봉수-신반, 방계'!N7, -2) -> 2000 | G16: =ROUND([2]기준!$B$1*'봉수-신반, 방계'!N8, -2) -> 1600 | N16: 삼동 | O16: 1.1 | P16: =O16+P17 -> 3.4
A17: =ROUND([2]기준!$B$1*'봉수-신반, 방계'!O2, -2) -> 3200 | B17: =ROUND([2]기준!$B$1*'봉수-신반, 방계'!O3, -2) -> 2900 | C17: =ROUND([2]기준!$B$1*'봉수-신반, 방계'!O4, -2) -> 2700 | D17: =ROUND([2]기준!$B$1*'봉수-신반, 방계'!O5, -2) -> 2600 | E17: =ROUND([2]기준!$B$1*'봉수-신반, 방계'!O6, -2) -> 2300 | F17: =ROUND([2]기준!$B$1*O7, -2) -> 2200 | G17: =ROUND([2]기준!$B$1*'봉수-신반, 방계'!O8, -2) -> 1800 | H17: 1450 | O17: 신기 | P17: 2.3
A18: =ROUND([2]기준!$B$1*'봉수-신반, 방계'!P2, -2) -> 3500 | B18: =ROUND([2]기준!$B$1*'봉수-신반, 방계'!P3, -2) -> 3200 | C18: =ROUND([2]기준!$B$1*'봉수-신반, 방계'!P4, -2) -> 3000 | D18: =ROUND([2]기준!$B$1*'봉수-신반, 방계'!P5, -2) -> 2900 | E18: =ROUND([2]기준!$B$1*'봉수-신반, 방계'!P6, -2) -> 2600 | F18: =ROUND([2]기준!$B$1*'봉수-신반, 방계'!P7, -2) -> 2500 | G18: =ROUND([2]기준!$B$1*'봉수-신반, 방계'!P8, -2) -> 2100 | H18: =ROUND([2]기준!$B$1*'봉수-신반, 방계'!P9, -2) -> 1700 | I18: 1450 | P18: 신반
A20: 합천 - 방계
A21: 합천 | B21: 2.1 | C21: =B21+C22 -> 3.5 | D21: =C21+D23 -> 4.5 | E21: =D21+E24 -> 6.2 | F21: =E21+F25 -> 7.2 | G21: =F21+G26 -> 9.8 | H21: =G21+H27 -> 12.5 | I21: =H21+I28 -> 14.4 | J21: =I21+J29 -> 15.6 | K21: =J21+K30 -> 17.8
B22: 정양 | C22: 1.4 | D22: =C22+D23 -> 2.4 | E22: =D22+E24 -> 4.1 | F22: =E22+F25 -> 5.1 | G22: =F22+G26 -> 7.7 | H22: =G22+H27 -> 10.4 | I22: =H22+I28 -> 12.3 | J22: =I22+J29 -> 13.5 | K22: =J22+K30 -> 15.7
B23: 하회동 | C23: 아천입구 | D23: 1 | E23: =D23+E24 -> 2.7 | F23: =E23+F25 -> 3.7 | G23: =F23+G26 -> 6.3 | H23: =G23+H27 -> 9 | I23: =H23+I28 -> 10.9 | J23: =I23+J29 -> 12.1 | K23: =J23+K30 -> 14.3
D24: 대목 | E24: 1.7 | F24: =E24+F25 -> 2.7 | G24: =F24+G26 -> 5.3 | H24: =G24+H27 -> 8 | I24: =H24+I28 -> 9.9 | J24: =I24+J29 -> 11.1 | K24: =J24+K30 -> 13.3
E25: 대양 | F25: 1 | G25: =F25+G26 -> 3.6 | H25: =G25+H27 -> 6.3 | I25: =H25+I28 -> 8.2 | J25: =I25+J29 -> 9.4 | K25: =J25+K30 -> 11.6
F26: 남암 | G26: 2.6 | H26: =G26+H27 -> 5.3 | I26: =H26+I28 -> 7.2 | J26: =I26+J29 -> 8.4 | K26: =J26+K30 -> 10.6
G27: 장지입구 | H27: 2.7 | I27: =H27+I28 -> 4.6 | J27: =I27+J29 -> 5.8 | K27: =J27+K30 -> 8
H28: 백암 | I28: 1.9 | J28: =I28+J29 -> 3.1 | K28: =J28+K30 -> 5.3
A29: 1000 | B29: 1000 | C29: 1000 | D29: 1000 | E29: 1000 | I29: 오산 | J29: 1.2 | K29: =J29+K30 -> 3.4
A30: =ROUND([2]기준!$B$1*J21, -2) -> 2300 | B30: =ROUND([2]기준!$B$1*'봉수-신반, 방계'!J22, -2) -> 2000 | C30: =ROUND([2]기준!$B$1*'봉수-신반, 방계'!J23, -2) -> 1800 | D30: =ROUND([2]기준!$B$1*'봉수-신반, 방계'!J24, -2) -> 1600 | E30: 1450 | J30: 서암 | K30: 2.2
A31: =ROUND([2]기준!$B$1*'봉수-신반, 방계'!K21, -2) -> 2600 | B31: =ROUND([2]기준!$B$1*K22, -2) -> 2300 | C31: =ROUND([2]기준!$B$1*'봉수-신반, 방계'!K23, -2) -> 2100 | D31: =ROUND([2]기준!$B$1*'봉수-신반, 방계'!K24, -2) -> 1900 | E31: =ROUND([2]기준!$B$1*'봉수-신반, 방계'!K25, -2) -> 1700 | F31: 1450 | K31: 방계

Sheet 합천-삼가-모의
A1: 합천 - 삼가 - 모의(신전)
A2: 합천 | B2: 2.1 | C2: =B2+C3 -> 3.5 | D2: =C2+D4 -> 4.5 | E2: =D2+E5 -> 6.2 | F2: =E2+F6 -> 7.6 | G2: =F2+G7 -> 8.1 | H2: =G2+H8 -> 8.9 | I2: =H2+I9 -> 12.4 | J2: =I2+J10 -> 13.1 | K2: =J2+K11 -> 14.4 | L2: =K2+L12 -> 15.1 | M2: =L2+M13 -> 16.9 | N2: =M2+N14 -> 19.4 | O2: =N2+O15 -> 21.6 | P2: =O2+P16 -> 25.2 | Q2: =P2+Q17 -> 27.3 | R2: =Q2+R18 -> 28.4 | S2: =R2+S19 -> 30.4 | T2: =S2+T20 -> 31.4 | U2: =T2+U21 -> 32.1
B3: 정양 | C3: 1.4 | D3: =C3+D4 -> 2.4 | E3: =D3+E5 -> 4.1 | F3: =E3+F6 -> 5.5 | G3: =F3+G7 -> 6 | H3: =G3+H8 -> 6.8 | I3: =H3+I9 -> 10.3 | J3: =I3+J10 -> 11 | K3: =J3+K11 -> 12.3 | L3: =K3+L12 -> 13 | M3: =L3+M13 -> 14.8 | N3: =M3+N14 -> 17.3 | O3: =N3+O15 -> 19.5 | P3: =O3+P16 -> 23.1 | Q3: =P3+Q17 -> 25.2 | R3: =Q3+R18 -> 26.3 | S3: =R3+S19 -> 28.3 | T3: =S3+T20 -> 29.3 | U3: =T3+U21 -> 30
B4: 하회동 | C4: 아천입구 | D4: 1 | E4: =D4+E5 -> 2.7 | F4: =E4+F6 -> 4.1 | G4: =F4+G7 -> 4.6 | H4: =G4+H8 -> 5.4 | I4: =H4+I9 -> 8.9 | J4: =I4+J10 -> 9.6 | K4: =J4+K11 -> 10.9 | L4: =K4+L12 -> 11.6 | M4: =L4+M13 -> 13.4 | N4: =M4+N14 -> 15.9 | O4: =N4+O15 -> 18.1 | P4: =O4+P16 -> 21.7 | Q4: =P4+Q17 -> 23.8 | R4: =Q4+R18 -> 24.9 | S4: =R4+S19 -> 26.9 | T4: =S4+T20 -> 27.9 | U4: =T4+U21 -> 28.6
D5: 대목 | E5: 1.7 | F5: =E5+F6 -> 3.1 | G5: =F5+G7 -> 3.6 | H5: =G5+H8 -> 4.4 | I5: =H5+I9 -> 7.9 | J5: =I5+J10 -> 8.6 | K5: =J5+K11 -> 9.9 | L5: =K5+L12 -> 10.6 | M5: =L5+M13 -> 12.4 | N5: =M5+N14 -> 14.9 | O5: =N5+O15 -> 17.1 | P5: =O5+P16 -> 20.7 | Q5: =P5+Q17 -> 22.8 | R5: =Q5+R18 -> 23.9 | S5: =R5+S19 -> 25.9 | T5: =S5+T20 -> 26.9 | U5: =T5+U21 -> 27.6
E6: 대양 | F6: 1.4 | G6: =F6+G7 -> 1.9 | H6: =G6+H8 -> 2.7 | I6: =H6+I9 -> 6.2 | J6: =I6+J10 -> 6.9 | K6: =J6+K11 -> 8.2 | L6: =K6+L12 -> 8.9 | M6: =L6+M13 -> 10.7 | N6: =M6+N14 -> 13.2 | O6: =N6+O15 -> 15.4 | P6: =O6+P16 -> 19 | Q6: =P6+Q17 -> 21.1 | R6: =Q6+R18 -> 22.2 | S6: =R6+S19 -> 24.2 | T6: =S6+T20 -> 25.2 | U6: =T6+U21 -> 25.9
F7: 양산 | G7: 0.5 | H7: =G7+H8 -> 1.3 | I7: =H7+I9 -> 4.8 | J7: =I7+J10 -> 5.5 | K7: =J7+K11 -> 6.8 | L7: =K7+L12 -> 7.5 | M7: =L7+M13 -> 9.3 | N7: =M7+N14 -> 11.8 | O7: =N7+O15 -> 14 | P7: =O7+P16 -> 17.6 | Q7: =P7+Q17 -> 19.7 | R7: =Q7+R18 -> 20.8 | S7: =R7+S19 -> 22.8 | T7: =S7+T20 -> 23.8 | U7: =T7+U21 -> 24.5
G8: 신거리 | H8: 0.8 | I8: =H8+I9 -> 4.3 | J8: =I8+J10 -> 5 | K8: =J8+K11 -> 6.3 | L8: =K8+L12 -> 7 | M8: =L8+M13 -> 8.8 | N8: =M8+N14 -> 11.3 | O8: =N8+O15 -> 13.5 | P8: =O8+P16 -> 17.1 | Q8: =P8+Q17 -> 19.2 | R8: =Q8+R18 -> 20.3 | S8: =R8+S19 -> 22.3 | T8: =S8+T20 -> 23.3 | U8: =T8+U21 -> 24
H9: 도리입구 | I9: 3.5 | J9: =I9+J10 -> 4.2 | K9: =J9+K11 -> 5.5 | L9: =K9+L12 -> 6.2 | M9: =L9+M13 -> 8 | N9: =M9+N14 -> 10.5 | O9: =N9+O15 -> 12.7 | P9: =O9+P16 -> 16.3 | Q9: =P9+Q17 -> 18.4 | R9: =Q9+R18 -> 19.5 | S9: =R9+S19 -> 21.5 | T9: =S9+T20 -> 22.5 | U9: =T9+U21 -> 23.2
I10: 멱곡 | J10: 0.7 | K10: =J10+K11 -> 2 | L10: =K10+L12 -> 2.7 | M10: =L10+M13 -> 4.5 | N10: =M10+N14 -> 7 | O10: =N10+O15 -> 9.2 | P10: =O10+P16 -> 12.8 | Q10: =P10+Q17 -> 14.9 | R10: =Q10+R18 -> 16 | S10: =R10+S19 -> 18 | T10: =S10+T20 -> 19 | U10: =T10+U21 -> 19.7
J11: 장전 | K11: 1.3 | L11: =K11+L12 -> 2 | M11: =L11+M13 -> 3.8 | N11: =M11+N14 -> 6.3 | O11: =N11+O15 -> 8.5 | P11: =O11+P16 -> 12.1 | Q11: =P11+Q17 -> 14.2 | R11: =Q11+R18 -> 15.3 | S11: =R11+S19 -> 17.3 | T11: =S11+T20 -> 18.3 | U11: =T11+U21 -> 19
K12: 원전 | L12: 0.7 | M12: =L12+M13 -> 2.5 | N12: =M12+N14 -> 5 | O12: =N12+O15 -> 7.2 | P12: =O12+P16 -> 10.8 | Q12: =P12+Q17 -> 12.9 | R12: =Q12+R18 -> 14 | S12: =R12+S19 -> 16 | T12: =S12+T20 -> 17 | U12: =T12+U21 -> 17.7
L13: 하신입구 | M13: 1.8 | N13: =M13+N14 -> 4.3 | O13: =N13+O15 -> 6.5 | P13: =O13+P16 -> 10.1 | Q13: =P13+Q17 -> 12.2 | R13: =Q13+R18 -> 13.3 | S13: =R13+S19 -> 15.3 | T13: =S13+T20 -> 16.3 | U13: =T13+U21 -> 17
M14: 쌍백 | N14: 2.5 | O14: =N14+O15 -> 4.7 | P14: =O14+P16 -> 8.3 | Q14: =P14+Q17 -> 10.4 | R14: =Q14+R18 -> 11.5 | S14: =R14+S19 -> 13.5 | T14: =S14+T20 -> 14.5 | U14: =T14+U21 -> 15.2
N15: 양전 | O15: 2.2 | P15: =O15+P16 -> 5.8 | Q15: =P15+Q17 -> 7.9 | R15: =Q15+R18 -> 9 | S15: =R15+S19 -> 11 | T15: =S15+T20 -> 12 | U15: =T15+U21 -> 12.7
O16: 삼가 | P16: 3.6 | Q16: =P16+Q17 -> 5.7 | R16: =Q16+R18 -> 6.8 | S16: =R16+S19 -> 8.8 | T16: =S16+T20 -> 9.8 | U16: =T16+U21 -> 10.5
A17: 1000 | B17: 1000 | C17: 1000 | D17: 1000 | E17: 1000 | F17: 1000 | G17: 1000 | H17: 1000 | I17: 1000 | J17: 1000 | K17: 1000 | L17: 1000 | M17: 1000 | P17: 신평 | Q17: 2.1 | R17: =Q17+R18 -> 3.2 | S17: =R17+S19 -> 5.2 | T17: =S17+T20 -> 6.2 | U17: =T17+U21 -> 6.9
A18: =ROUND([2]기준!$B$1*'합천-삼가-모의'!Q2, -2) -> 4000 | B18: =ROUND([2]기준!$B$1*'합천-삼가-모의'!Q3, -2) -> 3700 | C18: =ROUND([2]기준!$B$1*'합천-삼가-모의'!Q4, -2) -> 3500 | D18: =ROUND([2]기준!$B$1*'합천-삼가-모의'!Q5, -2) -> 3300 | E18: =ROUND([2]기준!$B$1*'합천-삼가-모의'!Q6, -2) -> 3100 | F18: =ROUND([2]기준!$B$1*'합천-삼가-모의'!Q7, -2) -> 2900 | G18: =ROUND([2]기준!$B$1*'합천-삼가-모의'!Q8, -2) -> 2800 | H18: =ROUND([2]기준!$B$1*'합천-삼가-모의'!Q9, -2) -> 2700 | I18: =ROUND([2]기준!$B$1*'합천-삼가-모의'!Q10, -2) -> 2200 | J18: =ROUND([2]기준!$B$1*'합천-삼가-모의'!Q11, -2) -> 2100 | K18: =ROUND([2]기준!$B$1*'합천-삼가-모의'!Q12, -2) -> 1900 | L18: =ROUND([2]기준!$B$1*'합천-삼가-모의'!Q13, -2) -> 1800 | M18: 1450 | Q18: 하촌 | R18: 1.1 | S18: =R18+S19 -> 3.1 | T18: =S18+T20 -> 4.1 | U18: =T18+U21 -> 4.8
A19: =ROUND([2]기준!$B$1*'합천-삼가-모의'!R2, -2) -> 4100 | B19: =ROUND([2]기준!$B$1*'합천-삼가-모의'!R3, -2) -> 3800 | C19: =ROUND([2]기준!$B$1*'합천-삼가-모의'!R4, -2) -> 3600 | D19: =ROUND([2]기준!$B$1*'합천-삼가-모의'!R5, -2) -> 3500 | E19: =ROUND([2]기준!$B$1*'합천-삼가-모의'!R6, -2) -> 3200 | F19: =ROUND([2]기준!$B$1*'합천-삼가-모의'!R7, -2) -> 3000 | G19: =ROUND([2]기준!$B$1*'합천-삼가-모의'!R8, -2) -> 3000 | H19: =ROUND([2]기준!$B$1*'합천-삼가-모의'!R9, -2) -> 2800 | I19: =ROUND([2]기준!$B$1*'합천-삼가-모의'!R10, -2) -> 2300 | J19: =ROUND([2]기준!$B$1*'합천-삼가-모의'!R11, -2) -> 2200 | K19: =ROUND([2]기준!$B$1*'합천-삼가-모의'!R12, -2) -> 2000 | L19: =ROUND([2]기준!$B$1*'합천-삼가-모의'!R13, -2) -> 1900 | M19: =ROUND([2]기준!$B$1*'합천-삼가-모의'!R14, -2) -> 1700 | N19: 1450 | R19: 중촌 | S19: 2 | T19: =S19+T20 -> 3 | U19: =T19+U21 -> 3.7
A20: =ROUND([2]기준!$B$1*'합천-삼가-모의'!S2, -2) -> 4400 | B20: =ROUND([2]기준!$B$1*'합천-삼가-모의'!S3, -2) -> 4100 | C20: =ROUND([2]기준!$B$1*'합천-삼가-모의'!S4, -2) -> 3900 | D20: =ROUND([2]기준!$B$1*'합천-삼가-모의'!S5, -2) -> 3800 | E20: =ROUND([2]기준!$B$1*'합천-삼가-모의'!S6, -2) -> 3500 | F20: =ROUND([2]기준!$B$1*'합천-삼가-모의'!S7, -2) -> 3300 | G20: =ROUND([2]기준!$B$1*'합천-삼가-모의'!S8, -2) -> 3200 | H20: =ROUND([2]기준!$B$1*'합천-삼가-모의'!S9, -2) -> 3100 | I20: =ROUND([2]기준!$B$1*'합천-삼가-모의'!S10, -2) -> 2600 | J20: =ROUND([2]기준!$B$1*'합천-삼가-모의'!S11, -2) -> 2500 | K20: =ROUND([2]기준!$B$1*'합천-삼가-모의'!S12, -2) -> 2300 | L20: =ROUND([2]기준!$B$1*'합천-삼가-모의'!S13, -2) -> 2200 | M20: =ROUND([2]기준!$B$1*'합천-삼가-모의'!S14, -2) -> 2000 | N20: =ROUND([2]기준!$B$1*'합천-삼가-모의'!S15, -2) -> 1600 | S20: 행정 | T20: 1 | U20: =T20+U21 -> 1.7
A21: =ROUND([2]기준!$B$1*'합천-삼가-모의'!T2, -2) -> 4600 | B21: =ROUND([2]기준!$B$1*'합천-삼가-모의'!T3, -2) -> 4300 | C21: =ROUND([2]기준!$B$1*'합천-삼가-모의'!T4, -2) -> 4100 | D21: =ROUND([2]기준!$B$1*'합천-삼가-모의'!T5, -2) -> 3900 | E21: =ROUND([2]기준!$B$1*'합천-삼가-모의'!T6, -2) -> 3700 | F21: =ROUND([2]기준!$B$1*'합천-삼가-모의'!T7, -2) -> 3500 | G21: =ROUND([2]기준!$B$1*'합천-삼가-모의'!T8, -2) -> 3400 | H21: =ROUND([2]기준!$B$1*'합천-삼가-모의'!T9, -2) -> 3300 | I21: =ROUND([2]기준!$B$1*'합천-삼가-모의'!T10, -2) -> 2800 | J21: =ROUND([2]기준!$B$1*'합천-삼가-모의'!T11, -2) -> 2700 | K21: =ROUND([2]기준!$B$1*'합천-삼가-모의'!T12, -2) -> 2500 | L21: =ROUND([2]기준!$B$1*'합천-삼가-모의'!T13, -2) -> 2400 | M21: =ROUND([2]기준!$B$1*'합천-삼가-모의'!T14, -2) -> 2100 | N21: =ROUND([2]기준!$B$1*'합천-삼가-모의'!T15, -2) -> 1700 | T21: 곡소 | U21: 0.7
A22: =ROUND([2]기준!$B$1*'합천-삼가-모의'!U2, -2) -> 4700 | B22: =ROUND([2]기준!$B$1*'합천-삼가-모의'!U3, -2) -> 4400 | C22: =ROUND([2]기준!$B$1*'합천-삼가-모의'!U4, -2) -> 4200 | D22: =ROUND([2]기준!$B$1*'합천-삼가-모의'!U5, -2) -> 4000 | E22: =ROUND([2]기준!$B$1*'합천-삼가-모의'!U6, -2) -> 3800 | F22: =ROUND([2]기준!$B$1*'합천-삼가-모의'!U7, -2) -> 3600 | G22: =ROUND([2]기준!$B$1*'합천-삼가-모의'!U8, -2) -> 3500 | H22: =ROUND([2]기준!$B$1*'합천-삼가-모의'!U9, -2) -> 3400 | I22: =ROUND([2]기준!$B$1*'합천-삼가-모의'!U10, -2) -> 2900 | J22: =ROUND([2]기준!$B$1*'합천-삼가-모의'!U11, -2) -> 2800 | K22: =ROUND([2]기준!$B$1*'합천-삼가-모의'!U12, -2) -> 2600 | L22: =ROUND([2]기준!$B$1*'합천-삼가-모의'!U13, -2) -> 2500 | M22: =ROUND([2]기준!$B$1*'합천-삼가-모의'!U14, -2) -> 2200 | N22: =ROUND([2]기준!$B$1*'합천-삼가-모의'!U15, -2) -> 1800 | O22: 1450 | T22: (신전) | U22: 모의

Sheet 가조-가야
A1: 거창 - 가조 - 가야
A2: 거창 | B2: 5.7 | C2: =B2+C3 -> 7.8 | D2: =C2+D4 -> 11.5 | E2: =D2+E5 -> 13 | F2: =E2+F6 -> 14.3 | G2: =F2+G7 -> 16 | H2: =G2+H8 -> 17.6 | I2: =H2+I9 -> 18.6 | J2: =I2+J10 -> 22.2 | K2: =J2+K11 -> 25.6 | L2: =K2+L12 -> 27 | M2: =L2+M13 -> 28.7 | N2: =M2+N14 -> 30.6 | O2: =N2+O15 -> 32.5
A3: 양평 | B3: 안흥 | C3: 2.1 | D3: =C3+D4 -> 5.8 | E3: =D3+E5 -> 7.3 | F3: =E3+F6 -> 8.6 | G3: =F3+G7 -> 10.3 | H3: =G3+H8 -> 11.9 | I3: =H3+I9 -> 12.9 | J3: =I3+J10 -> 16.5 | K3: =J3+K11 -> 19.9 | L3: =K3+L12 -> 21.3 | M3: =L3+M13 -> 23 | N3: =M3+N14 -> 24.9 | O3: =N3+O15 -> 26.8
A4: 1450 | B4: 신촌 | C4: 대촌 | D4: 3.7 | E4: =D4+E5 -> 5.2 | F4: =E4+F6 -> 6.5 | G4: =F4+G7 -> 8.2 | H4: =G4+H8 -> 9.8 | I4: =H4+I9 -> 10.8 | J4: =I4+J10 -> 14.4 | K4: =J4+K11 -> 17.8 | L4: =K4+L12 -> 19.2 | M4: =L4+M13 -> 20.9 | N4: =M4+N14 -> 22.8 | O4: =N4+O15 -> 24.7
A5: 1500 | C5: 동례 | D5: 장기 | E5: 1.5 | F5: =E5+F6 -> 2.8 | G5: =F5+G7 -> 4.5 | H5: =G5+H8 -> 6.1 | I5: =H5+I9 -> 7.1 | J5: =I5+J10 -> 10.7 | K5: =J5+K11 -> 14.1 | L5: =K5+L12 -> 15.5 | M5: =L5+M13 -> 17.2 | N5: =M5+N14 -> 19.1 | O5: =N5+O15 -> 21
A6: =ROUND([1]기준!$B$1*E2, -2) -> 1900 | E6: 가조 | F6: 1.3 | G6: =F6+G7 -> 3 | H6: =G6+H8 -> 4.6 | I6: =H6+I9 -> 5.6 | J6: =I6+J10 -> 9.2 | K6: =J6+K11 -> 12.6 | L6: =K6+L12 -> 14 | M6: =L6+M13 -> 15.7 | N6: =M6+N14 -> 17.6 | O6: =N6+O15 -> 19.5
A7: =ROUND([1]기준!$B$1*'가조-가야'!F2, -2) -> 2100 | E7: 도산 | F7: 온천 | G7: 1.7 | H7: =G7+H8 -> 3.3 | I7: =H7+I9 -> 4.3 | J7: =I7+J10 -> 7.9 | K7: =J7+K11 -> 11.3 | L7: =K7+L12 -> 12.7 | M7: =L7+M13 -> 14.4 | N7: =M7+N14 -> 16.3 | O7: =N7+O15 -> 18.2
A8: =ROUND([1]기준!$B$1*'가조-가야'!G2, -2) -> 2300 | B8: 1450 | G8: 녹동 | H8: 1.6 | I8: =H8+I9 -> 2.6 | J8: =I8+J10 -> 6.2 | K8: =J8+K11 -> 9.6 | L8: =K8+L12 -> 11 | M8: =L8+M13 -> 12.7 | N8: =M8+N14 -> 14.6 | O8: =N8+O15 -> 16.5
A9: =ROUND([1]기준!$B$1*'가조-가야'!H2, -2) -> 2600 | B9: =ROUND([1]기준!$B$1*'가조-가야'!H3, -2) -> 1700 | H9: 도리 | I9: 1 | J9: =I9+J10 -> 4.6 | K9: =J9+K11 -> 8 | L9: =K9+L12 -> 9.4 | M9: =L9+M13 -> 11.1 | N9: =M9+N14 -> 13 | O9: =N9+O15 -> 14.9
A10: =ROUND([1]기준!$B$1*'가조-가야'!I2, -2) -> 2700 | B10: =ROUND([1]기준!$B$1*'가조-가야'!I3, -2) -> 1900 | C10: 1450 | I10: 대학동 | J10: 3.6 | K10: =J10+K11 -> 7 | L10: =K10+L12 -> 8.4 | M10: =L10+M13 -> 10.1 | N10: =M10+N14 -> 12 | O10: =N10+O15 -> 13.9
A11: =ROUND([1]기준!$B$1*'가조-가야'!J2, -2) -> 3200 | B11: =ROUND([1]기준!$B$1*'가조-가야'!J3, -2) -> 2400 | C11: =ROUND([1]기준!$B$1*'가조-가야'!J4, -2) -> 2100 | D11: 1450 | E11: 1450 | F11: 1450 | J11: 골프장 | K11: 3.4 | L11: =K11+L12 -> 4.8 | M11: =L11+M13 -> 6.5 | N11: =M11+N14 -> 8.4 | O11: =N11+O15 -> 10.3
A12: =ROUND([1]기준!$B$1*'가조-가야'!K2, -2) -> 3700 | B12: =ROUND([1]기준!$B$1*'가조-가야'!K3, -2) -> 2900 | C12: =ROUND([1]기준!$B$1*'가조-가야'!K4, -2) -> 2600 | D12: =ROUND([1]기준!$B$1*'가조-가야'!K5, -2) -> 2000 | E12: =ROUND([1]기준!$B$1*'가조-가야'!K6, -2) -> 1800 | F12: =ROUND([1]기준!$B$1*'가조-가야'!K7, -2) -> 1600 | G12: 1450 | K12: 성기 | L12: 1.4 | M12: =L12+M13 -> 3.1 | N12: =M12+N14 -> 5 | O12: =N12+O15 -> 6.9
A13: =ROUND([1]기준!$B$1*'가조-가야'!L2, -2) -> 3900 | B13: =ROUND([1]기준!$B$1*'가조-가야'!L3, -2) -> 3100 | C13: =ROUND([1]기준!$B$1*'가조-가야'!L4, -2) -> 2800 | D13: =ROUND([1]기준!$B$1*'가조-가야'!L5, -2) -> 2300 | E13: =ROUND([1]기준!$B$1*'가조-가야'!L6, -2) -> 2000 | F13: =ROUND([1]기준!$B$1*'가조-가야'!L7, -2) -> 1800 | G13: =ROUND([1]기준!$B$1*'가조-가야'!L8, -2) -> 1600 | H13: 1450 | K13: (구미) | L13: 숭산 | M13: 1.7 | N13: =M13+N14 -> 3.6 | O13: =N13+O15 -> 5.5
A14: =ROUND([1]기준!$B$1*'가조-가야'!M2, -2) -> 4200 | B14: =ROUND([1]기준!$B$1*'가조-가야'!M3, -2) -> 3300 | C14: =ROUND([1]기준!$B$1*'가조-가야'!M4, -2) -> 3000 | D14: =ROUND([1]기준!$B$1*'가조-가야'!M5, -2) -> 2500 | E14: =ROUND([1]기준!$B$1*'가조-가야'!M6, -2) -> 2300 | F14: =ROUND([1]기준!$B$1*'가조-가야'!M7, -2) -> 2100 | G14: =ROUND([1]기준!$B$1*'가조-가야'!M8, -2) -> 1800 | H14: =ROUND([1]기준!$B$1*'가조-가야'!M9, -2) -> 1600 | I14: 1450 | M14: 매화 | N14: 1.9 | O14: =N14+O15 -> 3.8
A15: =ROUND([1]기준!$B$1*'가조-가야'!N2, -2) -> 4400 | B15: =ROUND([1]기준!$B$1*'가조-가야'!N3, -2) -> 3600 | C15: =ROUND([1]기준!$B$1*'가조-가야'!N4, -2) -> 3300 | D15: =ROUND([1]기준!$B$1*'가조-가야'!N5, -2) -> 2800 | E15: =ROUND([1]기준!$B$1*'가조-가야'!N6, -2) -> 2600 | F15: =ROUND([1]기준!$B$1*'가조-가야'!N7, -2) -> 2400 | G15: =ROUND([1]기준!$B$1*'가조-가야'!N8, -2) -> 2100 | H15: =ROUND([1]기준!$B$1*'가조-가야'!N9, -2) -> 1900 | I15: =ROUND([1]기준!$B$1*'가조-가야'!N10, -2) -> 1700 | L15: 가산초등학교 | N15: 사촌 | O15: 1.9
A16: =ROUND([1]기준!$B$1*'가조-가야'!O2, -2) -> 4700 | B16: =ROUND([1]기준!$B$1*'가조-가야'!O3, -2) -> 3900 | C16: =ROUND([1]기준!$B$1*'가조-가야'!O4, -2) -> 3600 | D16: =ROUND([1]기준!$B$1*'가조-가야'!O5, -2) -> 3100 | E16: =ROUND([1]기준!$B$1*'가조-가야'!O6, -2) -> 2800 | F16: =ROUND([1]기준!$B$1*'가조-가야'!O7, -2) -> 2600 | G16: =ROUND([1]기준!$B$1*'가조-가야'!O8, -2) -> 2400 | H16: =ROUND([1]기준!$B$1*'가조-가야'!O9, -2) -> 2200 | I16: =ROUND([1]기준!$B$1*'가조-가야'!O10, -2) -> 2000 | J16: 1450 | N16: 해인중 | O16: 가야
