Workbook

Sheet 기준
A1: 1km | B1: 145.33 | C1: 원

Sheet 묘산-합천
A1: 거창 - 묘산 - 합천
A2: 거창 | B2: 3.8 | C2: =B2+C3 -> 4.5 | D2: =C2+D4 -> 6.4 | E2: =D2+E5 -> 8.6 | F2: =E2+F6 -> 12.6 | G2: =F2+G7 -> 14 | H2: =G2+H8 -> 15.4 | I2: =H2+I9 -> 17.3 | J2: =I2+J10 -> 17.4 | K2: =J2+K11 -> 19 | L2: =K2+L12 -> 22.3 | M2: =L2+M13 -> 24.5 | N2: =M2+N14 -> 26.1 | O2: =N2+O15 -> 28.1 | P2: =O2+P16 -> 31.2 | Q2: =P2+Q17 -> 33.4 | R2: =Q2+R18 -> 34.8 | S2: =R2+S19 -> 36.7 | T2: =S2+T20 -> 40
A3: 국농소 | B3: 양곡 | C3: 0.7 | D3: =C3+D4 -> 2.6 | E3: =D3+E5 -> 4.8 | F3: =E3+F6 -> 8.8 | G3: =F3+G7 -> 10.2 | H3: =G3+H8 -> 11.6 | I3: =H3+I9 -> 13.5 | J3: =I3+J10 -> 13.6 | K3: =J3+K11 -> 15.2 | L3: =K3+L12 -> 18.5 | M3: =L3+M13 -> 20.7 | N3: =M3+N14 -> 22.3 | O3: =N3+O15 -> 24.3 | P3: =O3+P16 -> 27.4 | Q3: =P3+Q17 -> 29.6 | R3: =Q3+R18 -> 31 | S3: =R3+S19 -> 32.9 | T3: =S3+T20 -> 36.2
C4: 남하 | D4: 1.9 | E4: 4.1 | F4: =E4+F6 -> 8.1 | G4: =F4+G7 -> 9.5 | H4: =G4+H8 -> 10.9 | I4: =H4+I9 -> 12.8 | J4: =I4+J10 -> 12.9 | K4: =J4+K11 -> 14.5 | L4: =K4+L12 -> 17.8 | M4: =L4+M13 -> 20 | N4: =M4+N14 -> 21.6 | O4: =N4+O15 -> 23.6 | P4: =O4+P16 -> 26.7 | Q4: =P4+Q17 -> 28.9 | R4: =Q4+R18 -> 30.3 | S4: =R4+S19 -> 32.2 | T4: =S4+T20 -> 35.5
D5: 산포 | E5: 2.2 | F5: =E5+F6 -> 6.2 | G5: =F5+G7 -> 7.6 | H5: =G5+H8 -> 9 | I5: =H5+I9 -> 10.9 | J5: =I5+J10 -> 11 | K5: =J5+K11 -> 12.6 | L5: =K5+L12 -> 15.9 | M5: =L5+M13 -> 18.1 | N5: =M5+N14 -> 19.7 | O5: =N5+O15 -> 21.7 | P5: =O5+P16 -> 24.8 | Q5: =P5+Q17 -> 27 | R5: =Q5+R18 -> 28.4 | S5: =R5+S19 -> 30.3 | T5: =S5+T20 -> 33.6
A6: 1450 | E6: 대야 | F6: 4 | G6: =F6+G7 -> 5.4 | H6: =G6+H8 -> 6.8 | I6: =H6+I9 -> 8.7 | J6: =I6+J10 -> 8.8 | K6: =J6+K11 -> 10.4 | L6: =K6+L12 -> 13.7 | M6: =L6+M13 -> 15.9 | N6: =M6+N14 -> 17.5 | O6: =N6+O15 -> 19.5 | P6: =O6+P16 -> 22.6 | Q6: =P6+Q17 -> 24.8 | R6: =Q6+R18 -> 26.2 | S6: =R6+S19 -> 28.1 | T6: =S6+T20 -> 31.4
A7: =ROUND(기준!$B$1*F2, -2) -> 1800 | F7: 가천교 | G7: 1.4 | H7: =G7+H8 -> 2.8 | I7: =H7+I9 -> 4.7 | J7: =I7+J10 -> 4.8 | K7: =J7+K11 -> 6.4 | L7: =K7+L12 -> 9.7 | M7: =L7+M13 -> 11.9 | N7: =M7+N14 -> 13.5 | O7: =N7+O15 -> 15.5 | P7: =O7+P16 -> 18.6 | Q7: =P7+Q17 -> 20.8 | R7: =Q7+R18 -> 22.2 | S7: =R7+S19 -> 24.1 | T7: =S7+T20 -> 27.4
A8: =ROUND(기준!$B$1*G2, -2) -> 2000 | B8: 1450 | G8: 상현휴게 | H8: 1.4 | I8: =H8+I9 -> 3.3 | J8: =I8+J10 -> 3.4 | K8: =J8+K11 -> 5 | L8: =K8+L12 -> 8.3 | M8: =L8+M13 -> 10.5 | N8: =M8+N14 -> 12.1 | O8: =N8+O15 -> 14.1 | P8: =O8+P16 -> 17.2 | Q8: =P8+Q17 -> 19.4 | R8: =Q8+R18 -> 20.8 | S8: =R8+S19 -> 22.7 | T8: =S8+T20 -> 26
A9: =ROUND(기준!$B$1*H2, -2) -> 2200 | B9: =ROUND(기준!$B$1*H3, -2) -> 1700 | C9: 1450 | F9: (상현마을입구) | H9: 부자정 | I9: 1.9 | J9: =I9+J10 -> 2 | K9: =J9+K11 -> 3.6 | L9: =K9+L12 -> 6.9 | M9: =L9+M13 -> 9.1 | N9: =M9+N14 -> 10.7 | O9: =N9+O15 -> 12.7 | P9: =O9+P16 -> 15.8 | Q9: =P9+Q17 -> 18 | R9: =Q9+R18 -> 19.4 | S9: =R9+S19 -> 21.3 | T9: =S9+T20 -> 24.6
A10: =ROUND(기준!$B$1*I2, -2) -> 2500 | B10: =ROUND(기준!$B$1*I3, -2) -> 2000 | C10: =ROUND(기준!$B$1*I4, -2) -> 1900 | D10: 1450 | I10: 봉산(압곡1구) | J10: 0.1 | K10: =J10+K11+0.6 -> 2.3 | L10: =K10+L12 -> 5.6 | M10: =L10+M13 -> 7.8 | N10: =M10+N14 -> 9.4 | O10: =N10+O15 -> 11.4 | P10: =O10+P16 -> 14.5 | Q10: =P10+Q17 -> 16.7 | R10: =Q10+R18 -> 18.1 | S10: =R10+S19 -> 20 | T10: =S10+T20 -> 23.3
K11: 1.6 | L11: =K11+L12 -> 4.9 | M11: =L11+M13 -> 7.1 | N11: =M11+N14 -> 8.7 | O11: =N11+O15 -> 10.7 | P11: =O11+P16 -> 13.8 | Q11: =P11+Q17 -> 16 | R11: =Q11+R18 -> 17.4 | S11: =R11+S19 -> 19.3 | T11: =S11+T20 -> 22.6
A12: =ROUND(기준!$B$1*K2, -2) -> 2800 | B12: =ROUND(기준!$B$1*K3, -2) -> 2200 | C12: =ROUND(기준!$B$1*K4, -2) -> 2100 | D12: =ROUND(기준!$B$1*K5, -2) -> 1800 | E12: 1450 | K12: 권빈(권빈3구) | L12: 3.3 | M12: =L12+M13 -> 5.5 | N12: =M12+N14 -> 7.1 | O12: =N12+O15 -> 9.1 | P12: =O12+P16 -> 12.2 | Q12: =P12+Q17 -> 14.4 | R12: =Q12+R18 -> 15.8 | S12: =R12+S19 -> 17.7 | T12: =S12+T20 -> 21
A13: =ROUND(기준!$B$1*L2, -2) -> 3200 | B13: =ROUND(기준!$B$1*L3, -2) -> 2700 | C13: =ROUND(기준!$B$1*L4, -2) -> 2600 | D13: =ROUND(기준!$B$1*L5, -2) -> 2300 | E13: =ROUND(기준!$B$1*L6, -2) -> 2000 | F13: 1450 | L13: 반포 | M13: 2.2 | N13: =M13+N14 -> 3.8 | O13: =N13+O15 -> 5.8 | P13: =O13+P16 -> 8.9 | Q13: =P13+Q17 -> 11.1 | R13: =Q13+R18 -> 12.5 | S13: =R13+S19 -> 14.4 | T13: =S13+T20 -> 17.7
A14: =ROUND(기준!$B$1*M2, -2) -> 3600 | B14: =ROUND(기준!$B$1*M3, -2) -> 3000 | C14: =ROUND(기준!$B$1*M4, -2) -> 2900 | D14: =ROUND(기준!$B$1*M5, -2) -> 2600 | E14: =ROUND(기준!$B$1*M6, -2) -> 2300 | F14: =ROUND(기준!$B$1*M7, -2) -> 1700 | G14: 1450 | M14: 묘산 | N14: 1.6 | O14: =N14+O15 -> 3.6 | P14: =O14+P16 -> 6.7 | Q14: =P14+Q17 -> 8.9 | R14: =Q14+R18 -> 10.3 | S14: =R14+S19 -> 12.2 | T14: =S14+T20 -> 15.5
A15: =ROUND(기준!$B$1*N2, -2) -> 3800 | B15: =ROUND(기준!$B$1*N3, -2) -> 3200 | C15: =ROUND(기준!$B$1*N4, -2) -> 3100 | D15: =ROUND(기준!$B$1*N5, -2) -> 2900 | E15: =ROUND(기준!$B$1*N6, -2) -> 2500 | F15: =ROUND(기준!$B$1*N7, -2) -> 2000 | G15: =ROUND(기준!$B$1*N8, -2) -> 1800 | H15: 1450 | I15: 1450 | N15: 관기 | O15: 2 | P15: =O15+P16 -> 5.1 | Q15: =P15+Q17 -> 7.3 | R15: =Q15+R18 -> 8.7 | S15: =R15+S19 -> 10.6 | T15: =S15+T20 -> 13.9
A16: =ROUND(기준!$B$1*O2, -2) -> 4100 | B16: =ROUND(기준!$B$1*O3, -2) -> 3500 | C16: =ROUND(기준!$B$1*O4, -2) -> 3400 | D16: =ROUND(기준!$B$1*O5, -2) -> 3200 | E16: =ROUND(기준!$B$1*O6, -2) -> 2800 | F16: =ROUND(기준!$B$1*O7, -2) -> 2300 | G16: =ROUND(기준!$B$1*O8, -2) -> 2000 | H16: =ROUND(기준!$B$1*O9, -2) -> 1800 | I16: =ROUND(기준!$B$1*O10, -2) -> 1700 | J16: 1450 | K16: 1450 | O16: 마령재 | P16: 3.1 | Q16: =P16+Q17 -> 5.3 | R16: =Q16+R18 -> 6.7 | S16: =R16+S19 -> 8.6 | T16: =S16+T20 -> 11.9
A17: =ROUND(기준!$B$1*P2, -2) -> 4500 | B17: =ROUND(기준!$B$1*P3, -2) -> 4000 | C17: =ROUND(기준!$B$1*P4, -2) -> 3900 | D17: =ROUND(기준!$B$1*P5, -2) -> 3600 | E17: =ROUND(기준!$B$1*P6, -2) -> 3300 | F17: =ROUND(기준!$B$1*P7, -2) -> 2700 | G17: =ROUND(기준!$B$1*P8, -2) -> 2500 | H17: =ROUND(기준!$B$1*P9, -2) -> 2300 | I17: =ROUND(기준!$B$1*P10, -2) -> 2100 | J17: =ROUND(기준!$B$1*P11, -2) -> 2000 | K17: =ROUND(기준!$B$1*P12, -2) -> 1800 | L17: 1450 | O17: (외곡) | P17: 내곡 | Q17: 2.2 | R17: =Q17+R18 -> 3.6 | S17: =R17+S19 -> 5.5 | T17: =S17+T20 -> 8.8
A18: =ROUND(기준!$B$1*Q2, -2) -> 4900 | B18: =ROUND(기준!$B$1*'묘산-합천'!Q3, -2) -> 4300 | C18: =ROUND(기준!$B$1*'묘산-합천'!Q4, -2) -> 4200 | D18: =ROUND(기준!$B$1*'묘산-합천'!Q5, -2) -> 3900 | E18: =ROUND(기준!$B$1*'묘산-합천'!Q6, -2) -> 3600 | F18: =ROUND(기준!$B$1*'묘산-합천'!Q7, -2) -> 3000 | G18: =ROUND(기준!$B$1*'묘산-합천'!Q8, -2) -> 2800 | H18: =ROUND(기준!$B$1*'묘산-합천'!Q9, -2) -> 2600 | I18: =ROUND(기준!$B$1*'묘산-합천'!Q10, -2) -> 2400 | J18: =ROUND(기준!$B$1*'묘산-합천'!Q11, -2) -> 2300 | K18: =ROUND(기준!$B$1*Q12, -2) -> 2100 | L18: =ROUND(기준!$B$1*Q13, -2) -> 1600 | Q18: 법정 | R18: 1.4 | S18: =R18+S19 -> 3.3 | T18: =S18+T20 -> 6.6
A19: =ROUND(기준!$B$1*R2, -2) -> 5100 | B19: =ROUND(기준!$B$1*'묘산-합천'!R3, -2) -> 4500 | C19: =ROUND(기준!$B$1*'묘산-합천'!R4, -2) -> 4400 | D19: =ROUND(기준!$B$1*'묘산-합천'!R5, -2) -> 4100 | E19: =ROUND(기준!$B$1*'묘산-합천'!R6, -2) -> 3800 | F19: =ROUND(기준!$B$1*'묘산-합천'!R7, -2) -> 3200 | G19: =ROUND(기준!$B$1*'묘산-합천'!R8, -2) -> 3000 | H19: =ROUND(기준!$B$1*'묘산-합천'!R9, -2) -> 2800 | I19: =ROUND(기준!$B$1*'묘산-합천'!R10, -2) -> 2600 | J19: =ROUND(기준!$B$1*'묘산-합천'!R11, -2) -> 2500 | K19: =ROUND(기준!$B$1*'묘산-합천'!R12, -2) -> 2300 | L19: =ROUND(기준!$B$1*'묘산-합천'!R13, -2) -> 1800 | M19: 1450 | R19: 사동 | S19: 1.9 | T19: =S19+T20 -> 5.2
A20: =ROUND(기준!$B$1*'묘산-합천'!S2, -2) -> 5300 | B20: =ROUND(기준!$B$1*'묘산-합천'!S3, -2) -> 4800 | C20: =ROUND(기준!$B$1*'묘산-합천'!S4, -2) -> 4700 | D20: =ROUND(기준!$B$1*'묘산-합천'!S5, -2) -> 4400 | E20: =ROUND(기준!$B$1*'묘산-합천'!S6, -2) -> 4100 | F20: =ROUND(기준!$B$1*'묘산-합천'!S7, -2) -> 3500 | G20: =ROUND(기준!$B$1*'묘산-합천'!S8, -2) -> 3300 | H20: =ROUND(기준!$B$1*'묘산-합천'!S9, -2) -> 3100 | I20: =ROUND(기준!$B$1*'묘산-합천'!S10, -2) -> 2900 | J20: =ROUND(기준!$B$1*'묘산-합천'!S11, -2) -> 2800 | K20: =ROUND(기준!$B$1*'묘산-합천'!S12, -2) -> 2600 | L20: =ROUND(기준!$B$1*'묘산-합천'!S13, -2) -> 2100 | M20: =ROUND(기준!$B$1*'묘산-합천'!S14, -2) -> 1800 | N20: 1450 | O20: 1450 | S20: 금양 | T20: 3.3
A21: =ROUND(기준!$B$1*T2, -2) -> 5800 | B21: =ROUND(기준!$B$1*'묘산-합천'!T3, -2) -> 5300 | C21: =ROUND(기준!$B$1*'묘산-합천'!T4, -2) -> 5200 | D21: =ROUND(기준!$B$1*'묘산-합천'!T5, -2) -> 4900 | E21: =ROUND(기준!$B$1*'묘산-합천'!T6, -2) -> 4600 | F21: =ROUND(기준!$B$1*'묘산-합천'!T7, -2) -> 4000 | G21: =ROUND(기준!$B$1*'묘산-합천'!T8, -2) -> 3800 | H21: =ROUND(기준!$B$1*'묘산-합천'!T9, -2) -> 3600 | I21: =ROUND(기준!$B$1*'묘산-합천'!T10, -2) -> 3400 | J21: =ROUND(기준!$B$1*'묘산-합천'!T11, -2) -> 3300 | K21: =ROUND(기준!$B$1*'묘산-합천'!T12, -2) -> 3100 | L21: =ROUND(기준!$B$1*'묘산-합천'!T13, -2) -> 2600 | M21: =ROUND(기준!$B$1*'묘산-합천'!T14, -2) -> 2300 | N21: =ROUND(기준!$B$1*'묘산-합천'!T15, -2) -> 2000 | O21: =ROUND(기준!$B$1*T16, -2) -> 1700 | P21: 1450 | T21: 합천

Sheet 계산-남계-합천
A1: 거창 - 계산 - 시)남계 - 합천
A2: 거창 | B2: 3.8 | C2: =B2+C3 -> 4.5 | D2: =C2+D4 -> 6.4 | E2: =D2+E5 -> 8.6 | F2: =E2+F6 -> 12.6 | G2: =F2+G7 -> 14 | H2: =G2+H8 -> 15.4 | I2: =H2+I9 -> 17.3 | J2: =I2+J10 -> 17.4 | K2: =J2+K11 -> 19 | L2: =K2+L12 -> 21.6 | M2: =L2+M13 -> 30.3 | N2: =M2+N14 -> 31.9 | O2: =M2+O14 -> 36.1 | P2: =O2+P16 -> 38.1 | Q2: =P2+Q17 -> 39.4 | R2: =Q2+R18 -> 42.5 | S2: =R2+S19 -> 43.7 | T2: =S2+T20 -> 47.1
A3: 국농소 | B3: 양곡 | C3: 0.7 | D3: =C3+D4 -> 2.6 | E3: =D3+E5 -> 4.8 | F3: =E3+F6 -> 8.8 | G3: =F3+G7 -> 10.2 | H3: =G3+H8 -> 11.6 | I3: =H3+I9 -> 13.5 | J3: =I3+J10 -> 13.6 | K3: =J3+K11 -> 15.2 | L3: =K3+L12 -> 17.8 | M3: =L3+M13 -> 26.5 | N3: =M3+N14 -> 28.1 | O3: =M3+O14 -> 32.3 | P3: =O3+P16 -> 34.3 | Q3: =P3+Q17 -> 35.6 | R3: =Q3+R18 -> 38.7 | S3: =R3+S19 -> 39.9 | T3: =S3+T20 -> 43.3
C4: 남하 | D4: 1.9 | E4: =D4+E5 -> 4.1 | F4: =E4+F6 -> 8.1 | G4: =F4+G7 -> 9.5 | H4: =G4+H8 -> 10.9 | I4: =H4+I9 -> 12.8 | J4: =I4+J10 -> 12.9 | K4: =J4+K11 -> 14.5 | L4: =K4+L12 -> 17.1 | M4: =L4+M13 -> 25.8 | N4: =M4+N14 -> 27.4 | O4: =M4+O14 -> 31.6 | P4: =O4+P16 -> 33.6 | Q4: =P4+Q17 -> 34.9 | R4: =Q4+R18 -> 38 | S4: =R4+S19 -> 39.2 | T4: =S4+T20 -> 42.6
D5: 산포 | E5: 2.2 | F5: =E5+F6 -> 6.2 | G5: =F5+G7 -> 7.6 | H5: =G5+H8 -> 9 | I5: =H5+I9 -> 10.9 | J5: =I5+J10 -> 11 | K5: =J5+K11 -> 12.6 | L5: =K5+L12 -> 15.2 | M5: =L5+M13 -> 23.9 | N5: =M5+N14 -> 25.5 | O5: =M5+O14 -> 29.7 | P5: =O5+P16 -> 31.7 | Q5: =P5+Q17 -> 33 | R5: =Q5+R18 -> 36.1 | S5: =R5+S19 -> 37.3 | T5: =S5+T20 -> 40.7
A6: 1450 | E6: 대야 | F6: 4 | G6: =F6+G7 -> 5.4 | H6: =G6+H8 -> 6.8 | I6: =H6+I9 -> 8.7 | J6: =I6+J10 -> 8.8 | K6: =J6+K11 -> 10.4 | L6: =K6+L12 -> 13 | M6: =L6+M13 -> 21.7 | N6: =M6+N14 -> 23.3 | O6: =M6+O14 -> 27.5 | P6: =O6+P16 -> 29.5 | Q6: =P6+Q17 -> 30.8 | R6: =Q6+R18 -> 33.9 | S6: =R6+S19 -> 35.1 | T6: =S6+T20 -> 38.5
A7: =ROUND(기준!$B$1*F2, -2) -> 1800 | F7: 가천교 | G7: 1.4 | H7: =G7+H8 -> 2.8 | I7: =H7+I9 -> 4.7 | J7: =I7+J10 -> 4.8 | K7: =J7+K11 -> 6.4 | L7: =K7+L12 -> 9 | M7: =L7+M13 -> 17.7 | N7: =M7+N14 -> 19.3 | O7: =M7+O14 -> 23.5 | P7: =O7+P16 -> 25.5 | Q7: =P7+Q17 -> 26.8 | R7: =Q7+R18 -> 29.9 | S7: =R7+S19 -> 31.1 | T7: =S7+T20 -> 34.5
A8: =ROUND(기준!$B$1*G2, -2) -> 2000 | B8: 1450 | G8: 상현휴게 | H8: 1.4 | I8: =H8+I9 -> 3.3 | J8: =I8+J10 -> 3.4 | K8: =J8+K11 -> 5 | L8: =K8+L12 -> 7.6 | M8: =L8+M13 -> 16.3 | N8: =M8+N14 -> 17.9 | O8: =M8+O14 -> 22.1 | P8: =O8+P16 -> 24.1 | Q8: =P8+Q17 -> 25.4 | R8: =Q8+R18 -> 28.5 | S8: =R8+S19 -> 29.7 | T8: =S8+T20 -> 33.1
A9: =ROUND(기준!$B$1*H2, -2) -> 2200 | B9: =ROUND(기준!$B$1*H3, -2) -> 1700 | C9: 1450 | F9: (상현마을입구) | H9: 부자정 | I9: 1.9 | J9: =I9+J10 -> 2 | K9: =J9+K11 -> 3.6 | L9: =K9+L12 -> 6.2 | M9: =L9+M13 -> 14.9 | N9: =M9+N14 -> 16.5 | O9: =M9+O14 -> 20.7 | P9: =O9+P16 -> 22.7 | Q9: =P9+Q17 -> 24 | R9: =Q9+R18 -> 27.1 | S9: =R9+S19 -> 28.3 | T9: =S9+T20 -> 31.7
A10: =ROUND(기준!$B$1*I2, -2) -> 2500 | B10: =ROUND(기준!$B$1*I3, -2) -> 2000 | C10: =ROUND(기준!$B$1*I4, -2) -> 1900 | D10: 1450 | I10: 봉산 | J10: 0.1 | K10: =J10+K11+0.6 -> 2.3 | L10: =K10+L12 -> 4.9 | M10: =L10+M13 -> 13.6 | N10: =M10+N14 -> 15.2 | O10: =M10+O14 -> 19.4 | P10: =O10+P16 -> 21.4 | Q10: =P10+Q17 -> 22.7 | R10: =Q10+R18 -> 25.8 | S10: =R10+S19 -> 27 | T10: =S10+T20 -> 30.4
A11: =ROUND(기준!$B$1*J2, -2) -> 2500 | B11: =ROUND(기준!$B$1*J3, -2) -> 2000 | C11: =ROUND(기준!$B$1*J4, -2) -> 1900 | D11: =ROUND(기준!$B$1*J5, -2) -> 1600 | J11: 압곡 | K11: 1.6 | L11: =K11+L12 -> 4.2 | M11: =L11+M13 -> 12.9 | N11: =M11+N14 -> 14.5 | O11: =M11+O14 -> 18.7 | P11: =O11+P16 -> 20.7 | Q11: =P11+Q17 -> 22 | R11: =Q11+R18 -> 25.1 | S11: =R11+S19 -> 26.3 | T11: =S11+T20 -> 29.7
A12: =ROUND(기준!$B$1*'계산-남계-합천'!K2, -2) -> 2800 | B12: =ROUND(기준!$B$1*'계산-남계-합천'!K3, -2) -> 2200 | C12: =ROUND(기준!$B$1*'계산-남계-합천'!K4, -2) -> 2100 | D12: =ROUND(기준!$B$1*'계산-남계-합천'!K5, -2) -> 1800 | E12: 1450 | K12: 권빈 | L12: 2.6 | M12: =L12+M13 -> 11.3 | N12: =M12+N14 -> 12.9 | O12: =M12+O14 -> 17.1 | P12: =O12+P16 -> 19.1 | Q12: =P12+Q17 -> 20.4 | R12: =Q12+R18 -> 23.5 | S12: =R12+S19 -> 24.7 | T12: =S12+T20 -> 28.1
A13: =ROUND(기준!$B$1*'계산-남계-합천'!L2, -2) -> 3100 | B13: =ROUND(기준!$B$1*'계산-남계-합천'!L3, -2) -> 2600 | C13: =ROUND(기준!$B$1*'계산-남계-합천'!L4, -2) -> 2500 | D13: =ROUND(기준!$B$1*'계산-남계-합천'!L5, -2) -> 2200 | E13: =ROUND(기준!$B$1*'계산-남계-합천'!L6, -2) -> 1900 | F13: 1450 | G13: 1450 | H13: 1450 | I13: 1450 | J13: 1450 | K13: 1450 | L13: 송림 | M13: 8.7 | N13: =M13+N14 -> 10.3 | O13: =M13+O14 -> 14.5 | P13: =O13+P16 -> 16.5 | Q13: =P13+Q17 -> 17.8 | R13: =Q13+R18 -> 20.9 | S13: =R13+S19 -> 22.1 | T13: =S13+T20 -> 25.5
A14: =ROUND(기준!$B$1*'계산-남계-합천'!M2, -2) -> 4400 | B14: =ROUND(기준!$B$1*'계산-남계-합천'!M3, -2) -> 3900 | C14: =ROUND(기준!$B$1*'계산-남계-합천'!M4, -2) -> 3700 | D14: =ROUND(기준!$B$1*'계산-남계-합천'!M5, -2) -> 3500 | E14: =ROUND(기준!$B$1*'계산-남계-합천'!M6, -2) -> 3200 | F14: =ROUND(기준!$B$1*'계산-남계-합천'!M7, -2) -> 2600 | G14: =ROUND(기준!$B$1*'계산-남계-합천'!M8, -2) -> 2400 | H14: =ROUND(기준!$B$1*'계산-남계-합천'!M9, -2) -> 2200 | I14: =ROUND(기준!$B$1*M10, -2) -> 2000 | J14: =ROUND(기준!$B$1*M11, -2) -> 1900 | K14: =ROUND(기준!$B$1*M12, -2) -> 1600 | M14: 계산 | N14: 1.6 | O14: 5.8 | P14: =O14+P16 -> 7.8 | Q14: =P14+Q17 -> 9.1 | R14: =Q14+R18 -> 12.2 | S14: =R14+S19 -> 13.4 | T14: =S14+T20 -> 16.8
A15: =ROUND(기준!$B$1*'계산-남계-합천'!N2, -2) -> 4600 | B15: =ROUND(기준!$B$1*'계산-남계-합천'!N3, -2) -> 4100 | C15: =ROUND(기준!$B$1*'계산-남계-합천'!N4, -2) -> 4000 | D15: =ROUND(기준!$B$1*'계산-남계-합천'!N5, -2) -> 3700 | E15: =ROUND(기준!$B$1*'계산-남계-합천'!N6, -2) -> 3400 | F15: =ROUND(기준!$B$1*'계산-남계-합천'!N7, -2) -> 2800 | G15: =ROUND(기준!$B$1*'계산-남계-합천'!N8, -2) -> 2600 | H15: =ROUND(기준!$B$1*'계산-남계-합천'!N9, -2) -> 2400 | I15: =ROUND(기준!$B$1*'계산-남계-합천'!N10, -2) -> 2200 | J15: =ROUND(기준!$B$1*N11, -2) -> 2100 | K15: =ROUND(기준!$B$1*N12, -2) -> 1900 | L15: 1450 | N15: 남계 | O15: =N14+O14 -> 7.4 | P15: =O15+P16 -> 9.4 | Q15: =P15+Q17 -> 10.7 | R15: =Q15+R18 -> 13.8 | S15: =R15+S19 -> 15 | T15: =S15+T20 -> 18.4
A16: =ROUND(기준!$B$1*'계산-남계-합천'!O2, -2) -> 5200 | B16: =ROUND(기준!$B$1*'계산-남계-합천'!O3, -2) -> 4700 | C16: =ROUND(기준!$B$1*'계산-남계-합천'!O4, -2) -> 4600 | D16: =ROUND(기준!$B$1*'계산-남계-합천'!O5, -2) -> 4300 | E16: =ROUND(기준!$B$1*'계산-남계-합천'!O6, -2) -> 4000 | F16: =ROUND(기준!$B$1*'계산-남계-합천'!O7, -2) -> 3400 | G16: =ROUND(기준!$B$1*'계산-남계-합천'!O8, -2) -> 3200 | H16: =ROUND(기준!$B$1*'계산-남계-합천'!O9, -2) -> 3000 | I16: =ROUND(기준!$B$1*'계산-남계-합천'!O10, -2) -> 2800 | J16: =ROUND(기준!$B$1*O11, -2) -> 2700 | K16: =ROUND(기준!$B$1*O12, -2) -> 2500 | L16: =ROUND(기준!$B$1*O13, -2) -> 2100 | O16: 인곡 | P16: 2 | Q16: =P16+Q17 -> 3.3 | R16: =Q16+R18 -> 6.4 | S16: =R16+S19 -> 7.6 | T16: =S16+T20 -> 11
A17: =ROUND(기준!$B$1*'계산-남계-합천'!P2, -2) -> 5500 | B17: =ROUND(기준!$B$1*'계산-남계-합천'!P3, -2) -> 5000 | C17: =ROUND(기준!$B$1*'계산-남계-합천'!P4, -2) -> 4900 | D17: =ROUND(기준!$B$1*'계산-남계-합천'!P5, -2) -> 4600 | E17: =ROUND(기준!$B$1*'계산-남계-합천'!P6, -2) -> 4300 | F17: =ROUND(기준!$B$1*'계산-남계-합천'!P7, -2) -> 3700 | G17: =ROUND(기준!$B$1*'계산-남계-합천'!P8, -2) -> 3500 | H17: =ROUND(기준!$B$1*'계산-남계-합천'!P9, -2) -> 3300 | I17: =ROUND(기준!$B$1*'계산-남계-합천'!P10, -2) -> 3100 | J17: =ROUND(기준!$B$1*'계산-남계-합천'!P11, -2) -> 3000 | K17: =ROUND(기준!$B$1*P12, -2) -> 2800 | L17: =ROUND(기준!$B$1*P13, -2) -> 2400 | O17: 안터 | P17: 장계 | Q17: 1.3 | R17: =Q17+R18 -> 4.4 | S17: =R17+S19 -> 5.6 | T17: =S17+T20 -> 9
A18: =ROUND(기준!$B$1*'계산-남계-합천'!Q2, -2) -> 5700 | B18: =ROUND(기준!$B$1*'계산-남계-합천'!Q3, -2) -> 5200 | C18: =ROUND(기준!$B$1*'계산-남계-합천'!Q4, -2) -> 5100 | D18: =ROUND(기준!$B$1*'계산-남계-합천'!Q5, -2) -> 4800 | E18: =ROUND(기준!$B$1*'계산-남계-합천'!Q6, -2) -> 4500 | F18: =ROUND(기준!$B$1*'계산-남계-합천'!Q7, -2) -> 3900 | G18: =ROUND(기준!$B$1*'계산-남계-합천'!Q8, -2) -> 3700 | H18: =ROUND(기준!$B$1*'계산-남계-합천'!Q9, -2) -> 3500 | I18: =ROUND(기준!$B$1*'계산-남계-합천'!Q10, -2) -> 3300 | J18: =ROUND(기준!$B$1*'계산-남계-합천'!Q11, -2) -> 3200 | K18: =ROUND(기준!$B$1*'계산-남계-합천'!Q12, -2) -> 3000 | L18: =ROUND(기준!$B$1*Q13, -2) -> 2600 | M18: 1450 | N18: 1450 | Q18: 남암 | R18: 3.1 | S18: =R18+S19 -> 4.3 | T18: =S18+T20 -> 7.7
A19: =ROUND(기준!$B$1*'계산-남계-합천'!R2, -2) -> 6200 | B19: =ROUND(기준!$B$1*'계산-남계-합천'!R3, -2) -> 5600 | C19: =ROUND(기준!$B$1*'계산-남계-합천'!R4, -2) -> 5500 | D19: =ROUND(기준!$B$1*'계산-남계-합천'!R5, -2) -> 5200 | E19: =ROUND(기준!$B$1*'계산-남계-합천'!R6, -2) -> 4900 | F19: =ROUND(기준!$B$1*'계산-남계-합천'!R7, -2) -> 4300 | G19: =ROUND(기준!$B$1*'계산-남계-합천'!R8, -2) -> 4100 | H19: =ROUND(기준!$B$1*'계산-남계-합천'!R9, -2) -> 3900 | I19: =ROUND(기준!$B$1*'계산-남계-합천'!R10, -2) -> 3700 | J19: =ROUND(기준!$B$1*'계산-남계-합천'!R11, -2) -> 3600 | K19: =ROUND(기준!$B$1*'계산-남계-합천'!R12, -2) -> 3400 | L19: =ROUND(기준!$B$1*'계산-남계-합천'!R13, -2) -> 3000 | M19: =ROUND(기준!$B$1*R14, -2) -> 1800 | N19: =ROUND(기준!$B$1*R15, -2) -> 2000 | R19: 남전동 | S19: 1.2 | T19: =S19+T20 -> 4.6
A20: =ROUND(기준!$B$1*'계산-남계-합천'!S2, -2) -> 6400 | B20: =ROUND(기준!$B$1*'계산-남계-합천'!S3, -2) -> 5800 | C20: =ROUND(기준!$B$1*'계산-남계-합천'!S4, -2) -> 5700 | D20: =ROUND(기준!$B$1*'계산-남계-합천'!S5, -2) -> 5400 | E20: =ROUND(기준!$B$1*'계산-남계-합천'!S6, -2) -> 5100 | F20: =ROUND(기준!$B$1*'계산-남계-합천'!S7, -2) -> 4500 | G20: =ROUND(기준!$B$1*'계산-남계-합천'!S8, -2) -> 4300 | H20: =ROUND(기준!$B$1*'계산-남계-합천'!S9, -2) -> 4100 | I20: =ROUND(기준!$B$1*'계산-남계-합천'!S10, -2) -> 3900 | J20: =ROUND(기준!$B$1*'계산-남계-합천'!S11, -2) -> 3800 | K20: =ROUND(기준!$B$1*'계산-남계-합천'!S12, -2) -> 3600 | L20: =ROUND(기준!$B$1*'계산-남계-합천'!S13, -2) -> 3200 | M20: =ROUND(기준!$B$1*'계산-남계-합천'!S14, -2) -> 1900 | N20: =ROUND(기준!$B$1*S15, -2) -> 2200 | O20: 1450 | S20: 계림 | T20: 3.4
A21: 5800 | B21: 4800 | C21: 4700 | D21: 4400 | E21: 4100 | F21: 3600 | G21: 3400 | H21: 3200 | I21: 3100 | J21: 3000 | K21: 2800 | L21: =ROUND(기준!$B$1*'계산-남계-합천'!T13, -2) -> 3700 | M21: =ROUND(기준!$B$1*'계산-남계-합천'!T14, -2) -> 2400 | N21: =ROUND(기준!$B$1*'계산-남계-합천'!T15, -2) -> 2700 | O21: =ROUND(기준!$B$1*'계산-남계-합천'!T16, -2) -> 1600 | P21: 1450 | T21: 합천

Sheet 대병-평학-합천(직)
A1: 거창 - 대병 - 평학 - 합천
A2: 거창 | B2: 3.8 | C2: =B2+C3 -> 4.5 | D2: =C2+D4 -> 6.4 | E2: =D2+E5 -> 8.6 | F2: =E2+F6 -> 12.6 | G2: =F2+G7 -> 14 | H2: =G2+H8 -> 15.4 | I2: =H2+I9 -> 17.3 | J2: =I2+J10 -> 20 | K2: =J2+K11 -> 21 | L2: =K2+L12 -> 24.2 | M2: =L2+M13 -> 26.3 | N2: =M2+N14 -> 29 | O2: =N2+O15 -> 33.5 | P2: =O2+P16 -> 35 | Q2: =P2+Q17 -> 36.5 | R2: =Q2+R18 -> 37.5 | S2: =R2+S19 -> 40.6 | T2: =S2+T20 -> 41.2 | U2: =T2+U21 -> 43.1 | V2: =U2+V22 -> 46.1 | W2: =V2+W23 -> 47.5 | X2: =W2+X24 -> 48.8 | Y2: =X2+Y25 -> 50.2 | Z2: =Y2+Z26 -> 51.7 | AA2: =Z2+AA27 -> 59.9
A3: 국농소 | B3: 양곡 | C3: 0.7 | D3: =C3+D4 -> 2.6 | E3: =D3+E5 -> 4.8 | F3: =E3+F6 -> 8.8 | G3: =F3+G7 -> 10.2 | H3: =G3+H8 -> 11.6 | I3: =H3+I9 -> 13.5 | J3: =I3+J10 -> 16.2 | K3: =J3+K11 -> 17.2 | L3: =K3+L12 -> 20.4 | M3: =L3+M13 -> 22.5 | N3: =M3+N14 -> 25.2 | O3: =N3+O15 -> 29.7 | P3: =O3+P16 -> 31.2 | Q3: =P3+Q17 -> 32.7 | R3: =Q3+R18 -> 33.7 | S3: =R3+S19 -> 36.8 | T3: =S3+T20 -> 37.4 | U3: =T3+U21 -> 39.3 | V3: =U3+V22 -> 42.3 | W3: =V3+W23 -> 43.7 | X3: =W3+X24 -> 45 | Y3: =X3+Y25 -> 46.4 | Z3: =Y3+Z26 -> 47.9 | AA3: =Z3+AA27 -> 56.1
C4: 남하 | D4: 1.9 | E4: =D4+E5 -> 4.1 | F4: =E4+F6 -> 8.1 | G4: =F4+G7 -> 9.5 | H4: =G4+H8 -> 10.9 | I4: =H4+I9 -> 12.8 | J4: =I4+J10 -> 15.5 | K4: =J4+K11 -> 16.5 | L4: =K4+L12 -> 19.7 | M4: =L4+M13 -> 21.8 | N4: =M4+N14 -> 24.5 | O4: =N4+O15 -> 29 | P4: =O4+P16 -> 30.5 | Q4: =P4+Q17 -> 32 | R4: =Q4+R18 -> 33 | S4: =R4+S19 -> 36.1 | T4: =S4+T20 -> 36.7 | U4: =T4+U21 -> 38.6 | V4: =U4+V22 -> 41.6 | W4: =V4+W23 -> 43 | X4: =W4+X24 -> 44.3 | Y4: =X4+Y25 -> 45.7 | Z4: =Y4+Z26 -> 47.2 | AA4: =Z4+AA27 -> 55.4
D5: 산포 | E5: 2.2 | F5: =E5+F6 -> 6.2 | G5: =F5+G7 -> 7.6 | H5: =G5+H8 -> 9 | I5: =H5+I9 -> 10.9 | J5: =I5+J10 -> 13.6 | K5: =J5+K11 -> 14.6 | L5: =K5+L12 -> 17.8 | M5: =L5+M13 -> 19.9 | N5: =M5+N14 -> 22.6 | O5: =N5+O15 -> 27.1 | P5: =O5+P16 -> 28.6 | Q5: =P5+Q17 -> 30.1 | R5: =Q5+R18 -> 31.1 | S5: =R5+S19 -> 34.2 | T5: =S5+T20 -> 34.8 | U5: =T5+U21 -> 36.7 | V5: =U5+V22 -> 39.7 | W5: =V5+W23 -> 41.1 | X5: =W5+X24 -> 42.4 | Y5: =X5+Y25 -> 43.8 | Z5: =Y5+Z26 -> 45.3 | AA5: =Z5+AA27 -> 53.5
A6: 1450 | E6: 대야 | F6: 4 | G6: =F6+G7 -> 5.4 | H6: =G6+H8 -> 6.8 | I6: =H6+I9 -> 8.7 | J6: =I6+J10 -> 11.4 | K6: =J6+K11 -> 12.4 | L6: =K6+L12 -> 15.6 | M6: =L6+M13 -> 17.7 | N6: =M6+N14 -> 20.4 | O6: =N6+O15 -> 24.9 | P6: =O6+P16 -> 26.4 | Q6: =P6+Q17 -> 27.9 | R6: =Q6+R18 -> 28.9 | S6: =R6+S19 -> 32 | T6: =S6+T20 -> 32.6 | U6: =T6+U21 -> 34.5 | V6: =U6+V22 -> 37.5 | W6: =V6+W23 -> 38.9 | X6: =W6+X24 -> 40.2 | Y6: =X6+Y25 -> 41.6 | Z6: =Y6+Z26 -> 43.1 | AA6: =Z6+AA27 -> 51.3
A7: =ROUND(기준!$B$1*F2, -2) -> 1800 | F7: 가천교 | G7: 1.4 | H7: =G7+H8 -> 2.8 | I7: =H7+I9 -> 4.7 | J7: =I7+J10 -> 7.4 | K7: =J7+K11 -> 8.4 | L7: =K7+L12 -> 11.6 | M7: =L7+M13 -> 13.7 | N7: =M7+N14 -> 16.4 | O7: =N7+O15 -> 20.9 | P7: =O7+P16 -> 22.4 | Q7: =P7+Q17 -> 23.9 | R7: =Q7+R18 -> 24.9 | S7: =R7+S19 -> 28 | T7: =S7+T20 -> 28.6 | U7: =T7+U21 -> 30.5 | V7: =U7+V22 -> 33.5 | W7: =V7+W23 -> 34.9 | X7: =W7+X24 -> 36.2 | Y7: =X7+Y25 -> 37.6 | Z7: =Y7+Z26 -> 39.1 | AA7: =Z7+AA27 -> 47.3
A8: =ROUND(기준!$B$1*G2, -2) -> 2000 | B8: 1450 | G8: 상현휴게 | H8: 1.4 | I8: =H8+I9 -> 3.3 | J8: =I8+J10 -> 6 | K8: =J8+K11 -> 7 | L8: =K8+L12 -> 10.2 | M8: =L8+M13 -> 12.3 | N8: =M8+N14 -> 15 | O8: =N8+O15 -> 19.5 | P8: =O8+P16 -> 21 | Q8: =P8+Q17 -> 22.5 | R8: =Q8+R18 -> 23.5 | S8: =R8+S19 -> 26.6 | T8: =S8+T20 -> 27.2 | U8: =T8+U21 -> 29.1 | V8: =U8+V22 -> 32.1 | W8: =V8+W23 -> 33.5 | X8: =W8+X24 -> 34.8 | Y8: =X8+Y25 -> 36.2 | Z8: =Y8+Z26 -> 37.7 | AA8: =Z8+AA27 -> 45.9
A9: =ROUND(기준!$B$1*H2, -2) -> 2200 | B9: =ROUND(기준!$B$1*H3, -2) -> 1700 | C9: 1450 | F9: (상현마을입구) | H9: 부자정 | I9: 1.9 | J9: =I9+J10 -> 4.6 | K9: =J9+K11 -> 5.6 | L9: =K9+L12 -> 8.8 | M9: =L9+M13 -> 10.9 | N9: =M9+N14 -> 13.6 | O9: =N9+O15 -> 18.1 | P9: =O9+P16 -> 19.6 | Q9: =P9+Q17 -> 21.1 | R9: =Q9+R18 -> 22.1 | S9: =R9+S19 -> 25.2 | T9: =S9+T20 -> 25.8 | U9: =T9+U21 -> 27.7 | V9: =U9+V22 -> 30.7 | W9: =V9+W23 -> 32.1 | X9: =W9+X24 -> 33.4 | Y9: =X9+Y25 -> 34.8 | Z9: =Y9+Z26 -> 36.3 | AA9: =Z9+AA27 -> 44.5
A10: =ROUND(기준!$B$1*I2, -2) -> 2500 | B10: =ROUND(기준!$B$1*I3, -2) -> 2000 | C10: =ROUND(기준!$B$1*I4, -2) -> 1900 | D10: 1450 | E10: 1450 | I10: 봉산 | J10: 2.7 | K10: =J10+K11 -> 3.7 | L10: =K10+L12 -> 6.9 | M10: =L10+M13 -> 9 | N10: =M10+N14 -> 11.7 | O10: =N10+O15 -> 16.2 | P10: =O10+P16 -> 17.7 | Q10: =P10+Q17 -> 19.2 | R10: =Q10+R18 -> 20.2 | S10: =R10+S19 -> 23.3 | T10: =S10+T20 -> 23.9 | U10: =T10+U21 -> 25.8 | V10: =U10+V22 -> 28.8 | W10: =V10+W23 -> 30.2 | X10: =W10+X24 -> 31.5 | Y10: =X10+Y25 -> 32.9 | Z10: =Y10+Z26 -> 34.4 | AA10: =Z10+AA27 -> 42.6
A11: =ROUND(기준!$B$1*'대병-평학-합천(직)'!J2, -2) -> 2900 | B11: =ROUND(기준!$B$1*'대병-평학-합천(직)'!J3, -2) -> 2400 | C11: =ROUND(기준!$B$1*'대병-평학-합천(직)'!J4, -2) -> 2300 | D11: =ROUND(기준!$B$1*'대병-평학-합천(직)'!J5, -2) -> 2000 | E11: =ROUND(기준!$B$1*'대병-평학-합천(직)'!J6, -2) -> 1700 | J11: 거안 | K11: 1 | L11: =K11+L12 -> 4.2 | M11: =L11+M13 -> 6.3 | N11: =M11+N14 -> 9 | O11: =N11+O15 -> 13.5 | P11: =O11+P16 -> 15 | Q11: =P11+Q17 -> 16.5 | R11: =Q11+R18 -> 17.5 | S11: =R11+S19 -> 20.6 | T11: =S11+T20 -> 21.2 | U11: =T11+U21 -> 23.1 | V11: =U11+V22 -> 26.1 | W11: =V11+W23 -> 27.5 | X11: =W11+X24 -> 28.8 | Y11: =X11+Y25 -> 30.2 | Z11: =Y11+Z26 -> 31.7 | AA11: =Z11+AA27 -> 39.9
A12: =ROUND(기준!$B$1*'대병-평학-합천(직)'!K2, -2) -> 3100 | B12: =ROUND(기준!$B$1*'대병-평학-합천(직)'!K3, -2) -> 2500 | C12: =ROUND(기준!$B$1*'대병-평학-합천(직)'!K4, -2) -> 2400 | D12: =ROUND(기준!$B$1*'대병-평학-합천(직)'!K5, -2) -> 2100 | E12: =ROUND(기준!$B$1*'대병-평학-합천(직)'!K6, -2) -> 1800 | F12: 1450 | K12: 고삼 | L12: 3.2 | M12: =L12+M13 -> 5.3 | N12: =M12+N14 -> 8 | O12: =N12+O15 -> 12.5 | P12: =O12+P16 -> 14 | Q12: =P12+Q17 -> 15.5 | R12: =Q12+R18 -> 16.5 | S12: =R12+S19 -> 19.6 | T12: =S12+T20 -> 20.2 | U12: =T12+U21 -> 22.1 | V12: =U12+V22 -> 25.1 | W12: =V12+W23 -> 26.5 | X12: =W12+X24 -> 27.8 | Y12: =X12+Y25 -> 29.2 | Z12: =Y12+Z26 -> 30.7 | AA12: =Z12+AA27 -> 38.9
A13: =ROUND(기준!$B$1*'대병-평학-합천(직)'!L2, -2) -> 3500 | B13: =ROUND(기준!$B$1*'대병-평학-합천(직)'!L3, -2) -> 3000 | C13: =ROUND(기준!$B$1*'대병-평학-합천(직)'!L4, -2) -> 2900 | D13: =ROUND(기준!$B$1*'대병-평학-합천(직)'!L5, -2) -> 2600 | E13: =ROUND(기준!$B$1*'대병-평학-합천(직)'!L6, -2) -> 2300 | F13: =ROUND(기준!$B$1*'대병-평학-합천(직)'!L7, -2) -> 1700 | G13: 1450 | L13: 양지 | M13: 2.1 | N13: =M13+N14 -> 4.8 | O13: =N13+O15 -> 9.3 | P13: =O13+P16 -> 10.8 | Q13: =P13+Q17 -> 12.3 | R13: =Q13+R18 -> 13.3 | S13: =R13+S19 -> 16.4 | T13: =S13+T20 -> 17 | U13: =T13+U21 -> 18.9 | V13: =U13+V22 -> 21.9 | W13: =V13+W23 -> 23.3 | X13: =W13+X24 -> 24.6 | Y13: =X13+Y25 -> 26 | Z13: =Y13+Z26 -> 27.5 | AA13: =Z13+AA27 -> 35.7
A14: =ROUND(기준!$B$1*'대병-평학-합천(직)'!M2, -2) -> 3800 | B14: =ROUND(기준!$B$1*'대병-평학-합천(직)'!M3, -2) -> 3300 | C14: =ROUND(기준!$B$1*'대병-평학-합천(직)'!M4, -2) -> 3200 | D14: =ROUND(기준!$B$1*'대병-평학-합천(직)'!M5, -2) -> 2900 | E14: =ROUND(기준!$B$1*'대병-평학-합천(직)'!M6, -2) -> 2600 | F14: =ROUND(기준!$B$1*'대병-평학-합천(직)'!M7, -2) -> 2000 | G14: =ROUND(기준!$B$1*'대병-평학-합천(직)'!M8, -2) -> 1800 | H14: 1450 | I14: 1450 | M14: 수다 | N14: 2.7 | O14: =N14+O15 -> 7.2 | P14: =O14+P16 -> 8.7 | Q14: =P14+Q17 -> 10.2 | R14: =Q14+R18 -> 11.2 | S14: =R14+S19 -> 14.3 | T14: =S14+T20 -> 14.9 | U14: =T14+U21 -> 16.8 | V14: =U14+V22 -> 19.8 | W14: =V14+W23 -> 21.2 | X14: =W14+X24 -> 22.5 | Y14: =X14+Y25 -> 23.9 | Z14: =Y14+Z26 -> 25.4 | AA14: =Z14+AA27 -> 33.6
A15: =ROUND(기준!$B$1*'대병-평학-합천(직)'!N2, -2) -> 4200 | B15: =ROUND(기준!$B$1*'대병-평학-합천(직)'!N3, -2) -> 3700 | C15: =ROUND(기준!$B$1*'대병-평학-합천(직)'!N4, -2) -> 3600 | D15: =ROUND(기준!$B$1*'대병-평학-합천(직)'!N5, -2) -> 3300 | E15: =ROUND(기준!$B$1*'대병-평학-합천(직)'!N6, -2) -> 3000 | F15: =ROUND(기준!$B$1*'대병-평학-합천(직)'!N7, -2) -> 2400 | G15: =ROUND(기준!$B$1*'대병-평학-합천(직)'!N8, -2) -> 2200 | H15: =ROUND(기준!$B$1*'대병-평학-합천(직)'!N9, -2) -> 2000 | I15: =ROUND(기준!$B$1*'대병-평학-합천(직)'!N10, -2) -> 1700 | J15: 1450 | K15: 1450 | N15: 술곡 | O15: 4.5 | P15: =O15+P16 -> 6 | Q15: =P15+Q17 -> 7.5 | R15: =Q15+R18 -> 8.5 | S15: =R15+S19 -> 11.6 | T15: =S15+T20 -> 12.2 | U15: =T15+U21 -> 14.1 | V15: =U15+V22 -> 17.1 | W15: =V15+W23 -> 18.5 | X15: =W15+X24 -> 19.8 | Y15: =X15+Y25 -> 21.2 | Z15: =Y15+Z26 -> 22.7 | AA15: =Z15+AA27 -> 30.9
A16: =ROUND(기준!$B$1*'대병-평학-합천(직)'!O2, -2) -> 4900 | B16: =ROUND(기준!$B$1*'대병-평학-합천(직)'!O3, -2) -> 4300 | C16: =ROUND(기준!$B$1*'대병-평학-합천(직)'!O4, -2) -> 4200 | D16: =ROUND(기준!$B$1*'대병-평학-합천(직)'!O5, -2) -> 3900 | E16: =ROUND(기준!$B$1*'대병-평학-합천(직)'!O6, -2) -> 3600 | F16: =ROUND(기준!$B$1*'대병-평학-합천(직)'!O7, -2) -> 3000 | G16: =ROUND(기준!$B$1*'대병-평학-합천(직)'!O8, -2) -> 2800 | H16: =ROUND(기준!$B$1*'대병-평학-합천(직)'!O9, -2) -> 2600 | I16: =ROUND(기준!$B$1*'대병-평학-합천(직)'!O10, -2) -> 2400 | J16: =ROUND(기준!$B$1*'대병-평학-합천(직)'!O11, -2) -> 2000 | K16: =ROUND(기준!$B$1*O12, -2) -> 1800 | O16: 역평 | P16: 1.5 | Q16: =P16+Q17 -> 3 | R16: =Q16+R18 -> 4 | S16: =R16+S19 -> 7.1 | T16: =S16+T20 -> 7.7 | U16: =T16+U21 -> 9.6 | V16: =U16+V22 -> 12.6 | W16: =V16+W23 -> 14 | X16: =W16+X24 -> 15.3 | Y16: =X16+Y25 -> 16.7 | Z16: =Y16+Z26 -> 18.2 | AA16: =Z16+AA27 -> 26.4
A17: =ROUND(기준!$B$1*'대병-평학-합천(직)'!P2, -2) -> 5100 | B17: =ROUND(기준!$B$1*'대병-평학-합천(직)'!P3, -2) -> 4500 | C17: =ROUND(기준!$B$1*'대병-평학-합천(직)'!P4, -2) -> 4400 | D17: =ROUND(기준!$B$1*'대병-평학-합천(직)'!P5, -2) -> 4200 | E17: =ROUND(기준!$B$1*'대병-평학-합천(직)'!P6, -2) -> 3800 | F17: =ROUND(기준!$B$1*'대병-평학-합천(직)'!P7, -2) -> 3300 | G17: =ROUND(기준!$B$1*'대병-평학-합천(직)'!P8, -2) -> 3100 | H17: =ROUND(기준!$B$1*'대병-평학-합천(직)'!P9, -2) -> 2800 | I17: =ROUND(기준!$B$1*'대병-평학-합천(직)'!P10, -2) -> 2600 | J17: =ROUND(기준!$B$1*'대병-평학-합천(직)'!P11, -2) -> 2200 | K17: =ROUND(기준!$B$1*'대병-평학-합천(직)'!P12, -2) -> 2000 | L17: 1450 | P17: 무학사 | Q17: 1.5 | R17: =Q17+R18 -> 2.5 | S17: =R17+S19 -> 5.6 | T17: =S17+T20 -> 6.2 | U17: =T17+U21 -> 8.1 | V17: =U17+V22 -> 11.1 | W17: =V17+W23 -> 12.5 | X17: =W17+X24 -> 13.8 | Y17: =X17+Y25 -> 15.2 | Z17: =Y17+Z26 -> 16.7 | AA17: =Z17+AA27 -> 24.9
A18: =ROUND(기준!$B$1*'대병-평학-합천(직)'!Q2, -2) -> 5300 | B18: =ROUND(기준!$B$1*'대병-평학-합천(직)'!Q3, -2) -> 4800 | C18: =ROUND(기준!$B$1*'대병-평학-합천(직)'!Q4, -2) -> 4700 | D18: =ROUND(기준!$B$1*'대병-평학-합천(직)'!Q5, -2) -> 4400 | E18: =ROUND(기준!$B$1*'대병-평학-합천(직)'!Q6, -2) -> 4100 | F18: =ROUND(기준!$B$1*'대병-평학-합천(직)'!Q7, -2) -> 3500 | G18: =ROUND(기준!$B$1*'대병-평학-합천(직)'!Q8, -2) -> 3300 | H18: =ROUND(기준!$B$1*'대병-평학-합천(직)'!Q9, -2) -> 3100 | I18: =ROUND(기준!$B$1*'대병-평학-합천(직)'!Q10, -2) -> 2800 | J18: =ROUND(기준!$B$1*'대병-평학-합천(직)'!Q11, -2) -> 2400 | K18: =ROUND(기준!$B$1*'대병-평학-합천(직)'!Q12, -2) -> 2300 | L18: =ROUND(기준!$B$1*'대병-평학-합천(직)'!Q13, -2) -> 1800 | M18: 1450 | Q18: 유전 | R18: 1 | S18: =R18+S19 -> 4.1 | T18: =S18+T20 -> 4.7 | U18: =T18+U21 -> 6.6 | V18: =U18+V22 -> 9.6 | W18: =V18+W23 -> 11 | X18: =W18+X24 -> 12.3 | Y18: =X18+Y25 -> 13.7 | Z18: =Y18+Z26 -> 15.2 | AA18: =Z18+AA27 -> 23.4
A19: =ROUND(기준!$B$1*'대병-평학-합천(직)'!R2, -2) -> 5400 | B19: =ROUND(기준!$B$1*'대병-평학-합천(직)'!R3, -2) -> 4900 | C19: =ROUND(기준!$B$1*'대병-평학-합천(직)'!R4, -2) -> 4800 | D19: =ROUND(기준!$B$1*'대병-평학-합천(직)'!R5, -2) -> 4500 | E19: =ROUND(기준!$B$1*'대병-평학-합천(직)'!R6, -2) -> 4200 | F19: =ROUND(기준!$B$1*'대병-평학-합천(직)'!R7, -2) -> 3600 | G19: =ROUND(기준!$B$1*'대병-평학-합천(직)'!R8, -2) -> 3400 | H19: =ROUND(기준!$B$1*'대병-평학-합천(직)'!R9, -2) -> 3200 | I19: =ROUND(기준!$B$1*'대병-평학-합천(직)'!R10, -2) -> 2900 | J19: =ROUND(기준!$B$1*'대병-평학-합천(직)'!R11, -2) -> 2500 | K19: =ROUND(기준!$B$1*'대병-평학-합천(직)'!R12, -2) -> 2400 | L19: =ROUND(기준!$B$1*'대병-평학-합천(직)'!R13, -2) -> 1900 | M19: =ROUND(기준!$B$1*'대병-평학-합천(직)'!R14, -2) -> 1600 | N19: 1450 | R19: 하금 | S19: 3.1 | T19: =S19+T20 -> 3.7 | U19: =T19+U21 -> 5.6 | V19: =U19+V22 -> 8.6 | W19: =V19+W23 -> 10 | X19: =W19+X24 -> 11.3 | Y19: =X19+Y25 -> 12.7 | Z19: =Y19+Z26 -> 14.2 | AA19: =Z19+AA27 -> 22.4
A20: =ROUND(기준!$B$1*'대병-평학-합천(직)'!S2, -2) -> 5900 | B20: =ROUND(기준!$B$1*'대병-평학-합천(직)'!S3, -2) -> 5300 | C20: =ROUND(기준!$B$1*'대병-평학-합천(직)'!S4, -2) -> 5200 | D20: =ROUND(기준!$B$1*'대병-평학-합천(직)'!S5, -2) -> 5000 | E20: =ROUND(기준!$B$1*'대병-평학-합천(직)'!S6, -2) -> 4700 | F20: =ROUND(기준!$B$1*'대병-평학-합천(직)'!S7, -2) -> 4100 | G20: =ROUND(기준!$B$1*'대병-평학-합천(직)'!S8, -2) -> 3900 | H20: =ROUND(기준!$B$1*'대병-평학-합천(직)'!S9, -2) -> 3700 | I20: =ROUND(기준!$B$1*'대병-평학-합천(직)'!S10, -2) -> 3400 | J20: =ROUND(기준!$B$1*'대병-평학-합천(직)'!S11, -2) -> 3000 | K20: =ROUND(기준!$B$1*'대병-평학-합천(직)'!S12, -2) -> 2800 | L20: =ROUND(기준!$B$1*'대병-평학-합천(직)'!S13, -2) -> 2400 | M20: =ROUND(기준!$B$1*'대병-평학-합천(직)'!S14, -2) -> 2100 | N20: =ROUND(기준!$B$1*'대병-평학-합천(직)'!S15, -2) -> 1700 | S20: 대병 | T20: 0.6 | U20: =T20+U21 -> 2.5 | V20: =U20+V22 -> 5.5 | W20: =V20+W23 -> 6.9 | X20: =W20+X24 -> 8.2 | Y20: =X20+Y25 -> 9.6 | Z20: =Y20+Z26 -> 11.1 | AA20: =Z20+AA27 -> 19.3
A21: =ROUND(기준!$B$1*T2, -2) -> 6000 | B21: =ROUND(기준!$B$1*'대병-평학-합천(직)'!T3, -2) -> 5400 | C21: =ROUND(기준!$B$1*'대병-평학-합천(직)'!T4, -2) -> 5300 | D21: =ROUND(기준!$B$1*'대병-평학-합천(직)'!T5, -2) -> 5100 | E21: =ROUND(기준!$B$1*'대병-평학-합천(직)'!T6, -2) -> 4700 | F21: =ROUND(기준!$B$1*'대병-평학-합천(직)'!T7, -2) -> 4200 | G21: =ROUND(기준!$B$1*'대병-평학-합천(직)'!T8, -2) -> 4000 | H21: =ROUND(기준!$B$1*'대병-평학-합천(직)'!T9, -2) -> 3700 | I21: =ROUND(기준!$B$1*'대병-평학-합천(직)'!T10, -2) -> 3500 | J21: =ROUND(기준!$B$1*'대병-평학-합천(직)'!T11, -2) -> 3100 | K21: =ROUND(기준!$B$1*'대병-평학-합천(직)'!T12, -2) -> 2900 | L21: =ROUND(기준!$B$1*'대병-평학-합천(직)'!T13, -2) -> 2500 | M21: =ROUND(기준!$B$1*'대병-평학-합천(직)'!T14, -2) -> 2200 | N21: =ROUND(기준!$B$1*'대병-평학-합천(직)'!T15, -2) -> 1800 | T21: 회양 | U21: 1.9 | V21: =U21+V22 -> 4.9 | W21: =V21+W23 -> 6.3 | X21: =W21+X24 -> 7.6 | Y21: =X21+Y25 -> 9 | Z21: =Y21+Z26 -> 10.5 | AA21: =Z21+AA27 -> 18.7
A22: =ROUND(기준!$B$1*U2, -2) -> 6300 | B22: =ROUND(기준!$B$1*'대병-평학-합천(직)'!U3, -2) -> 5700 | C22: =ROUND(기준!$B$1*'대병-평학-합천(직)'!U4, -2) -> 5600 | D22: =ROUND(기준!$B$1*'대병-평학-합천(직)'!U5, -2) -> 5300 | E22: =ROUND(기준!$B$1*'대병-평학-합천(직)'!U6, -2) -> 5000 | F22: =ROUND(기준!$B$1*'대병-평학-합천(직)'!U7, -2) -> 4400 | G22: =ROUND(기준!$B$1*'대병-평학-합천(직)'!U8, -2) -> 4200 | H22: =ROUND(기준!$B$1*'대병-평학-합천(직)'!U9, -2) -> 4000 | I22: =ROUND(기준!$B$1*'대병-평학-합천(직)'!U10, -2) -> 3700 | J22: =ROUND(기준!$B$1*'대병-평학-합천(직)'!U11, -2) -> 3400 | K22: =ROUND(기준!$B$1*'대병-평학-합천(직)'!U12, -2) -> 3200 | L22: =ROUND(기준!$B$1*'대병-평학-합천(직)'!U13, -2) -> 2700 | M22: =ROUND(기준!$B$1*'대병-평학-합천(직)'!U14, -2) -> 2400 | N22: =ROUND(기준!$B$1*'대병-평학-합천(직)'!U15, -2) -> 2000 | O22: 1450 | P22: 1450 | T22: 월정 | U22: 합천댐 | V22: 3 | W22: =V22+W23 -> 4.4 | X22: =W22+X24 -> 5.7 | Y22: =X22+Y25 -> 7.1 | Z22: =Y22+Z26 -> 8.6 | AA22: =Z22+AA27 -> 16.8
A23: =ROUND(기준!$B$1*V2, -2) -> 6700 | B23: =ROUND(기준!$B$1*'대병-평학-합천(직)'!V3, -2) -> 6100 | C23: =ROUND(기준!$B$1*'대병-평학-합천(직)'!V4, -2) -> 6000 | D23: =ROUND(기준!$B$1*'대병-평학-합천(직)'!V5, -2) -> 5800 | E23: =ROUND(기준!$B$1*'대병-평학-합천(직)'!V6, -2) -> 5400 | F23: =ROUND(기준!$B$1*'대병-평학-합천(직)'!V7, -2) -> 4900 | G23: =ROUND(기준!$B$1*'대병-평학-합천(직)'!V8, -2) -> 4700 | H23: =ROUND(기준!$B$1*'대병-평학-합천(직)'!V9, -2) -> 4500 | I23: =ROUND(기준!$B$1*'대병-평학-합천(직)'!V10, -2) -> 4200 | J23: =ROUND(기준!$B$1*'대병-평학-합천(직)'!V11, -2) -> 3800 | K23: =ROUND(기준!$B$1*'대병-평학-합천(직)'!V12, -2) -> 3600 | L23: =ROUND(기준!$B$1*'대병-평학-합천(직)'!V13, -2) -> 3200 | M23: =ROUND(기준!$B$1*'대병-평학-합천(직)'!V14, -2) -> 2900 | N23: =ROUND(기준!$B$1*'대병-평학-합천(직)'!V15, -2) -> 2500 | O23: =ROUND(기준!$B$1*'대병-평학-합천(직)'!V16, -2) -> 1800 | P23: =ROUND(기준!$B$1*'대병-평학-합천(직)'!V17, -2) -> 1600 | Q23: 1450 | V23: 평학 | W23: 1.4 | X23: =W23+X24 -> 2.7 | Y23: =X23+Y25 -> 4.1 | Z23: =Y23+Z26 -> 5.6 | AA23: =Z23+AA27 -> 13.8
A24: =ROUND(기준!$B$1*W2, -2) -> 6900 | B24: =ROUND(기준!$B$1*W3, -2) -> 6400 | C24: =ROUND(기준!$B$1*'대병-평학-합천(직)'!W4, -2) -> 6200 | D24: =ROUND(기준!$B$1*'대병-평학-합천(직)'!W5, -2) -> 6000 | E24: =ROUND(기준!$B$1*'대병-평학-합천(직)'!W6, -2) -> 5700 | F24: =ROUND(기준!$B$1*'대병-평학-합천(직)'!W7, -2) -> 5100 | G24: =ROUND(기준!$B$1*'대병-평학-합천(직)'!W8, -2) -> 4900 | H24: =ROUND(기준!$B$1*'대병-평학-합천(직)'!W9, -2) -> 4700 | I24: =ROUND(기준!$B$1*'대병-평학-합천(직)'!W10, -2) -> 4400 | J24: =ROUND(기준!$B$1*'대병-평학-합천(직)'!W11, -2) -> 4000 | K24: =ROUND(기준!$B$1*'대병-평학-합천(직)'!W12, -2) -> 3900 | L24: =ROUND(기준!$B$1*'대병-평학-합천(직)'!W13, -2) -> 3400 | M24: =ROUND(기준!$B$1*'대병-평학-합천(직)'!W14, -2) -> 3100 | N24: =ROUND(기준!$B$1*'대병-평학-합천(직)'!W15, -2) -> 2700 | O24: =ROUND(기준!$B$1*'대병-평학-합천(직)'!W16, -2) -> 2000 | P24: =ROUND(기준!$B$1*'대병-평학-합천(직)'!W17, -2) -> 1800 | Q24: =ROUND(기준!$B$1*'대병-평학-합천(직)'!W18, -2) -> 1600 | R24: 1450 | W24: 용문정 | X24: 1.3 | Y24: =X24+Y25 -> 2.7 | Z24: =Y24+Z26 -> 4.2 | AA24: =Z24+AA27 -> 12.4
A25: =ROUND(기준!$B$1*X2, -2) -> 7100 | B25: =ROUND(기준!$B$1*X3, -2) -> 6500 | C25: =ROUND(기준!$B$1*X4, -2) -> 6400 | D25: =ROUND(기준!$B$1*'대병-평학-합천(직)'!X5, -2) -> 6200 | E25: =ROUND(기준!$B$1*'대병-평학-합천(직)'!X6, -2) -> 5800 | F25: =ROUND(기준!$B$1*'대병-평학-합천(직)'!X7, -2) -> 5300 | G25: =ROUND(기준!$B$1*'대병-평학-합천(직)'!X8, -2) -> 5100 | H25: =ROUND(기준!$B$1*'대병-평학-합천(직)'!X9, -2) -> 4900 | I25: =ROUND(기준!$B$1*'대병-평학-합천(직)'!X10, -2) -> 4600 | J25: =ROUND(기준!$B$1*'대병-평학-합천(직)'!X11, -2) -> 4200 | K25: =ROUND(기준!$B$1*'대병-평학-합천(직)'!X12, -2) -> 4000 | L25: =ROUND(기준!$B$1*'대병-평학-합천(직)'!X13, -2) -> 3600 | M25: =ROUND(기준!$B$1*'대병-평학-합천(직)'!X14, -2) -> 3300 | N25: =ROUND(기준!$B$1*'대병-평학-합천(직)'!X15, -2) -> 2900 | O25: =ROUND(기준!$B$1*'대병-평학-합천(직)'!X16, -2) -> 2200 | P25: =ROUND(기준!$B$1*'대병-평학-합천(직)'!X17, -2) -> 2000 | Q25: =ROUND(기준!$B$1*'대병-평학-합천(직)'!X18, -2) -> 1800 | R25: =ROUND(기준!$B$1*'대병-평학-합천(직)'!X19, -2) -> 1600 | W25: (가호리) | X25: 테마파크 | Y25: 1.4 | Z25: =Y25+Z26 -> 2.9 | AA25: =Z25+AA27 -> 11.1
A26: =ROUND(기준!$B$1*Y2, -2) -> 7300 | B26: =ROUND(기준!$B$1*Y3, -2) -> 6700 | C26: =ROUND(기준!$B$1*Y4, -2) -> 6600 | D26: =ROUND(기준!$B$1*Y5, -2) -> 6400 | E26: =ROUND(기준!$B$1*'대병-평학-합천(직)'!Y6, -2) -> 6000 | F26: =ROUND(기준!$B$1*'대병-평학-합천(직)'!Y7, -2) -> 5500 | G26: =ROUND(기준!$B$1*'대병-평학-합천(직)'!Y8, -2) -> 5300 | H26: =ROUND(기준!$B$1*'대병-평학-합천(직)'!Y9, -2) -> 5100 | I26: =ROUND(기준!$B$1*'대병-평학-합천(직)'!Y10, -2) -> 4800 | J26: =ROUND(기준!$B$1*'대병-평학-합천(직)'!Y11, -2) -> 4400 | K26: =ROUND(기준!$B$1*'대병-평학-합천(직)'!Y12, -2) -> 4200 | L26: =ROUND(기준!$B$1*'대병-평학-합천(직)'!Y13, -2) -> 3800 | M26: =ROUND(기준!$B$1*'대병-평학-합천(직)'!Y14, -2) -> 3500 | N26: =ROUND(기준!$B$1*'대병-평학-합천(직)'!Y15, -2) -> 3100 | O26: =ROUND(기준!$B$1*'대병-평학-합천(직)'!Y16, -2) -> 2400 | P26: =ROUND(기준!$B$1*'대병-평학-합천(직)'!Y17, -2) -> 2200 | Q26: =ROUND(기준!$B$1*'대병-평학-합천(직)'!Y18, -2) -> 2000 | R26: =ROUND(기준!$B$1*'대병-평학-합천(직)'!Y19, -2) -> 1800 | S26: 1450 | X26: 수련원 | Y26: 봉기 | Z26: 1.5 | AA26: =Z26+AA27 -> 9.7
A27: =ROUND(기준!$B$1*Z2, -2) -> 7500 | B27: =ROUND(기준!$B$1*Z3, -2) -> 7000 | C27: =ROUND(기준!$B$1*Z4, -2) -> 6900 | D27: =ROUND(기준!$B$1*Z5, -2) -> 6600 | E27: =ROUND(기준!$B$1*Z6, -2) -> 6300 | F27: =ROUND(기준!$B$1*'대병-평학-합천(직)'!Z7, -2) -> 5700 | G27: =ROUND(기준!$B$1*'대병-평학-합천(직)'!Z8, -2) -> 5500 | H27: =ROUND(기준!$B$1*'대병-평학-합천(직)'!Z9, -2) -> 5300 | I27: =ROUND(기준!$B$1*'대병-평학-합천(직)'!Z10, -2) -> 5000 | J27: =ROUND(기준!$B$1*'대병-평학-합천(직)'!Z11, -2) -> 4600 | K27: =ROUND(기준!$B$1*'대병-평학-합천(직)'!Z12, -2) -> 4500 | L27: =ROUND(기준!$B$1*'대병-평학-합천(직)'!Z13, -2) -> 4000 | M27: =ROUND(기준!$B$1*'대병-평학-합천(직)'!Z14, -2) -> 3700 | N27: =ROUND(기준!$B$1*'대병-평학-합천(직)'!Z15, -2) -> 3300 | O27: =ROUND(기준!$B$1*'대병-평학-합천(직)'!Z16, -2) -> 2600 | P27: =ROUND(기준!$B$1*'대병-평학-합천(직)'!Z17, -2) -> 2400 | Q27: =ROUND(기준!$B$1*'대병-평학-합천(직)'!Z18, -2) -> 2200 | R27: =ROUND(기준!$B$1*'대병-평학-합천(직)'!Z19, -2) -> 2100 | S27: =ROUND(기준!$B$1*'대병-평학-합천(직)'!Z20, -2) -> 1600 | T27: 1450 | U27: 1450 | V27: 1450 | W27: 1450 | X27: 1450 | Z27: 고품 | AA27: 8.2
A28: 5800 | B28: 4800 | C28: 4700 | D28: 4400 | E28: 4100 | F28: 3600 | G28: 3400 | H28: 3200 | I28: 3100 | J28: =ROUND(기준!$B$1*'대병-평학-합천(직)'!AA11, -2) -> 5800 | K28: =ROUND(기준!$B$1*'대병-평학-합천(직)'!AA12, -2) -> 5700 | L28: =ROUND(기준!$B$1*'대병-평학-합천(직)'!AA13, -2) -> 5200 | M28: =ROUND(기준!$B$1*'대병-평학-합천(직)'!AA14, -2) -> 4900 | N28: =ROUND(기준!$B$1*'대병-평학-합천(직)'!AA15, -2) -> 4500 | O28: =ROUND(기준!$B$1*'대병-평학-합천(직)'!AA16, -2) -> 3800 | P28: =ROUND(기준!$B$1*'대병-평학-합천(직)'!AA17, -2) -> 3600 | Q28: =ROUND(기준!$B$1*'대병-평학-합천(직)'!AA18, -2) -> 3400 | R28: =ROUND(기준!$B$1*'대병-평학-합천(직)'!AA19, -2) -> 3300 | S28: =ROUND(기준!$B$1*'대병-평학-합천(직)'!AA20, -2) -> 2800 | T28: =ROUND(기준!$B$1*'대병-평학-합천(직)'!AA21, -2) -> 2700 | U28: =ROUND(기준!$B$1*'대병-평학-합천(직)'!AA22, -2) -> 2400 | V28: =ROUND(기준!$B$1*'대병-평학-합천(직)'!AA23, -2) -> 2000 | W28: =ROUND(기준!$B$1*AA24, -2) -> 1800 | X28: =ROUND(기준!$B$1*AA25, -2) -> 1600 | Y28: 1450 | AA28: 합천

Sheet 거창-(노곡)-평학-합천
A1: 거창 - 노곡 - 대병 - 평학 - 합천
A2: 거창 | B2: 3.8 | C2: =B2+C3 -> 4.5 | D2: =C2+D4 -> 6.4 | E2: =D2+E5 -> 8.6 | F2: =E2+F6 -> 12.6 | G2: =F2+G7 -> 14 | H2: =G2+H8 -> 15.4 | I2: =H2+I9 -> 17.3 | J2: =I2+J10 -> 20 | K2: =J2+K11 -> 21 | L2: =K2+L12 -> 24.2 | M2: =L2+M13 -> 26.7 | N2: =L2+N13 -> 26.3 | O2: =N2+O15 -> 29 | P2: =O2+P16 -> 33.5 | Q2: =P2+Q17 -> 35 | R2: =Q2+R18 -> 36.5 | S2: =R2+S19 -> 37.5 | T2: =S2+T20 -> 40.6 | U2: =T2+U21 -> 41.2 | V2: =U2+V22 -> 43.1 | W2: =V2+W23 -> 46.1 | X2: =W2+X24 -> 47.5 | Y2: =X2+Y25 -> 48.8 | Z2: =Y2+Z26 -> 50.2 | AA2: =Z2+AA27 -> 51.7 | AB2: =AA2+AB28 -> 59.9
A3: 국농소 | B3: 양곡 | C3: 0.7 | D3: =C3+D4 -> 2.6 | E3: =D3+E5 -> 4.8 | F3: =E3+F6 -> 8.8 | G3: =F3+G7 -> 10.2 | H3: =G3+H8 -> 11.6 | I3: =H3+I9 -> 13.5 | J3: =I3+J10 -> 16.2 | K3: =J3+K11 -> 17.2 | L3: =K3+L12 -> 20.4 | M3: =L3+M13 -> 22.9 | N3: =L3+N13 -> 22.5 | O3: =N3+O15 -> 25.2 | P3: =O3+P16 -> 29.7 | Q3: =P3+Q17 -> 31.2 | R3: =Q3+R18 -> 32.7 | S3: =R3+S19 -> 33.7 | T3: =S3+T20 -> 36.8 | U3: =T3+U21 -> 37.4 | V3: =U3+V22 -> 39.3 | W3: =V3+W23 -> 42.3 | X3: =W3+X24 -> 43.7 | Y3: =X3+Y25 -> 45 | Z3: =Y3+Z26 -> 46.4 | AA3: =Z3+AA27 -> 47.9 | AB3: =AA3+AB28 -> 56.1
C4: 남하 | D4: 1.9 | E4: =D4+E5 -> 4.1 | F4: =E4+F6 -> 8.1 | G4: =F4+G7 -> 9.5 | H4: =G4+H8 -> 10.9 | I4: =H4+I9 -> 12.8 | J4: =I4+J10 -> 15.5 | K4: =J4+K11 -> 16.5 | L4: =K4+L12 -> 19.7 | M4: =L4+M13 -> 22.2 | N4: =L4+N13 -> 21.8 | O4: =N4+O15 -> 24.5 | P4: =O4+P16 -> 29 | Q4: =P4+Q17 -> 30.5 | R4: =Q4+R18 -> 32 | S4: =R4+S19 -> 33 | T4: =S4+T20 -> 36.1 | U4: =T4+U21 -> 36.7 | V4: =U4+V22 -> 38.6 | W4: =V4+W23 -> 41.6 | X4: =W4+X24 -> 43 | Y4: =X4+Y25 -> 44.3 | Z4: =Y4+Z26 -> 45.7 | AA4: =Z4+AA27 -> 47.2 | AB4: =AA4+AB28 -> 55.4
D5: 산포 | E5: 2.2 | F5: =E5+F6 -> 6.2 | G5: =F5+G7 -> 7.6 | H5: =G5+H8 -> 9 | I5: =H5+I9 -> 10.9 | J5: =I5+J10 -> 13.6 | K5: =J5+K11 -> 14.6 | L5: =K5+L12 -> 17.8 | M5: =L5+M13 -> 20.3 | N5: =L5+N13 -> 19.9 | O5: =N5+O15 -> 22.6 | P5: =O5+P16 -> 27.1 | Q5: =P5+Q17 -> 28.6 | R5: =Q5+R18 -> 30.1 | S5: =R5+S19 -> 31.1 | T5: =S5+T20 -> 34.2 | U5: =T5+U21 -> 34.8 | V5: =U5+V22 -> 36.7 | W5: =V5+W23 -> 39.7 | X5: =W5+X24 -> 41.1 | Y5: =X5+Y25 -> 42.4 | Z5: =Y5+Z26 -> 43.8 | AA5: =Z5+AA27 -> 45.3 | AB5: =AA5+AB28 -> 53.5
A6: 1450 | E6: 대야 | F6: 4 | G6: =F6+G7 -> 5.4 | H6: =G6+H8 -> 6.8 | I6: =H6+I9 -> 8.7 | J6: =I6+J10 -> 11.4 | K6: =J6+K11 -> 12.4 | L6: =K6+L12 -> 15.6 | M6: =L6+M13 -> 18.1 | N6: =L6+N13 -> 17.7 | O6: =N6+O15 -> 20.4 | P6: =O6+P16 -> 24.9 | Q6: =P6+Q17 -> 26.4 | R6: =Q6+R18 -> 27.9 | S6: =R6+S19 -> 28.9 | T6: =S6+T20 -> 32 | U6: =T6+U21 -> 32.6 | V6: =U6+V22 -> 34.5 | W6: =V6+W23 -> 37.5 | X6: =W6+X24 -> 38.9 | Y6: =X6+Y25 -> 40.2 | Z6: =Y6+Z26 -> 41.6 | AA6: =Z6+AA27 -> 43.1 | AB6: =AA6+AB28 -> 51.3
A7: =ROUND(기준!$B$1*F2, -2) -> 1800 | F7: 가천교 | G7: 1.4 | H7: =G7+H8 -> 2.8 | I7: =H7+I9 -> 4.7 | J7: =I7+J10 -> 7.4 | K7: =J7+K11 -> 8.4 | L7: =K7+L12 -> 11.6 | M7: =L7+M13 -> 14.1 | N7: =L7+N13 -> 13.7 | O7: =N7+O15 -> 16.4 | P7: =O7+P16 -> 20.9 | Q7: =P7+Q17 -> 22.4 | R7: =Q7+R18 -> 23.9 | S7: =R7+S19 -> 24.9 | T7: =S7+T20 -> 28 | U7: =T7+U21 -> 28.6 | V7: =U7+V22 -> 30.5 | W7: =V7+W23 -> 33.5 | X7: =W7+X24 -> 34.9 | Y7: =X7+Y25 -> 36.2 | Z7: =Y7+Z26 -> 37.6 | AA7: =Z7+AA27 -> 39.1 | AB7: =AA7+AB28 -> 47.3
A8: =ROUND(기준!$B$1*G2, -2) -> 2000 | B8: 1450 | G8: 상현휴게 | H8: 1.4 | I8: =H8+I9 -> 3.3 | J8: =I8+J10 -> 6 | K8: =J8+K11 -> 7 | L8: =K8+L12 -> 10.2 | M8: =L8+M13 -> 12.7 | N8: =L8+N13 -> 12.3 | O8: =N8+O15 -> 15 | P8: =O8+P16 -> 19.5 | Q8: =P8+Q17 -> 21 | R8: =Q8+R18 -> 22.5 | S8: =R8+S19 -> 23.5 | T8: =S8+T20 -> 26.6 | U8: =T8+U21 -> 27.2 | V8: =U8+V22 -> 29.1 | W8: =V8+W23 -> 32.1 | X8: =W8+X24 -> 33.5 | Y8: =X8+Y25 -> 34.8 | Z8: =Y8+Z26 -> 36.2 | AA8: =Z8+AA27 -> 37.7 | AB8: =AA8+AB28 -> 45.9
A9: =ROUND(기준!$B$1*H2, -2) -> 2200 | B9: =ROUND(기준!$B$1*H3, -2) -> 1700 | C9: 1450 | F9: (상현마을입구) | H9: 부자정 | I9: 1.9 | J9: =I9+J10 -> 4.6 | K9: =J9+K11 -> 5.6 | L9: =K9+L12 -> 8.8 | M9: =L9+M13 -> 11.3 | N9: =L9+N13 -> 10.9 | O9: =N9+O15 -> 13.6 | P9: =O9+P16 -> 18.1 | Q9: =P9+Q17 -> 19.6 | R9: =Q9+R18 -> 21.1 | S9: =R9+S19 -> 22.1 | T9: =S9+T20 -> 25.2 | U9: =T9+U21 -> 25.8 | V9: =U9+V22 -> 27.7 | W9: =V9+W23 -> 30.7 | X9: =W9+X24 -> 32.1 | Y9: =X9+Y25 -> 33.4 | Z9: =Y9+Z26 -> 34.8 | AA9: =Z9+AA27 -> 36.3 | AB9: =AA9+AB28 -> 44.5
A10: =ROUND(기준!$B$1*I2, -2) -> 2500 | B10: =ROUND(기준!$B$1*I3, -2) -> 2000 | C10: =ROUND(기준!$B$1*I4, -2) -> 1900 | D10: 1450 | E10: 1450 | I10: 봉산 | J10: 2.7 | K10: =J10+K11 -> 3.7 | L10: =K10+L12 -> 6.9 | M10: =L10+M13 -> 9.4 | N10: =L10+N13 -> 9 | O10: =N10+O15 -> 11.7 | P10: =O10+P16 -> 16.2 | Q10: =P10+Q17 -> 17.7 | R10: =Q10+R18 -> 19.2 | S10: =R10+S19 -> 20.2 | T10: =S10+T20 -> 23.3 | U10: =T10+U21 -> 23.9 | V10: =U10+V22 -> 25.8 | W10: =V10+W23 -> 28.8 | X10: =W10+X24 -> 30.2 | Y10: =X10+Y25 -> 31.5 | Z10: =Y10+Z26 -> 32.9 | AA10: =Z10+AA27 -> 34.4 | AB10: =AA10+AB28 -> 42.6
A11: =ROUND(기준!$B$1*'거창-(노곡)-평학-합천'!J2, -2) -> 2900 | B11: =ROUND(기준!$B$1*'거창-(노곡)-평학-합천'!J3, -2) -> 2400 | C11: =ROUND(기준!$B$1*'거창-(노곡)-평학-합천'!J4, -2) -> 2300 | D11: =ROUND(기준!$B$1*'거창-(노곡)-평학-합천'!J5, -2) -> 2000 | E11: =ROUND(기준!$B$1*'거창-(노곡)-평학-합천'!J6, -2) -> 1700 | J11: 거안 | K11: 1 | L11: =K11+L12 -> 4.2 | M11: =L11+M13 -> 6.7 | N11: =L11+N13 -> 6.3 | O11: =N11+O15 -> 9 | P11: =O11+P16 -> 13.5 | Q11: =P11+Q17 -> 15 | R11: =Q11+R18 -> 16.5 | S11: =R11+S19 -> 17.5 | T11: =S11+T20 -> 20.6 | U11: =T11+U21 -> 21.2 | V11: =U11+V22 -> 23.1 | W11: =V11+W23 -> 26.1 | X11: =W11+X24 -> 27.5 | Y11: =X11+Y25 -> 28.8 | Z11: =Y11+Z26 -> 30.2 | AA11: =Z11+AA27 -> 31.7 | AB11: =AA11+AB28 -> 39.9
A12: =ROUND(기준!$B$1*'거창-(노곡)-평학-합천'!K2, -2) -> 3100 | B12: =ROUND(기준!$B$1*'거창-(노곡)-평학-합천'!K3, -2) -> 2500 | C12: =ROUND(기준!$B$1*'거창-(노곡)-평학-합천'!K4, -2) -> 2400 | D12: =ROUND(기준!$B$1*'거창-(노곡)-평학-합천'!K5, -2) -> 2100 | E12: =ROUND(기준!$B$1*'거창-(노곡)-평학-합천'!K6, -2) -> 1800 | F12: 1450 | K12: 고삼 | L12: 3.2 | M12: =L12+M13 -> 5.7 | N12: =L12+N13 -> 5.3 | O12: =N12+O15 -> 8 | P12: =O12+P16 -> 12.5 | Q12: =P12+Q17 -> 14 | R12: =Q12+R18 -> 15.5 | S12: =R12+S19 -> 16.5 | T12: =S12+T20 -> 19.6 | U12: =T12+U21 -> 20.2 | V12: =U12+V22 -> 22.1 | W12: =V12+W23 -> 25.1 | X12: =W12+X24 -> 26.5 | Y12: =X12+Y25 -> 27.8 | Z12: =Y12+Z26 -> 29.2 | AA12: =Z12+AA27 -> 30.7 | AB12: =AA12+AB28 -> 38.9
A13: =ROUND(기준!$B$1*'거창-(노곡)-평학-합천'!L2, -2) -> 3500 | B13: =ROUND(기준!$B$1*'거창-(노곡)-평학-합천'!L3, -2) -> 3000 | C13: =ROUND(기준!$B$1*'거창-(노곡)-평학-합천'!L4, -2) -> 2900 | D13: =ROUND(기준!$B$1*'거창-(노곡)-평학-합천'!L5, -2) -> 2600 | E13: =ROUND(기준!$B$1*'거창-(노곡)-평학-합천'!L6, -2) -> 2300 | F13: =ROUND(기준!$B$1*'거창-(노곡)-평학-합천'!L7, -2) -> 1700 | G13: 1450 | H13: 1450 | L13: 양지 | M13: 2.5 | N13: 2.1 | O13: =N13+O15 -> 4.8 | P13: =O13+P16 -> 9.3 | Q13: =P13+Q17 -> 10.8 | R13: =Q13+R18 -> 12.3 | S13: =R13+S19 -> 13.3 | T13: =S13+T20 -> 16.4 | U13: =T13+U21 -> 17 | V13: =U13+V22 -> 18.9 | W13: =V13+W23 -> 21.9 | X13: =W13+X24 -> 23.3 | Y13: =X13+Y25 -> 24.6 | Z13: =Y13+Z26 -> 26 | AA13: =Z13+AA27 -> 27.5 | AB13: =AA13+AB28 -> 35.7
A14: =ROUND(기준!$B$1*M2, -2) -> 3900 | B14: =ROUND(기준!$B$1*'거창-(노곡)-평학-합천'!M3, -2) -> 3300 | C14: =ROUND(기준!$B$1*'거창-(노곡)-평학-합천'!M4, -2) -> 3200 | D14: =ROUND(기준!$B$1*'거창-(노곡)-평학-합천'!M5, -2) -> 3000 | E14: =ROUND(기준!$B$1*'거창-(노곡)-평학-합천'!M6, -2) -> 2600 | F14: =ROUND(기준!$B$1*'거창-(노곡)-평학-합천'!M7, -2) -> 2000 | G14: =ROUND(기준!$B$1*'거창-(노곡)-평학-합천'!M8, -2) -> 1800 | H14: =ROUND(기준!$B$1*'거창-(노곡)-평학-합천'!M9, -2) -> 1600 | M14: 노곡 | N14: 4 | O14: =N14+O15 -> 6.7 | P14: =O14+P16 -> 11.2 | Q14: =P14+Q17 -> 12.7 | R14: =Q14+R18 -> 14.2 | S14: =R14+S19 -> 15.2 | T14: =S14+T20 -> 18.3 | U14: =T14+U21 -> 18.9 | V14: =U14+V22 -> 20.8 | W14: =V14+W23 -> 23.8 | X14: =W14+X24 -> 25.2 | Y14: =X14+Y25 -> 26.5 | Z14: =Y14+Z26 -> 27.9 | AA14: =Z14+AA27 -> 29.4 | AB14: =AA14+AB28 -> 37.6
A15: =ROUND(기준!$B$1*'거창-(노곡)-평학-합천'!N2, -2) -> 3800 | B15: =ROUND(기준!$B$1*'거창-(노곡)-평학-합천'!N3, -2) -> 3300 | C15: =ROUND(기준!$B$1*'거창-(노곡)-평학-합천'!N4, -2) -> 3200 | D15: =ROUND(기준!$B$1*'거창-(노곡)-평학-합천'!N5, -2) -> 2900 | E15: =ROUND(기준!$B$1*'거창-(노곡)-평학-합천'!N6, -2) -> 2600 | F15: =ROUND(기준!$B$1*'거창-(노곡)-평학-합천'!N7, -2) -> 2000 | G15: =ROUND(기준!$B$1*'거창-(노곡)-평학-합천'!N8, -2) -> 1800 | H15: =ROUND(기준!$B$1*'거창-(노곡)-평학-합천'!N9, -2) -> 1600 | I15: 1450 | N15: 수다 | O15: 2.7 | P15: =O15+P16 -> 7.2 | Q15: =P15+Q17 -> 8.7 | R15: =Q15+R18 -> 10.2 | S15: =R15+S19 -> 11.2 | T15: =S15+T20 -> 14.3 | U15: =T15+U21 -> 14.9 | V15: =U15+V22 -> 16.8 | W15: =V15+W23 -> 19.8 | X15: =W15+X24 -> 21.2 | Y15: =X15+Y25 -> 22.5 | Z15: =Y15+Z26 -> 23.9 | AA15: =Z15+AA27 -> 25.4 | AB15: =AA15+AB28 -> 33.6
A16: =ROUND(기준!$B$1*'거창-(노곡)-평학-합천'!O2, -2) -> 4200 | B16: =ROUND(기준!$B$1*'거창-(노곡)-평학-합천'!O3, -2) -> 3700 | C16: =ROUND(기준!$B$1*'거창-(노곡)-평학-합천'!O4, -2) -> 3600 | D16: =ROUND(기준!$B$1*'거창-(노곡)-평학-합천'!O5, -2) -> 3300 | E16: =ROUND(기준!$B$1*'거창-(노곡)-평학-합천'!O6, -2) -> 3000 | F16: =ROUND(기준!$B$1*'거창-(노곡)-평학-합천'!O7, -2) -> 2400 | G16: =ROUND(기준!$B$1*'거창-(노곡)-평학-합천'!O8, -2) -> 2200 | H16: =ROUND(기준!$B$1*'거창-(노곡)-평학-합천'!O9, -2) -> 2000 | I16: =ROUND(기준!$B$1*'거창-(노곡)-평학-합천'!O10, -2) -> 1700 | J16: 1450 | K16: 1450 | M16: 1450 | O16: 술곡 | P16: 4.5 | Q16: =P16+Q17 -> 6 | R16: =Q16+R18 -> 7.5 | S16: =R16+S19 -> 8.5 | T16: =S16+T20 -> 11.6 | U16: =T16+U21 -> 12.2 | V16: =U16+V22 -> 14.1 | W16: =V16+W23 -> 17.1 | X16: =W16+X24 -> 18.5 | Y16: =X16+Y25 -> 19.8 | Z16: =Y16+Z26 -> 21.2 | AA16: =Z16+AA27 -> 22.7 | AB16: =AA16+AB28 -> 30.9
A17: =ROUND(기준!$B$1*'거창-(노곡)-평학-합천'!P2, -2) -> 4900 | B17: =ROUND(기준!$B$1*'거창-(노곡)-평학-합천'!P3, -2) -> 4300 | C17: =ROUND(기준!$B$1*'거창-(노곡)-평학-합천'!P4, -2) -> 4200 | D17: =ROUND(기준!$B$1*'거창-(노곡)-평학-합천'!P5, -2) -> 3900 | E17: =ROUND(기준!$B$1*'거창-(노곡)-평학-합천'!P6, -2) -> 3600 | F17: =ROUND(기준!$B$1*'거창-(노곡)-평학-합천'!P7, -2) -> 3000 | G17: =ROUND(기준!$B$1*'거창-(노곡)-평학-합천'!P8, -2) -> 2800 | H17: =ROUND(기준!$B$1*'거창-(노곡)-평학-합천'!P9, -2) -> 2600 | I17: =ROUND(기준!$B$1*'거창-(노곡)-평학-합천'!P10, -2) -> 2400 | J17: =ROUND(기준!$B$1*'거창-(노곡)-평학-합천'!P11, -2) -> 2000 | K17: =ROUND(기준!$B$1*P12, -2) -> 1800 | M17: =ROUND(기준!$B$1*P14, -2) -> 1600 | P17: 역평 | Q17: 1.5 | R17: =Q17+R18 -> 3 | S17: =R17+S19 -> 4 | T17: =S17+T20 -> 7.1 | U17: =T17+U21 -> 7.7 | V17: =U17+V22 -> 9.6 | W17: =V17+W23 -> 12.6 | X17: =W17+X24 -> 14 | Y17: =X17+Y25 -> 15.3 | Z17: =Y17+Z26 -> 16.7 | AA17: =Z17+AA27 -> 18.2 | AB17: =AA17+AB28 -> 26.4
A18: =ROUND(기준!$B$1*'거창-(노곡)-평학-합천'!Q2, -2) -> 5100 | B18: =ROUND(기준!$B$1*'거창-(노곡)-평학-합천'!Q3, -2) -> 4500 | C18: =ROUND(기준!$B$1*'거창-(노곡)-평학-합천'!Q4, -2) -> 4400 | D18: =ROUND(기준!$B$1*'거창-(노곡)-평학-합천'!Q5, -2) -> 4200 | E18: =ROUND(기준!$B$1*'거창-(노곡)-평학-합천'!Q6, -2) -> 3800 | F18: =ROUND(기준!$B$1*'거창-(노곡)-평학-합천'!Q7, -2) -> 3300 | G18: =ROUND(기준!$B$1*'거창-(노곡)-평학-합천'!Q8, -2) -> 3100 | H18: =ROUND(기준!$B$1*'거창-(노곡)-평학-합천'!Q9, -2) -> 2800 | I18: =ROUND(기준!$B$1*'거창-(노곡)-평학-합천'!Q10, -2) -> 2600 | J18: =ROUND(기준!$B$1*'거창-(노곡)-평학-합천'!Q11, -2) -> 2200 | K18: =ROUND(기준!$B$1*'거창-(노곡)-평학-합천'!Q12, -2) -> 2000 | L18: 1450 | M18: =ROUND(기준!$B$1*Q14, -2) -> 1800 | Q18: 무학사 | R18: 1.5 | S18: =R18+S19 -> 2.5 | T18: =S18+T20 -> 5.6 | U18: =T18+U21 -> 6.2 | V18: =U18+V22 -> 8.1 | W18: =V18+W23 -> 11.1 | X18: =W18+X24 -> 12.5 | Y18: =X18+Y25 -> 13.8 | Z18: =Y18+Z26 -> 15.2 | AA18: =Z18+AA27 -> 16.7 | AB18: =AA18+AB28 -> 24.9
A19: =ROUND(기준!$B$1*'거창-(노곡)-평학-합천'!R2, -2) -> 5300 | B19: =ROUND(기준!$B$1*'거창-(노곡)-평학-합천'!R3, -2) -> 4800 | C19: =ROUND(기준!$B$1*'거창-(노곡)-평학-합천'!R4, -2) -> 4700 | D19: =ROUND(기준!$B$1*'거창-(노곡)-평학-합천'!R5, -2) -> 4400 | E19: =ROUND(기준!$B$1*'거창-(노곡)-평학-합천'!R6, -2) -> 4100 | F19: =ROUND(기준!$B$1*'거창-(노곡)-평학-합천'!R7, -2) -> 3500 | G19: =ROUND(기준!$B$1*'거창-(노곡)-평학-합천'!R8, -2) -> 3300 | H19: =ROUND(기준!$B$1*'거창-(노곡)-평학-합천'!R9, -2) -> 3100 | I19: =ROUND(기준!$B$1*'거창-(노곡)-평학-합천'!R10, -2) -> 2800 | J19: =ROUND(기준!$B$1*'거창-(노곡)-평학-합천'!R11, -2) -> 2400 | K19: =ROUND(기준!$B$1*'거창-(노곡)-평학-합천'!R12, -2) -> 2300 | L19: =ROUND(기준!$B$1*'거창-(노곡)-평학-합천'!R13, -2) -> 1800 | M19: =ROUND(기준!$B$1*R14, -2) -> 2100 | N19: 1450 | R19: 유전 | S19: 1 | T19: =S19+T20 -> 4.1 | U19: =T19+U21 -> 4.7 | V19: =U19+V22 -> 6.6 | W19: =V19+W23 -> 9.6 | X19: =W19+X24 -> 11 | Y19: =X19+Y25 -> 12.3 | Z19: =Y19+Z26 -> 13.7 | AA19: =Z19+AA27 -> 15.2 | AB19: =AA19+AB28 -> 23.4
A20: =ROUND(기준!$B$1*S2, -2) -> 5400 | B20: =ROUND(기준!$B$1*'거창-(노곡)-평학-합천'!S3, -2) -> 4900 | C20: =ROUND(기준!$B$1*'거창-(노곡)-평학-합천'!S4, -2) -> 4800 | D20: =ROUND(기준!$B$1*'거창-(노곡)-평학-합천'!S5, -2) -> 4500 | E20: =ROUND(기준!$B$1*'거창-(노곡)-평학-합천'!S6, -2) -> 4200 | F20: =ROUND(기준!$B$1*'거창-(노곡)-평학-합천'!S7, -2) -> 3600 | G20: =ROUND(기준!$B$1*'거창-(노곡)-평학-합천'!S8, -2) -> 3400 | H20: =ROUND(기준!$B$1*'거창-(노곡)-평학-합천'!S9, -2) -> 3200 | I20: =ROUND(기준!$B$1*'거창-(노곡)-평학-합천'!S10, -2) -> 2900 | J20: =ROUND(기준!$B$1*'거창-(노곡)-평학-합천'!S11, -2) -> 2500 | K20: =ROUND(기준!$B$1*'거창-(노곡)-평학-합천'!S12, -2) -> 2400 | L20: =ROUND(기준!$B$1*'거창-(노곡)-평학-합천'!S13, -2) -> 1900 | M20: =ROUND(기준!$B$1*'거창-(노곡)-평학-합천'!S14, -2) -> 2200 | N20: =ROUND(기준!$B$1*'거창-(노곡)-평학-합천'!S15, -2) -> 1600 | O20: 1450 | S20: 하금 | T20: 3.1 | U20: =T20+U21 -> 3.7 | V20: =U20+V22 -> 5.6 | W20: =V20+W23 -> 8.6 | X20: =W20+X24 -> 10 | Y20: =X20+Y25 -> 11.3 | Z20: =Y20+Z26 -> 12.7 | AA20: =Z20+AA27 -> 14.2 | AB20: =AA20+AB28 -> 22.4
A21: =ROUND(기준!$B$1*T2, -2) -> 5900 | B21: =ROUND(기준!$B$1*'거창-(노곡)-평학-합천'!T3, -2) -> 5300 | C21: =ROUND(기준!$B$1*'거창-(노곡)-평학-합천'!T4, -2) -> 5200 | D21: =ROUND(기준!$B$1*'거창-(노곡)-평학-합천'!T5, -2) -> 5000 | E21: =ROUND(기준!$B$1*'거창-(노곡)-평학-합천'!T6, -2) -> 4700 | F21: =ROUND(기준!$B$1*'거창-(노곡)-평학-합천'!T7, -2) -> 4100 | G21: =ROUND(기준!$B$1*'거창-(노곡)-평학-합천'!T8, -2) -> 3900 | H21: =ROUND(기준!$B$1*'거창-(노곡)-평학-합천'!T9, -2) -> 3700 | I21: =ROUND(기준!$B$1*'거창-(노곡)-평학-합천'!T10, -2) -> 3400 | J21: =ROUND(기준!$B$1*'거창-(노곡)-평학-합천'!T11, -2) -> 3000 | K21: =ROUND(기준!$B$1*'거창-(노곡)-평학-합천'!T12, -2) -> 2800 | L21: =ROUND(기준!$B$1*'거창-(노곡)-평학-합천'!T13, -2) -> 2400 | M21: =ROUND(기준!$B$1*'거창-(노곡)-평학-합천'!T14, -2) -> 2700 | N21: =ROUND(기준!$B$1*'거창-(노곡)-평학-합천'!T15, -2) -> 2100 | O21: =ROUND(기준!$B$1*'거창-(노곡)-평학-합천'!T16, -2) -> 1700 | T21: 대병 | U21: 0.6 | V21: =U21+V22 -> 2.5 | W21: =V21+W23 -> 5.5 | X21: =W21+X24 -> 6.9 | Y21: =X21+Y25 -> 8.2 | Z21: =Y21+Z26 -> 9.6 | AA21: =Z21+AA27 -> 11.1 | AB21: =AA21+AB28 -> 19.3
A22: =ROUND(기준!$B$1*U2, -2) -> 6000 | B22: =ROUND(기준!$B$1*'거창-(노곡)-평학-합천'!U3, -2) -> 5400 | C22: =ROUND(기준!$B$1*'거창-(노곡)-평학-합천'!U4, -2) -> 5300 | D22: =ROUND(기준!$B$1*'거창-(노곡)-평학-합천'!U5, -2) -> 5100 | E22: =ROUND(기준!$B$1*'거창-(노곡)-평학-합천'!U6, -2) -> 4700 | F22: =ROUND(기준!$B$1*'거창-(노곡)-평학-합천'!U7, -2) -> 4200 | G22: =ROUND(기준!$B$1*'거창-(노곡)-평학-합천'!U8, -2) -> 4000 | H22: =ROUND(기준!$B$1*'거창-(노곡)-평학-합천'!U9, -2) -> 3700 | I22: =ROUND(기준!$B$1*'거창-(노곡)-평학-합천'!U10, -2) -> 3500 | J22: =ROUND(기준!$B$1*'거창-(노곡)-평학-합천'!U11, -2) -> 3100 | K22: =ROUND(기준!$B$1*'거창-(노곡)-평학-합천'!U12, -2) -> 2900 | L22: =ROUND(기준!$B$1*'거창-(노곡)-평학-합천'!U13, -2) -> 2500 | M22: =ROUND(기준!$B$1*'거창-(노곡)-평학-합천'!U14, -2) -> 2700 | N22: =ROUND(기준!$B$1*'거창-(노곡)-평학-합천'!U15, -2) -> 2200 | O22: =ROUND(기준!$B$1*'거창-(노곡)-평학-합천'!U16, -2) -> 1800 | U22: 회양 | V22: 1.9 | W22: =V22+W23 -> 4.9 | X22: =W22+X24 -> 6.3 | Y22: =X22+Y25 -> 7.6 | Z22: =Y22+Z26 -> 9 | AA22: =Z22+AA27 -> 10.5 | AB22: =AA22+AB28 -> 18.7
A23: =ROUND(기준!$B$1*V2, -2) -> 6300 | B23: =ROUND(기준!$B$1*'거창-(노곡)-평학-합천'!V3, -2) -> 5700 | C23: =ROUND(기준!$B$1*'거창-(노곡)-평학-합천'!V4, -2) -> 5600 | D23: =ROUND(기준!$B$1*'거창-(노곡)-평학-합천'!V5, -2) -> 5300 | E23: =ROUND(기준!$B$1*'거창-(노곡)-평학-합천'!V6, -2) -> 5000 | F23: =ROUND(기준!$B$1*'거창-(노곡)-평학-합천'!V7, -2) -> 4400 | G23: =ROUND(기준!$B$1*'거창-(노곡)-평학-합천'!V8, -2) -> 4200 | H23: =ROUND(기준!$B$1*'거창-(노곡)-평학-합천'!V9, -2) -> 4000 | I23: =ROUND(기준!$B$1*'거창-(노곡)-평학-합천'!V10, -2) -> 3700 | J23: =ROUND(기준!$B$1*'거창-(노곡)-평학-합천'!V11, -2) -> 3400 | K23: =ROUND(기준!$B$1*'거창-(노곡)-평학-합천'!V12, -2) -> 3200 | L23: =ROUND(기준!$B$1*'거창-(노곡)-평학-합천'!V13, -2) -> 2700 | M23: =ROUND(기준!$B$1*'거창-(노곡)-평학-합천'!V14, -2) -> 3000 | N23: =ROUND(기준!$B$1*'거창-(노곡)-평학-합천'!V15, -2) -> 2400 | O23: =ROUND(기준!$B$1*'거창-(노곡)-평학-합천'!V16, -2) -> 2000 | P23: 1450 | Q23: 1450 | U23: 월정 | V23: 합천댐 | W23: 3 | X23: =W23+X24 -> 4.4 | Y23: =X23+Y25 -> 5.7 | Z23: =Y23+Z26 -> 7.1 | AA23: =Z23+AA27 -> 8.6 | AB23: =AA23+AB28 -> 16.8
A24: =ROUND(기준!$B$1*W2, -2) -> 6700 | B24: =ROUND(기준!$B$1*'거창-(노곡)-평학-합천'!W3, -2) -> 6100 | C24: =ROUND(기준!$B$1*'거창-(노곡)-평학-합천'!W4, -2) -> 6000 | D24: =ROUND(기준!$B$1*'거창-(노곡)-평학-합천'!W5, -2) -> 5800 | E24: =ROUND(기준!$B$1*'거창-(노곡)-평학-합천'!W6, -2) -> 5400 | F24: =ROUND(기준!$B$1*'거창-(노곡)-평학-합천'!W7, -2) -> 4900 | G24: =ROUND(기준!$B$1*'거창-(노곡)-평학-합천'!W8, -2) -> 4700 | H24: =ROUND(기준!$B$1*'거창-(노곡)-평학-합천'!W9, -2) -> 4500 | I24: =ROUND(기준!$B$1*'거창-(노곡)-평학-합천'!W10, -2) -> 4200 | J24: =ROUND(기준!$B$1*'거창-(노곡)-평학-합천'!W11, -2) -> 3800 | K24: =ROUND(기준!$B$1*'거창-(노곡)-평학-합천'!W12, -2) -> 3600 | L24: =ROUND(기준!$B$1*'거창-(노곡)-평학-합천'!W13, -2) -> 3200 | M24: =ROUND(기준!$B$1*'거창-(노곡)-평학-합천'!W14, -2) -> 3500 | N24: =ROUND(기준!$B$1*'거창-(노곡)-평학-합천'!W15, -2) -> 2900 | O24: =ROUND(기준!$B$1*'거창-(노곡)-평학-합천'!W16, -2) -> 2500 | P24: =ROUND(기준!$B$1*'거창-(노곡)-평학-합천'!W17, -2) -> 1800 | Q24: =ROUND(기준!$B$1*'거창-(노곡)-평학-합천'!W18, -2) -> 1600 | R24: 1450 | W24: 평학 | X24: 1.4 | Y24: =X24+Y25 -> 2.7 | Z24: =Y24+Z26 -> 4.1 | AA24: =Z24+AA27 -> 5.6 | AB24: =AA24+AB28 -> 13.8
A25: =ROUND(기준!$B$1*X2, -2) -> 6900 | B25: =ROUND(기준!$B$1*X3, -2) -> 6400 | C25: =ROUND(기준!$B$1*'거창-(노곡)-평학-합천'!X4, -2) -> 6200 | D25: =ROUND(기준!$B$1*'거창-(노곡)-평학-합천'!X5, -2) -> 6000 | E25: =ROUND(기준!$B$1*'거창-(노곡)-평학-합천'!X6, -2) -> 5700 | F25: =ROUND(기준!$B$1*'거창-(노곡)-평학-합천'!X7, -2) -> 5100 | G25: =ROUND(기준!$B$1*'거창-(노곡)-평학-합천'!X8, -2) -> 4900 | H25: =ROUND(기준!$B$1*'거창-(노곡)-평학-합천'!X9, -2) -> 4700 | I25: =ROUND(기준!$B$1*'거창-(노곡)-평학-합천'!X10, -2) -> 4400 | J25: =ROUND(기준!$B$1*'거창-(노곡)-평학-합천'!X11, -2) -> 4000 | K25: =ROUND(기준!$B$1*'거창-(노곡)-평학-합천'!X12, -2) -> 3900 | L25: =ROUND(기준!$B$1*'거창-(노곡)-평학-합천'!X13, -2) -> 3400 | M25: =ROUND(기준!$B$1*'거창-(노곡)-평학-합천'!X14, -2) -> 3700 | N25: =ROUND(기준!$B$1*'거창-(노곡)-평학-합천'!X15, -2) -> 3100 | O25: =ROUND(기준!$B$1*'거창-(노곡)-평학-합천'!X16, -2) -> 2700 | P25: =ROUND(기준!$B$1*'거창-(노곡)-평학-합천'!X17, -2) -> 2000 | Q25: =ROUND(기준!$B$1*'거창-(노곡)-평학-합천'!X18, -2) -> 1800 | R25: =ROUND(기준!$B$1*'거창-(노곡)-평학-합천'!X19, -2) -> 1600 | S25: 1450 | X25: 용문정 | Y25: 1.3 | Z25: =Y25+Z26 -> 2.7 | AA25: =Z25+AA27 -> 4.2 | AB25: =AA25+AB28 -> 12.4
A26: =ROUND(기준!$B$1*Y2, -2) -> 7100 | B26: =ROUND(기준!$B$1*Y3, -2) -> 6500 | C26: =ROUND(기준!$B$1*Y4, -2) -> 6400 | D26: =ROUND(기준!$B$1*'거창-(노곡)-평학-합천'!Y5, -2) -> 6200 | E26: =ROUND(기준!$B$1*'거창-(노곡)-평학-합천'!Y6, -2) -> 5800 | F26: =ROUND(기준!$B$1*'거창-(노곡)-평학-합천'!Y7, -2) -> 5300 | G26: =ROUND(기준!$B$1*'거창-(노곡)-평학-합천'!Y8, -2) -> 5100 | H26: =ROUND(기준!$B$1*'거창-(노곡)-평학-합천'!Y9, -2) -> 4900 | I26: =ROUND(기준!$B$1*'거창-(노곡)-평학-합천'!Y10, -2) -> 4600 | J26: =ROUND(기준!$B$1*'거창-(노곡)-평학-합천'!Y11, -2) -> 4200 | K26: =ROUND(기준!$B$1*'거창-(노곡)-평학-합천'!Y12, -2) -> 4000 | L26: =ROUND(기준!$B$1*'거창-(노곡)-평학-합천'!Y13, -2) -> 3600 | M26: =ROUND(기준!$B$1*'거창-(노곡)-평학-합천'!Y14, -2) -> 3900 | N26: =ROUND(기준!$B$1*'거창-(노곡)-평학-합천'!Y15, -2) -> 3300 | O26: =ROUND(기준!$B$1*'거창-(노곡)-평학-합천'!Y16, -2) -> 2900 | P26: =ROUND(기준!$B$1*'거창-(노곡)-평학-합천'!Y17, -2) -> 2200 | Q26: =ROUND(기준!$B$1*'거창-(노곡)-평학-합천'!Y18, -2) -> 2000 | R26: =ROUND(기준!$B$1*'거창-(노곡)-평학-합천'!Y19, -2) -> 1800 | S26: =ROUND(기준!$B$1*'거창-(노곡)-평학-합천'!Y20, -2) -> 1600 | X26: 테마파크 | Y26: 가호리 | Z26: 1.4 | AA26: =Z26+AA27 -> 2.9 | AB26: =AA26+AB28 -> 11.1
A27: =ROUND(기준!$B$1*Z2, -2) -> 7300 | B27: =ROUND(기준!$B$1*Z3, -2) -> 6700 | C27: =ROUND(기준!$B$1*Z4, -2) -> 6600 | D27: =ROUND(기준!$B$1*Z5, -2) -> 6400 | E27: =ROUND(기준!$B$1*'거창-(노곡)-평학-합천'!Z6, -2) -> 6000 | F27: =ROUND(기준!$B$1*'거창-(노곡)-평학-합천'!Z7, -2) -> 5500 | G27: =ROUND(기준!$B$1*'거창-(노곡)-평학-합천'!Z8, -2) -> 5300 | H27: =ROUND(기준!$B$1*'거창-(노곡)-평학-합천'!Z9, -2) -> 5100 | I27: =ROUND(기준!$B$1*'거창-(노곡)-평학-합천'!Z10, -2) -> 4800 | J27: =ROUND(기준!$B$1*'거창-(노곡)-평학-합천'!Z11, -2) -> 4400 | K27: =ROUND(기준!$B$1*'거창-(노곡)-평학-합천'!Z12, -2) -> 4200 | L27: =ROUND(기준!$B$1*'거창-(노곡)-평학-합천'!Z13, -2) -> 3800 | M27: =ROUND(기준!$B$1*'거창-(노곡)-평학-합천'!Z14, -2) -> 4100 | N27: =ROUND(기준!$B$1*'거창-(노곡)-평학-합천'!Z15, -2) -> 3500 | O27: =ROUND(기준!$B$1*'거창-(노곡)-평학-합천'!Z16, -2) -> 3100 | P27: =ROUND(기준!$B$1*'거창-(노곡)-평학-합천'!Z17, -2) -> 2400 | Q27: =ROUND(기준!$B$1*'거창-(노곡)-평학-합천'!Z18, -2) -> 2200 | R27: =ROUND(기준!$B$1*'거창-(노곡)-평학-합천'!Z19, -2) -> 2000 | S27: =ROUND(기준!$B$1*'거창-(노곡)-평학-합천'!Z20, -2) -> 1800 | T27: 1450 | Y27: 수련원 | Z27: 봉기 | AA27: 1.5 | AB27: =AA27+AB28 -> 9.7
A28: =ROUND(기준!$B$1*AA2, -2) -> 7500 | B28: =ROUND(기준!$B$1*AA3, -2) -> 7000 | C28: =ROUND(기준!$B$1*AA4, -2) -> 6900 | D28: =ROUND(기준!$B$1*AA5, -2) -> 6600 | E28: =ROUND(기준!$B$1*AA6, -2) -> 6300 | F28: =ROUND(기준!$B$1*'거창-(노곡)-평학-합천'!AA7, -2) -> 5700 | G28: =ROUND(기준!$B$1*'거창-(노곡)-평학-합천'!AA8, -2) -> 5500 | H28: =ROUND(기준!$B$1*'거창-(노곡)-평학-합천'!AA9, -2) -> 5300 | I28: =ROUND(기준!$B$1*'거창-(노곡)-평학-합천'!AA10, -2) -> 5000 | J28: =ROUND(기준!$B$1*'거창-(노곡)-평학-합천'!AA11, -2) -> 4600 | K28: =ROUND(기준!$B$1*'거창-(노곡)-평학-합천'!AA12, -2) -> 4500 | L28: =ROUND(기준!$B$1*'거창-(노곡)-평학-합천'!AA13, -2) -> 4000 | M28: =ROUND(기준!$B$1*'거창-(노곡)-평학-합천'!AA14, -2) -> 4300 | N28: =ROUND(기준!$B$1*'거창-(노곡)-평학-합천'!AA15, -2) -> 3700 | O28: =ROUND(기준!$B$1*'거창-(노곡)-평학-합천'!AA16, -2) -> 3300 | P28: =ROUND(기준!$B$1*'거창-(노곡)-평학-합천'!AA17, -2) -> 2600 | Q28: =ROUND(기준!$B$1*'거창-(노곡)-평학-합천'!AA18, -2) -> 2400 | R28: =ROUND(기준!$B$1*'거창-(노곡)-평학-합천'!AA19, -2) -> 2200 | S28: =ROUND(기준!$B$1*'거창-(노곡)-평학-합천'!AA20, -2) -> 2100 | T28: =ROUND(기준!$B$1*'거창-(노곡)-평학-합천'!AA21, -2) -> 1600 | U28: 1450 | V28: 1450 | W28: 1450 | X28: 1450 | Y28: 1450 | AA28: 고품 | AB28: 8.2
